Workbook

Sheet TABLA DE SUMINISTROS
A1: RAZÓN SOCIAL | B1: CIF | C1: CÓDIGO CUPS | D1: TIPO VIA | E1: DIRECCIÓN | F1: ESACERA-PISO-PUERTA | G1: C.P. | H1: LOCALIDAD | I1: PROVINCIA | J1: CNAE | K1: REFERENCIA CATASTRAL | L1: TARIFA | M1: CONSUMO ANUAL (kWh) | N1: Qd (kWh día) | O1: FECHA INICIO
A2: 1 | B2: 13
A3: 2 | B3: 14
A4: 3 | B4: 15
A5: 4 | B5: 16
A6: 5 | B6: 17
A7: 6 | B7: 18

Sheet ANEXO SUMINISTROS 1 AL 6
A4: Anexo de Puntos de Suministro de Gas Natural
A5: CONTRATO DUAL DE SUMINISTRO Y SERVICIOS ADICIONALES
A6: Denominación social: | G6: =UPPER('TABLA DE SUMINISTROS'!A2) -> 1 | Z6: NIF: | AB6: =UPPER('TABLA DE SUMINISTROS'!B2) -> 13
A7: Dirección: | D7: =UPPER(CONCATENATE('TABLA DE SUMINISTROS'!D2," ",'TABLA DE SUMINISTROS'!E2)) | Z7: Escalera / Piso / Puerta: | AF7: =UPPER('TABLA DE SUMINISTROS'!F2)
A8: Localidad: | D8: =UPPER('TABLA DE SUMINISTROS'!H2) | O8: Provincia: | R8: =UPPER('TABLA DE SUMINISTROS'!I2) | AB8: Código Postal: | AF8: =MID('TABLA DE SUMINISTROS'!G2,1,1) | AG8: =MID('TABLA DE SUMINISTROS'!G2,2,1) | AH8: =MID('TABLA DE SUMINISTROS'!G2,3,1) | AI8: =MID('TABLA DE SUMINISTROS'!G2,4,1) | AJ8: =MID('TABLA DE SUMINISTROS'!G2,5,1)
A9: Referencia catastral: | F9: =MID('TABLA DE SUMINISTROS'!K2,1,1) | G9: =MID('TABLA DE SUMINISTROS'!K2,2,1) | H9: =MID('TABLA DE SUMINISTROS'!K2,3,1) | I9: =MID('TABLA DE SUMINISTROS'!K2,4,1) | J9: =MID('TABLA DE SUMINISTROS'!K2,5,1) | K9: =MID('TABLA DE SUMINISTROS'!K2,6,1) | L9: =MID('TABLA DE SUMINISTROS'!K2,7,1) | M9: =MID('TABLA DE SUMINISTROS'!K2,8,1) | N9: =MID('TABLA DE SUMINISTROS'!K2,9,1) | O9: =MID('TABLA DE SUMINISTROS'!K2,10,1) | P9: =MID('TABLA DE SUMINISTROS'!K2,11,1) | Q9: =MID('TABLA DE SUMINISTROS'!K2,12,1) | R9: =MID('TABLA DE SUMINISTROS'!K2,13,1) | S9: =MID('TABLA DE SUMINISTROS'!K2,14,1) | T9: =MID('TABLA DE SUMINISTROS'!K2,15,1) | U9: =MID('TABLA DE SUMINISTROS'!K2,16,1) | V9: =MID('TABLA DE SUMINISTROS'!K2,17,1) | W9: =MID('TABLA DE SUMINISTROS'!K2,18,1) | X9: =MID('TABLA DE SUMINISTROS'!K2,19,1) | Y9: =MID('TABLA DE SUMINISTROS'!K2,20,1) | Z9: Código actividad CNAE: | AF9: =MID('TABLA DE SUMINISTROS'!J2,1,1) | AG9: =MID('TABLA DE SUMINISTROS'!J2,2,1) | AH9: =MID('TABLA DE SUMINISTROS'!J2,3,1) | AI9: =MID('TABLA DE SUMINISTROS'!J2,4,1) | AJ9: =MID('TABLA DE SUMINISTROS'!J2,5,1)
A10: Código Universal Punto de Suministro de Gas Natural Canalizado CUPS: | Q10: =MID('TABLA DE SUMINISTROS'!C2,1,1) | R10: =MID('TABLA DE SUMINISTROS'!C2,2,1) | S10: =MID('TABLA DE SUMINISTROS'!C2,3,1) | T10: =MID('TABLA DE SUMINISTROS'!C2,4,1) | U10: =MID('TABLA DE SUMINISTROS'!C2,5,1) | V10: =MID('TABLA DE SUMINISTROS'!C2,6,1) | W10: =MID('TABLA DE SUMINISTROS'!C2,7,1) | X10: =MID('TABLA DE SUMINISTROS'!C2,8,1) | Y10: =MID('TABLA DE SUMINISTROS'!C2,9,1) | Z10: =MID('TABLA DE SUMINISTROS'!C2,10,1) | AA10: =MID('TABLA DE SUMINISTROS'!C2,11,1) | AB10: =MID('TABLA DE SUMINISTROS'!C2,12,1) | AC10: =MID('TABLA DE SUMINISTROS'!C2,13,1) | AD10: =MID('TABLA DE SUMINISTROS'!C2,14,1) | AE10: =MID('TABLA DE SUMINISTROS'!C2,15,1) | AF10: =MID('TABLA DE SUMINISTROS'!C2,16,1) | AG10: =MID('TABLA DE SUMINISTROS'!C2,17,1) | AH10: =MID('TABLA DE SUMINISTROS'!C2,18,1) | AI10: =MID('TABLA DE SUMINISTROS'!C2,19,1) | AJ10: =MID('TABLA DE SUMINISTROS'!C2,20,1)
A11: Tarifa acceso Gas Natural Canalizado: | J11: =IF('TABLA DE SUMINISTROS'!L2="","",'TABLA DE SUMINISTROS'!L2) | N11: Consumo anual (kWh año)*: | U11: =IF('TABLA DE SUMINISTROS'!M2="","",'TABLA DE SUMINISTROS'!M2) | Z11: Qd Contratado (kWh/dia)*: | AF11: =IF('TABLA DE SUMINISTROS'!N2="","",'TABLA DE SUMINISTROS'!N2)
A12: Fecha de inicio solicitada*: | G12: =IF('TABLA DE SUMINISTROS'!O2="","",'TABLA DE SUMINISTROS'!O2)
A13: Contratar suministro de gas a: | J13: □ | K13: Precio Fijo | P13: □ | Q13: Precio Indexado
A15: Denominación social: | G15: =UPPER('TABLA DE SUMINISTROS'!A3) -> 2 | Z15: NIF: | AB15: =UPPER('TABLA DE SUMINISTROS'!B3) -> 14
A16: Dirección: | D16: =UPPER(CONCATENATE('TABLA DE SUMINISTROS'!D3," ",'TABLA DE SUMINISTROS'!E3)) | Z16: Escalera / Piso / Puerta: | AF16: =UPPER('TABLA DE SUMINISTROS'!F3)
A17: Localidad: | D17: =UPPER('TABLA DE SUMINISTROS'!H3) | O17: Provincia: | R17: =UPPER('TABLA DE SUMINISTROS'!I3) | AB17: Código Postal: | AF17: =MID('TABLA DE SUMINISTROS'!G3,1,1) | AG17: =MID('TABLA DE SUMINISTROS'!G3,2,1) | AH17: =MID('TABLA DE SUMINISTROS'!G3,3,1) | AI17: =MID('TABLA DE SUMINISTROS'!G3,4,1) | AJ17: =MID('TABLA DE SUMINISTROS'!G3,5,1)
A18: Referencia catastral: | F18: =MID('TABLA DE SUMINISTROS'!K3,1,1) | G18: =MID('TABLA DE SUMINISTROS'!K3,2,1) | H18: =MID('TABLA DE SUMINISTROS'!K3,3,1) | I18: =MID('TABLA DE SUMINISTROS'!K3,4,1) | J18: =MID('TABLA DE SUMINISTROS'!K3,5,1) | K18: =MID('TABLA DE SUMINISTROS'!K3,6,1) | L18: =MID('TABLA DE SUMINISTROS'!K3,7,1) | M18: =MID('TABLA DE SUMINISTROS'!K3,8,1) | N18: =MID('TABLA DE SUMINISTROS'!K3,9,1) | O18: =MID('TABLA DE SUMINISTROS'!K3,10,1) | P18: =MID('TABLA DE SUMINISTROS'!K3,11,1) | Q18: =MID('TABLA DE SUMINISTROS'!K3,12,1) | R18: =MID('TABLA DE SUMINISTROS'!K3,13,1) | S18: =MID('TABLA DE SUMINISTROS'!K3,14,1) | T18: =MID('TABLA DE SUMINISTROS'!K3,15,1) | U18: =MID('TABLA DE SUMINISTROS'!K3,16,1) | V18: =MID('TABLA DE SUMINISTROS'!K3,17,1) | W18: =MID('TABLA DE SUMINISTROS'!K3,18,1) | X18: =MID('TABLA DE SUMINISTROS'!K3,19,1) | Y18: =MID('TABLA DE SUMINISTROS'!K3,20,1) | Z18: Código actividad CNAE: | AF18: =MID('TABLA DE SUMINISTROS'!J3,1,1) | AG18: =MID('TABLA DE SUMINISTROS'!J3,2,1) | AH18: =MID('TABLA DE SUMINISTROS'!J3,3,1) | AI18: =MID('TABLA DE SUMINISTROS'!J3,4,1) | AJ18: =MID('TABLA DE SUMINISTROS'!J3,5,1)
A19: Código Universal Punto de Suministro de Gas Natural Canalizado CUPS: | Q19: =MID('TABLA DE SUMINISTROS'!C3,1,1) | R19: =MID('TABLA DE SUMINISTROS'!C3,2,1) | S19: =MID('TABLA DE SUMINISTROS'!C3,3,1) | T19: =MID('TABLA DE SUMINISTROS'!C3,4,1) | U19: =MID('TABLA DE SUMINISTROS'!C3,5,1) | V19: =MID('TABLA DE SUMINISTROS'!C3,6,1) | W19: =MID('TABLA DE SUMINISTROS'!C3,7,1) | X19: =MID('TABLA DE SUMINISTROS'!C3,8,1) | Y19: =MID('TABLA DE SUMINISTROS'!C3,9,1) | Z19: =MID('TABLA DE SUMINISTROS'!C3,10,1) | AA19: =MID('TABLA DE SUMINISTROS'!C3,11,1) | AB19: =MID('TABLA DE SUMINISTROS'!C3,12,1) | AC19: =MID('TABLA DE SUMINISTROS'!C3,13,1) | AD19: =MID('TABLA DE SUMINISTROS'!C3,14,1) | AE19: =MID('TABLA DE SUMINISTROS'!C3,15,1) | AF19: =MID('TABLA DE SUMINISTROS'!C3,16,1) | AG19: =MID('TABLA DE SUMINISTROS'!C3,17,1) | AH19: =MID('TABLA DE SUMINISTROS'!C3,18,1) | AI19: =MID('TABLA DE SUMINISTROS'!C3,19,1) | AJ19: =MID('TABLA DE SUMINISTROS'!C3,20,1)
A20: Tarifa acceso de Gas Natural Canalizado: | J20: =IF('TABLA DE SUMINISTROS'!L3="","",'TABLA DE SUMINISTROS'!L3) | N20: Consumo anual (kWh año)*: | U20: =IF('TABLA DE SUMINISTROS'!M3="","",'TABLA DE SUMINISTROS'!M3) | Z20: Qd Contratado (kWh/dia)*: | AF20: =IF('TABLA DE SUMINISTROS'!N3="","",'TABLA DE SUMINISTROS'!N3)
A21: Fecha de inicio solicitada*: | G21: =IF('TABLA DE SUMINISTROS'!O3="","",'TABLA DE SUMINISTROS'!O3)
A22: Contratar suministro de gas a: | J22: □ | K22: Precio Fijo | P22: □ | Q22: Precio Indexado
A24: Denominación social: | G24: =UPPER('TABLA DE SUMINISTROS'!A4) -> 3 | Z24: NIF: | AB24: =UPPER('TABLA DE SUMINISTROS'!B4) -> 15
A25: Dirección: | D25: =UPPER(CONCATENATE('TABLA DE SUMINISTROS'!D4," ",'TABLA DE SUMINISTROS'!E4)) | Z25: Escalera / Piso / Puerta: | AF25: =UPPER('TABLA DE SUMINISTROS'!F4)
A26: Localidad: | D26: =UPPER('TABLA DE SUMINISTROS'!H4) | O26: Provincia: | R26: =UPPER('TABLA DE SUMINISTROS'!I4) | AB26: Código Postal: | AF26: =MID('TABLA DE SUMINISTROS'!G4,1,1) | AG26: =MID('TABLA DE SUMINISTROS'!G4,2,1) | AH26: =MID('TABLA DE SUMINISTROS'!G4,3,1) | AI26: =MID('TABLA DE SUMINISTROS'!G4,4,1) | AJ26: =MID('TABLA DE SUMINISTROS'!G4,5,1)
A27: Referencia catastral: | F27: =MID('TABLA DE SUMINISTROS'!K4,1,1) | G27: =MID('TABLA DE SUMINISTROS'!K4,2,1) | H27: =MID('TABLA DE SUMINISTROS'!K4,3,1) | I27: =MID('TABLA DE SUMINISTROS'!K4,4,1) | J27: =MID('TABLA DE SUMINISTROS'!K4,5,1) | K27: =MID('TABLA DE SUMINISTROS'!K4,6,1) | L27: =MID('TABLA DE SUMINISTROS'!K4,7,1) | M27: =MID('TABLA DE SUMINISTROS'!K4,8,1) | N27: =MID('TABLA DE SUMINISTROS'!K4,9,1) | O27: =MID('TABLA DE SUMINISTROS'!K4,10,1) | P27: =MID('TABLA DE SUMINISTROS'!K4,11,1) | Q27: =MID('TABLA DE SUMINISTROS'!K4,12,1) | R27: =MID('TABLA DE SUMINISTROS'!K4,13,1) | S27: =MID('TABLA DE SUMINISTROS'!K4,14,1) | T27: =MID('TABLA DE SUMINISTROS'!K4,15,1) | U27: =MID('TABLA DE SUMINISTROS'!K4,16,1) | V27: =MID('TABLA DE SUMINISTROS'!K4,17,1) | W27: =MID('TABLA DE SUMINISTROS'!K4,18,1) | X27: =MID('TABLA DE SUMINISTROS'!K4,19,1) | Y27: =MID('TABLA DE SUMINISTROS'!K4,20,1) | Z27: Código actividad CNAE: | AF27: =MID('TABLA DE SUMINISTROS'!J4,1,1) | AG27: =MID('TABLA DE SUMINISTROS'!J4,2,1) | AH27: =MID('TABLA DE SUMINISTROS'!J4,3,1) | AI27: =MID('TABLA DE SUMINISTROS'!J4,4,1) | AJ27: =MID('TABLA DE SUMINISTROS'!J4,5,1)
A28: Código Universal Punto de Suministro de Gas Natural Canalizado CUPS: | Q28: =MID('TABLA DE SUMINISTROS'!C4,1,1) | R28: =MID('TABLA DE SUMINISTROS'!C4,2,1) | S28: =MID('TABLA DE SUMINISTROS'!C4,3,1) | T28: =MID('TABLA DE SUMINISTROS'!C4,4,1) | U28: =MID('TABLA DE SUMINISTROS'!C4,5,1) | V28: =MID('TABLA DE SUMINISTROS'!C4,6,1) | W28: =MID('TABLA DE SUMINISTROS'!C4,7,1) | X28: =MID('TABLA DE SUMINISTROS'!C4,8,1) | Y28: =MID('TABLA DE SUMINISTROS'!C4,9,1) | Z28: =MID('TABLA DE SUMINISTROS'!C4,10,1) | AA28: =MID('TABLA DE SUMINISTROS'!C4,11,1) | AB28: =MID('TABLA DE SUMINISTROS'!C4,12,1) | AC28: =MID('TABLA DE SUMINISTROS'!C4,13,1) | AD28: =MID('TABLA DE SUMINISTROS'!C4,14,1) | AE28: =MID('TABLA DE SUMINISTROS'!C4,15,1) | AF28: =MID('TABLA DE SUMINISTROS'!C4,16,1) | AG28: =MID('TABLA DE SUMINISTROS'!C4,17,1) | AH28: =MID('TABLA DE SUMINISTROS'!C4,18,1) | AI28: =MID('TABLA DE SUMINISTROS'!C4,19,1) | AJ28: =MID('TABLA DE SUMINISTROS'!C4,20,1)
A29: Tarifa acceso de Gas Natural Canalizado: | J29: =IF('TABLA DE SUMINISTROS'!L4="","",'TABLA DE SUMINISTROS'!L4) | N29: Consumo anual (kWh año)*: | U29: =IF('TABLA DE SUMINISTROS'!M4="","",'TABLA DE SUMINISTROS'!M4) | Z29: Qd Contratado (kWh/dia)*: | AF29: =IF('TABLA DE SUMINISTROS'!N4="","",'TABLA DE SUMINISTROS'!N4)
A30: Fecha de inicio solicitada*: | G30: =IF('TABLA DE SUMINISTROS'!O4="","",'TABLA DE SUMINISTROS'!O4)
A31: Contratar suministro de gas a: | J31: □ | K31: Precio Fijo | P31: □ | Q31: Precio Indexado
A33: Denominación social: | G33: =UPPER('TABLA DE SUMINISTROS'!A5) -> 4 | Z33: NIF: | AB33: =UPPER('TABLA DE SUMINISTROS'!B5) -> 16
A34: Dirección: | D34: =UPPER(CONCATENATE('TABLA DE SUMINISTROS'!D5," ",'TABLA DE SUMINISTROS'!E5)) | Z34: Escalera / Piso / Puerta: | AF34: =UPPER('TABLA DE SUMINISTROS'!F5)
A35: Localidad: | D35: =UPPER('TABLA DE SUMINISTROS'!H5) | O35: Provincia: | R35: =UPPER('TABLA DE SUMINISTROS'!I5) | AB35: Código Postal: | AF35: =MID('TABLA DE SUMINISTROS'!G5,1,1) | AG35: =MID('TABLA DE SUMINISTROS'!G5,2,1) | AH35: =MID('TABLA DE SUMINISTROS'!G5,3,1) | AI35: =MID('TABLA DE SUMINISTROS'!G5,4,1) | AJ35: =MID('TABLA DE SUMINISTROS'!G5,5,1)
A36: Referencia catastral: | F36: =MID('TABLA DE SUMINISTROS'!K5,1,1) | G36: =MID('TABLA DE SUMINISTROS'!K5,2,1) | H36: =MID('TABLA DE SUMINISTROS'!K5,3,1) | I36: =MID('TABLA DE SUMINISTROS'!K5,4,1) | J36: =MID('TABLA DE SUMINISTROS'!K5,5,1) | K36: =MID('TABLA DE SUMINISTROS'!K5,6,1) | L36: =MID('TABLA DE SUMINISTROS'!K5,7,1) | M36: =MID('TABLA DE SUMINISTROS'!K5,8,1) | N36: =MID('TABLA DE SUMINISTROS'!K5,9,1) | O36: =MID('TABLA DE SUMINISTROS'!K5,10,1) | P36: =MID('TABLA DE SUMINISTROS'!K5,11,1) | Q36: =MID('TABLA DE SUMINISTROS'!K5,12,1) | R36: =MID('TABLA DE SUMINISTROS'!K5,13,1) | S36: =MID('TABLA DE SUMINISTROS'!K5,14,1) | T36: =MID('TABLA DE SUMINISTROS'!K5,15,1) | U36: =MID('TABLA DE SUMINISTROS'!K5,16,1) | V36: =MID('TABLA DE SUMINISTROS'!K5,17,1) | W36: =MID('TABLA DE SUMINISTROS'!K5,18,1) | X36: =MID('TABLA DE SUMINISTROS'!K5,19,1) | Y36: =MID('TABLA DE SUMINISTROS'!K5,20,1) | Z36: Código actividad CNAE: | AF36: =MID('TABLA DE SUMINISTROS'!J5,1,1) | AG36: =MID('TABLA DE SUMINISTROS'!J5,2,1) | AH36: =MID('TABLA DE SUMINISTROS'!J5,3,1) | AI36: =MID('TABLA DE SUMINISTROS'!J5,4,1) | AJ36: =MID('TABLA DE SUMINISTROS'!J5,5,1)
A37: Código Universal Punto de Suministro de Gas Natural Canalizado CUPS: | Q37: =MID('TABLA DE SUMINISTROS'!C5,1,1) | R37: =MID('TABLA DE SUMINISTROS'!C5,2,1) | S37: =MID('TABLA DE SUMINISTROS'!C5,3,1) | T37: =MID('TABLA DE SUMINISTROS'!C5,4,1) | U37: =MID('TABLA DE SUMINISTROS'!C5,5,1) | V37: =MID('TABLA DE SUMINISTROS'!C5,6,1) | W37: =MID('TABLA DE SUMINISTROS'!C5,7,1) | X37: =MID('TABLA DE SUMINISTROS'!C5,8,1) | Y37: =MID('TABLA DE SUMINISTROS'!C5,9,1) | Z37: =MID('TABLA DE SUMINISTROS'!C5,10,1) | AA37: =MID('TABLA DE SUMINISTROS'!C5,11,1) | AB37: =MID('TABLA DE SUMINISTROS'!C5,12,1) | AC37: =MID('TABLA DE SUMINISTROS'!C5,13,1) | AD37: =MID('TABLA DE SUMINISTROS'!C5,14,1) | AE37: =MID('TABLA DE SUMINISTROS'!C5,15,1) | AF37: =MID('TABLA DE SUMINISTROS'!C5,16,1) | AG37: =MID('TABLA DE SUMINISTROS'!C5,17,1) | AH37: =MID('TABLA DE SUMINISTROS'!C5,18,1) | AI37: =MID('TABLA DE SUMINISTROS'!C5,19,1) | AJ37: =MID('TABLA DE SUMINISTROS'!C5,20,1)
A38: Tarifa acceso de Gas Natural Canalizado: | J38: =IF('TABLA DE SUMINISTROS'!L5="","",'TABLA DE SUMINISTROS'!L5) | N38: Consumo anual (kWh año)*: | U38: =IF('TABLA DE SUMINISTROS'!M5="","",'TABLA DE SUMINISTROS'!M5) | Z38: Qd Contratado (kWh/dia)*: | AF38: =IF('TABLA DE SUMINISTROS'!N5="","",'TABLA DE SUMINISTROS'!N5)
A39: Fecha de inicio solicitada*: | G39: =IF('TABLA DE SUMINISTROS'!#REF!="","",'TABLA DE SUMINISTROS'!#REF!) -> #REF!
A40: Contratar suministro de gas a: | J40: □ | K40: Precio Fijo | P40: □ | Q40: Precio Indexado
A42: Denominación social: | G42: =UPPER('TABLA DE SUMINISTROS'!A6) -> 5 | Z42: NIF: | AB42: =UPPER('TABLA DE SUMINISTROS'!B6) -> 17
A43: Dirección: | D43: =UPPER(CONCATENATE('TABLA DE SUMINISTROS'!D6," ",'TABLA DE SUMINISTROS'!E6)) | Z43: Escalera / Piso / Puerta: | AF43: =UPPER('TABLA DE SUMINISTROS'!F6)
A44: Localidad: | D44: =UPPER('TABLA DE SUMINISTROS'!H6) | O44: Provincia: | R44: =UPPER('TABLA DE SUMINISTROS'!I6) | AB44: Código Postal: | AF44: =MID('TABLA DE SUMINISTROS'!G6,1,1) | AG44: =MID('TABLA DE SUMINISTROS'!G6,2,1) | AH44: =MID('TABLA DE SUMINISTROS'!G6,3,1) | AI44: =MID('TABLA DE SUMINISTROS'!G6,4,1) | AJ44: =MID('TABLA DE SUMINISTROS'!G6,5,1)
A45: Referencia catastral: | F45: =MID('TABLA DE SUMINISTROS'!K6,1,1) | G45: =MID('TABLA DE SUMINISTROS'!K6,2,1) | H45: =MID('TABLA DE SUMINISTROS'!K6,3,1) | I45: =MID('TABLA DE SUMINISTROS'!K6,4,1) | J45: =MID('TABLA DE SUMINISTROS'!K6,5,1) | K45: =MID('TABLA DE SUMINISTROS'!K6,6,1) | L45: =MID('TABLA DE SUMINISTROS'!K6,7,1) | M45: =MID('TABLA DE SUMINISTROS'!K6,8,1) | N45: =MID('TABLA DE SUMINISTROS'!K6,9,1) | O45: =MID('TABLA DE SUMINISTROS'!K6,10,1) | P45: =MID('TABLA DE SUMINISTROS'!K6,11,1) | Q45: =MID('TABLA DE SUMINISTROS'!K6,12,1) | R45: =MID('TABLA DE SUMINISTROS'!K6,13,1) | S45: =MID('TABLA DE SUMINISTROS'!K6,14,1) | T45: =MID('TABLA DE SUMINISTROS'!K6,15,1) | U45: =MID('TABLA DE SUMINISTROS'!K6,16,1) | V45: =MID('TABLA DE SUMINISTROS'!K6,17,1) | W45: =MID('TABLA DE SUMINISTROS'!K6,18,1) | X45: =MID('TABLA DE SUMINISTROS'!K6,19,1) | Y45: =MID('TABLA DE SUMINISTROS'!K6,20,1) | Z45: Código actividad CNAE: | AF45: =MID('TABLA DE SUMINISTROS'!J6,1,1) | AG45: =MID('TABLA DE SUMINISTROS'!J6,2,1) | AH45: =MID('TABLA DE SUMINISTROS'!J6,3,1) | AI45: =MID('TABLA DE SUMINISTROS'!J6,4,1) | AJ45: =MID('TABLA DE SUMINISTROS'!J6,5,1)
A46: Código Universal Punto de Suministro de Gas Natural Canalizado CUPS: | Q46: =MID('TABLA DE SUMINISTROS'!C6,1,1) | R46: =MID('TABLA DE SUMINISTROS'!C6,2,1) | S46: =MID('TABLA DE SUMINISTROS'!C6,3,1) | T46: =MID('TABLA DE SUMINISTROS'!C6,4,1) | U46: =MID('TABLA DE SUMINISTROS'!C6,5,1) | V46: =MID('TABLA DE SUMINISTROS'!C6,6,1) | W46: =MID('TABLA DE SUMINISTROS'!C6,7,1) | X46: =MID('TABLA DE SUMINISTROS'!C6,8,1) | Y46: =MID('TABLA DE SUMINISTROS'!C6,9,1) | Z46: =MID('TABLA DE SUMINISTROS'!C6,10,1) | AA46: =MID('TABLA DE SUMINISTROS'!C6,11,1) | AB46: =MID('TABLA DE SUMINISTROS'!C6,12,1) | AC46: =MID('TABLA DE SUMINISTROS'!C6,13,1) | AD46: =MID('TABLA DE SUMINISTROS'!C6,14,1) | AE46: =MID('TABLA DE SUMINISTROS'!C6,15,1) | AF46: =MID('TABLA DE SUMINISTROS'!C6,16,1) | AG46: =MID('TABLA DE SUMINISTROS'!C6,17,1) | AH46: =MID('TABLA DE SUMINISTROS'!C6,18,1) | AI46: =MID('TABLA DE SUMINISTROS'!C6,19,1) | AJ46: =MID('TABLA DE SUMINISTROS'!C6,20,1)
A47: Tarifa acceso de Gas Natural Canalizado: | J47: =IF('TABLA DE SUMINISTROS'!L6="","",'TABLA DE SUMINISTROS'!L6) | N47: Consumo anual (kWh año)*: | U47: =IF('TABLA DE SUMINISTROS'!M6="","",'TABLA DE SUMINISTROS'!M6) | Z47: Qd Contratado (kWh/dia)*: | AF47: =IF('TABLA DE SUMINISTROS'!N6="","",'TABLA DE SUMINISTROS'!N6)
...
