Workbook

Sheet TABLA DE SUMINISTROS
A1: CÓDIGO CUPS | B1: TIPO VIA | C1: DIRECCIÓN | D1: ESCALERA-PISO-PUERTA | E1: C.P. | F1: LOCALIDAD | G1: PROVINCIA | H1: CNAE | I1: REFERENCIA CATASTRAL | J1: TARIFA | K1: P1 (Kw) | L1: P2 (Kw) | M1: P3 (Kw) | N1: P4 (Kw) | O1: P5 (Kw) | P1: P6 (Kw) | Q1: FECHA INICIO | R1: RAZON SOCIAL | S1: CIF

Sheet ANEXO SUMINISTROS 1 AL 7 
A4: Anexo de Puntos de Suministro Eléctrico
A5: CONTRATO DUAL DE SUMINISTRO Y SERVICIOS ADICIONALES
A6: Denominación social: | G6: =UPPER(CONCATENATE('TABLA DE SUMINISTROS'!R2,"")) | Z6: NIF: | AD6: =UPPER(CONCATENATE('TABLA DE SUMINISTROS'!S2,))
A7: Dirección: | D7: =UPPER(CONCATENATE('TABLA DE SUMINISTROS'!B2," ",'TABLA DE SUMINISTROS'!C2)) | Z7: Escalera / Piso / Puerta: | AF7: =UPPER('TABLA DE SUMINISTROS'!D2)
A8: Localidad: | D8: =UPPER('TABLA DE SUMINISTROS'!F2) | O8: Provincia: | R8: =UPPER('TABLA DE SUMINISTROS'!G2) | AB8: Código Postal: | AF8: =MID('TABLA DE SUMINISTROS'!E2,1,1) | AG8: =MID('TABLA DE SUMINISTROS'!E2,2,1) | AH8: =MID('TABLA DE SUMINISTROS'!E2,3,1) | AI8: =MID('TABLA DE SUMINISTROS'!E2,4,1) | AJ8: =MID('TABLA DE SUMINISTROS'!E2,5,1)
A9: Referencia catastral: | F9: =MID('TABLA DE SUMINISTROS'!I2,1,1) | G9: =MID('TABLA DE SUMINISTROS'!I2,2,1) | H9: =MID('TABLA DE SUMINISTROS'!I2,3,1) | I9: =MID('TABLA DE SUMINISTROS'!I2,4,1) | J9: =MID('TABLA DE SUMINISTROS'!I2,5,1) | K9: =MID('TABLA DE SUMINISTROS'!I2,6,1) | L9: =MID('TABLA DE SUMINISTROS'!I2,7,1) | M9: =MID('TABLA DE SUMINISTROS'!I2,8,1) | N9: =MID('TABLA DE SUMINISTROS'!I2,9,1) | O9: =MID('TABLA DE SUMINISTROS'!I2,10,1) | P9: =MID('TABLA DE SUMINISTROS'!I2,11,1) | Q9: =MID('TABLA DE SUMINISTROS'!I2,12,1) | R9: =MID('TABLA DE SUMINISTROS'!I2,13,1) | S9: =MID('TABLA DE SUMINISTROS'!I2,14,1) | T9: =MID('TABLA DE SUMINISTROS'!I2,15,1) | U9: =MID('TABLA DE SUMINISTROS'!I2,16,1) | V9: =MID('TABLA DE SUMINISTROS'!I2,17,1) | W9: =MID('TABLA DE SUMINISTROS'!I2,18,1) | X9: =MID('TABLA DE SUMINISTROS'!I2,19,1) | Y9: =MID('TABLA DE SUMINISTROS'!I2,20,1) | Z9: Código actividad CNAE: | AF9: =MID('TABLA DE SUMINISTROS'!H2,1,1) | AG9: =MID('TABLA DE SUMINISTROS'!H2,2,1) | AH9: =MID('TABLA DE SUMINISTROS'!H2,3,1) | AI9: =MID('TABLA DE SUMINISTROS'!H2,4,1) | AJ9: =MID('TABLA DE SUMINISTROS'!H2,5,1)
A10: Código Universal de punto de Suministro de Electricidad CUPS: | O10: =MID('TABLA DE SUMINISTROS'!A2,1,1) | P10: =MID('TABLA DE SUMINISTROS'!A2,2,1) | Q10: =MID('TABLA DE SUMINISTROS'!A2,3,1) | R10: =MID('TABLA DE SUMINISTROS'!A2,4,1) | S10: =MID('TABLA DE SUMINISTROS'!A2,5,1) | T10: =MID('TABLA DE SUMINISTROS'!A2,6,1) | U10: =MID('TABLA DE SUMINISTROS'!A2,7,1) | V10: =MID('TABLA DE SUMINISTROS'!A2,8,1) | W10: =MID('TABLA DE SUMINISTROS'!A2,9,1) | X10: =MID('TABLA DE SUMINISTROS'!A2,10,1) | Y10: =MID('TABLA DE SUMINISTROS'!A2,11,1) | Z10: =MID('TABLA DE SUMINISTROS'!A2,12,1) | AA10: =MID('TABLA DE SUMINISTROS'!A2,13,1) | AB10: =MID('TABLA DE SUMINISTROS'!A2,14,1) | AC10: =MID('TABLA DE SUMINISTROS'!A2,15,1) | AD10: =MID('TABLA DE SUMINISTROS'!A2,16,1) | AE10: =MID('TABLA DE SUMINISTROS'!A2,17,1) | AF10: =MID('TABLA DE SUMINISTROS'!A2,18,1) | AG10: =MID('TABLA DE SUMINISTROS'!A2,19,1) | AH10: =MID('TABLA DE SUMINISTROS'!A2,20,1) | AI10: =MID('TABLA DE SUMINISTROS'!A2,21,1) | AJ10: =MID('TABLA DE SUMINISTROS'!A2,22,1)
A11: Tarifa acceso: | D11: =IF('TABLA DE SUMINISTROS'!J2="","",'TABLA DE SUMINISTROS'!J2) | G11: Potencia Contratada (kW): | M11: P1= | N11: =IF('TABLA DE SUMINISTROS'!K2="","",'TABLA DE SUMINISTROS'!K2) | Q11: P2= | R11: =IF('TABLA DE SUMINISTROS'!L2="","",'TABLA DE SUMINISTROS'!L2) | U11: P3= | V11: =IF('TABLA DE SUMINISTROS'!M2="","",'TABLA DE SUMINISTROS'!M2) | Y11: P4= | Z11: =IF('TABLA DE SUMINISTROS'!N2="","",'TABLA DE SUMINISTROS'!N2) | AC11: P5= | AD11: =IF('TABLA DE SUMINISTROS'!O2="","",'TABLA DE SUMINISTROS'!O2) | AG11: P6= | AH11: =IF('TABLA DE SUMINISTROS'!P2="","",'TABLA DE SUMINISTROS'!P2)
A12: Fecha de inicio solicitada*: | H12: =IF('TABLA DE SUMINISTROS'!Q2="","",'TABLA DE SUMINISTROS'!Q2)
A13: Contratar suministro eléctrico a: | I13: □ | K13: Precio Fijo | P13: □ | Q13: Precio Indexado
A15: Denominación social: | G15: =UPPER(CONCATENATE('TABLA DE SUMINISTROS'!R3,"")) | Z15: NIF: | AD15: =UPPER(CONCATENATE('TABLA DE SUMINISTROS'!S3,))
A16: Dirección: | D16: =UPPER(CONCATENATE('TABLA DE SUMINISTROS'!B3," ",'TABLA DE SUMINISTROS'!C3)) | Z16: Escalera / Piso / Puerta: | AF16: =UPPER('TABLA DE SUMINISTROS'!D3)
A17: Localidad: | D17: =UPPER('TABLA DE SUMINISTROS'!F3) | O17: Provincia: | R17: =UPPER('TABLA DE SUMINISTROS'!G3) | AB17: Código Postal: | AF17: =MID('TABLA DE SUMINISTROS'!E3,1,1) | AG17: =MID('TABLA DE SUMINISTROS'!E3,2,1) | AH17: =MID('TABLA DE SUMINISTROS'!E3,3,1) | AI17: =MID('TABLA DE SUMINISTROS'!E3,4,1) | AJ17: =MID('TABLA DE SUMINISTROS'!E3,5,1)
A18: Referencia catastral: | F18: =MID('TABLA DE SUMINISTROS'!I3,1,1) | G18: =MID('TABLA DE SUMINISTROS'!I3,2,1) | H18: =MID('TABLA DE SUMINISTROS'!I3,3,1) | I18: =MID('TABLA DE SUMINISTROS'!I3,4,1) | J18: =MID('TABLA DE SUMINISTROS'!I3,5,1) | K18: =MID('TABLA DE SUMINISTROS'!I3,6,1) | L18: =MID('TABLA DE SUMINISTROS'!I3,7,1) | M18: =MID('TABLA DE SUMINISTROS'!I3,8,1) | N18: =MID('TABLA DE SUMINISTROS'!I3,9,1) | O18: =MID('TABLA DE SUMINISTROS'!I3,10,1) | P18: =MID('TABLA DE SUMINISTROS'!I3,11,1) | Q18: =MID('TABLA DE SUMINISTROS'!I3,12,1) | R18: =MID('TABLA DE SUMINISTROS'!I3,13,1) | S18: =MID('TABLA DE SUMINISTROS'!I3,14,1) | T18: =MID('TABLA DE SUMINISTROS'!I3,15,1) | U18: =MID('TABLA DE SUMINISTROS'!I3,16,1) | V18: =MID('TABLA DE SUMINISTROS'!I3,17,1) | W18: =MID('TABLA DE SUMINISTROS'!I3,18,1) | X18: =MID('TABLA DE SUMINISTROS'!I3,19,1) | Y18: =MID('TABLA DE SUMINISTROS'!I3,20,1) | Z18: Código actividad CNAE: | AF18: =MID('TABLA DE SUMINISTROS'!H3,1,1) | AG18: =MID('TABLA DE SUMINISTROS'!H3,2,1) | AH18: =MID('TABLA DE SUMINISTROS'!H3,3,1) | AI18: =MID('TABLA DE SUMINISTROS'!H3,4,1) | AJ18: =MID('TABLA DE SUMINISTROS'!H3,5,1)
A19: Código Universal de punto de Suministro de Electricidad CUPS: | O19: =MID('TABLA DE SUMINISTROS'!A3,1,1) | P19: =MID('TABLA DE SUMINISTROS'!A3,2,1) | Q19: =MID('TABLA DE SUMINISTROS'!A3,3,1) | R19: =MID('TABLA DE SUMINISTROS'!A3,4,1) | S19: =MID('TABLA DE SUMINISTROS'!A3,5,1) | T19: =MID('TABLA DE SUMINISTROS'!A3,6,1) | U19: =MID('TABLA DE SUMINISTROS'!A3,7,1) | V19: =MID('TABLA DE SUMINISTROS'!A3,8,1) | W19: =MID('TABLA DE SUMINISTROS'!A3,9,1) | X19: =MID('TABLA DE SUMINISTROS'!A3,10,1) | Y19: =MID('TABLA DE SUMINISTROS'!A3,11,1) | Z19: =MID('TABLA DE SUMINISTROS'!A3,12,1) | AA19: =MID('TABLA DE SUMINISTROS'!A3,13,1) | AB19: =MID('TABLA DE SUMINISTROS'!A3,14,1) | AC19: =MID('TABLA DE SUMINISTROS'!A3,15,1) | AD19: =MID('TABLA DE SUMINISTROS'!A3,16,1) | AE19: =MID('TABLA DE SUMINISTROS'!A3,17,1) | AF19: =MID('TABLA DE SUMINISTROS'!A3,18,1) | AG19: =MID('TABLA DE SUMINISTROS'!A3,19,1) | AH19: =MID('TABLA DE SUMINISTROS'!A3,20,1) | AI19: =MID('TABLA DE SUMINISTROS'!A3,21,1) | AJ19: =MID('TABLA DE SUMINISTROS'!A3,22,1)
A20: Tarifa acceso: | D20: =IF('TABLA DE SUMINISTROS'!J3="","",'TABLA DE SUMINISTROS'!J3) | G20: Potencia Contratada (kW): | M20: P1= | N20: =IF('TABLA DE SUMINISTROS'!K3="","",'TABLA DE SUMINISTROS'!K3) | Q20: P2= | R20: =IF('TABLA DE SUMINISTROS'!L3="","",'TABLA DE SUMINISTROS'!L3) | U20: P3= | V20: =IF('TABLA DE SUMINISTROS'!M3="","",'TABLA DE SUMINISTROS'!M3) | Y20: P4= | Z20: =IF('TABLA DE SUMINISTROS'!N3="","",'TABLA DE SUMINISTROS'!N3) | AC20: P5= | AD20: =IF('TABLA DE SUMINISTROS'!O3="","",'TABLA DE SUMINISTROS'!O3) | AG20: P6= | AH20: =IF('TABLA DE SUMINISTROS'!P3="","",'TABLA DE SUMINISTROS'!P3)
A21: Fecha de inicio solicitada*: | H21: =IF('TABLA DE SUMINISTROS'!Q3="","",'TABLA DE SUMINISTROS'!Q3)
A22: Contratar suministro eléctrico a: | I22: □ | K22: Precio Fijo | P22: □ | Q22: Precio Indexado
A24: Denominación social: | G24: =UPPER(CONCATENATE('TABLA DE SUMINISTROS'!R4,"")) | Z24: NIF: | AD24: =UPPER(CONCATENATE('TABLA DE SUMINISTROS'!S4,))
A25: Dirección: | D25: =UPPER(CONCATENATE('TABLA DE SUMINISTROS'!B4," ",'TABLA DE SUMINISTROS'!C4)) | Z25: Escalera / Piso / Puerta: | AF25: =UPPER('TABLA DE SUMINISTROS'!D4)
A26: Localidad: | D26: =UPPER('TABLA DE SUMINISTROS'!F4) | O26: Provincia: | R26: =UPPER('TABLA DE SUMINISTROS'!G4) | AB26: Código Postal: | AF26: =MID('TABLA DE SUMINISTROS'!E4,1,1) | AG26: =MID('TABLA DE SUMINISTROS'!E4,2,1) | AH26: =MID('TABLA DE SUMINISTROS'!E4,3,1) | AI26: =MID('TABLA DE SUMINISTROS'!E4,4,1) | AJ26: =MID('TABLA DE SUMINISTROS'!E4,5,1)
A27: Referencia catastral: | F27: =MID('TABLA DE SUMINISTROS'!I4,1,1) | G27: =MID('TABLA DE SUMINISTROS'!I4,2,1) | H27: =MID('TABLA DE SUMINISTROS'!I4,3,1) | I27: =MID('TABLA DE SUMINISTROS'!I4,4,1) | J27: =MID('TABLA DE SUMINISTROS'!I4,5,1) | K27: =MID('TABLA DE SUMINISTROS'!I4,6,1) | L27: =MID('TABLA DE SUMINISTROS'!I4,7,1) | M27: =MID('TABLA DE SUMINISTROS'!I4,8,1) | N27: =MID('TABLA DE SUMINISTROS'!I4,9,1) | O27: =MID('TABLA DE SUMINISTROS'!I4,10,1) | P27: =MID('TABLA DE SUMINISTROS'!I4,11,1) | Q27: =MID('TABLA DE SUMINISTROS'!I4,12,1) | R27: =MID('TABLA DE SUMINISTROS'!I4,13,1) | S27: =MID('TABLA DE SUMINISTROS'!I4,14,1) | T27: =MID('TABLA DE SUMINISTROS'!I4,15,1) | U27: =MID('TABLA DE SUMINISTROS'!I4,16,1) | V27: =MID('TABLA DE SUMINISTROS'!I4,17,1) | W27: =MID('TABLA DE SUMINISTROS'!I4,18,1) | X27: =MID('TABLA DE SUMINISTROS'!I4,19,1) | Y27: =MID('TABLA DE SUMINISTROS'!I4,20,1) | Z27: Código actividad CNAE: | AF27: =MID('TABLA DE SUMINISTROS'!H4,1,1) | AG27: =MID('TABLA DE SUMINISTROS'!H4,2,1) | AH27: =MID('TABLA DE SUMINISTROS'!H4,3,1) | AI27: =MID('TABLA DE SUMINISTROS'!H4,4,1) | AJ27: =MID('TABLA DE SUMINISTROS'!H4,5,1)
A28: Código Universal de punto de Suministro de Electricidad CUPS: | O28: =MID('TABLA DE SUMINISTROS'!A4,1,1) | P28: =MID('TABLA DE SUMINISTROS'!A4,2,1) | Q28: =MID('TABLA DE SUMINISTROS'!A4,3,1) | R28: =MID('TABLA DE SUMINISTROS'!A4,4,1) | S28: =MID('TABLA DE SUMINISTROS'!A4,5,1) | T28: =MID('TABLA DE SUMINISTROS'!A4,6,1) | U28: =MID('TABLA DE SUMINISTROS'!A4,7,1) | V28: =MID('TABLA DE SUMINISTROS'!A4,8,1) | W28: =MID('TABLA DE SUMINISTROS'!A4,9,1) | X28: =MID('TABLA DE SUMINISTROS'!A4,10,1) | Y28: =MID('TABLA DE SUMINISTROS'!A4,11,1) | Z28: =MID('TABLA DE SUMINISTROS'!A4,12,1) | AA28: =MID('TABLA DE SUMINISTROS'!A4,13,1) | AB28: =MID('TABLA DE SUMINISTROS'!A4,14,1) | AC28: =MID('TABLA DE SUMINISTROS'!A4,15,1) | AD28: =MID('TABLA DE SUMINISTROS'!A4,16,1) | AE28: =MID('TABLA DE SUMINISTROS'!A4,17,1) | AF28: =MID('TABLA DE SUMINISTROS'!A4,18,1) | AG28: =MID('TABLA DE SUMINISTROS'!A4,19,1) | AH28: =MID('TABLA DE SUMINISTROS'!A4,20,1) | AI28: =MID('TABLA DE SUMINISTROS'!SA4,21,1) | AJ28: =MID('TABLA DE SUMINISTROS'!A4,22,1)
A29: Tarifa acceso: | D29: =IF('TABLA DE SUMINISTROS'!J4="","",'TABLA DE SUMINISTROS'!J4) | G29: Potencia Contratada (kW): | M29: P1= | N29: =IF('TABLA DE SUMINISTROS'!K4="","",'TABLA DE SUMINISTROS'!K4) | Q29: P2= | R29: =IF('TABLA DE SUMINISTROS'!L4="","",'TABLA DE SUMINISTROS'!L4) | U29: P3= | V29: =IF('TABLA DE SUMINISTROS'!M4="","",'TABLA DE SUMINISTROS'!M4) | Y29: P4= | Z29: =IF('TABLA DE SUMINISTROS'!N4="","",'TABLA DE SUMINISTROS'!N4) | AC29: P5= | AD29: =IF('TABLA DE SUMINISTROS'!O4="","",'TABLA DE SUMINISTROS'!O4) | AG29: P6= | AH29: =IF('TABLA DE SUMINISTROS'!P4="","",'TABLA DE SUMINISTROS'!P4)
A30: Fecha de inicio solicitada*: | H30: =IF('TABLA DE SUMINISTROS'!Q4="","",'TABLA DE SUMINISTROS'!Q4)
A31: Contratar suministro eléctrico a: | I31: □ | K31: Precio Fijo | P31: □ | Q31: Precio Indexado
A33: Denominación social: | G33: =UPPER(CONCATENATE('TABLA DE SUMINISTROS'!R5,"")) | Z33: NIF: | AD33: =UPPER(CONCATENATE('TABLA DE SUMINISTROS'!S5,))
A34: Dirección: | D34: =UPPER(CONCATENATE('TABLA DE SUMINISTROS'!B5," ",'TABLA DE SUMINISTROS'!C5)) | Z34: Escalera / Piso / Puerta: | AF34: =UPPER('TABLA DE SUMINISTROS'!D5)
A35: Localidad: | D35: =UPPER('TABLA DE SUMINISTROS'!F5) | O35: Provincia: | R35: =UPPER('TABLA DE SUMINISTROS'!G5) | AB35: Código Postal: | AF35: =MID('TABLA DE SUMINISTROS'!E5,1,1) | AG35: =MID('TABLA DE SUMINISTROS'!E5,2,1) | AH35: =MID('TABLA DE SUMINISTROS'!E5,3,1) | AI35: =MID('TABLA DE SUMINISTROS'!E5,4,1) | AJ35: =MID('TABLA DE SUMINISTROS'!E5,5,1)
A36: Referencia catastral: | F36: =MID('TABLA DE SUMINISTROS'!I5,1,1) | G36: =MID('TABLA DE SUMINISTROS'!I5,2,1) | H36: =MID('TABLA DE SUMINISTROS'!I5,3,1) | I36: =MID('TABLA DE SUMINISTROS'!I5,4,1) | J36: =MID('TABLA DE SUMINISTROS'!I5,5,1) | K36: =MID('TABLA DE SUMINISTROS'!I5,6,1) | L36: =MID('TABLA DE SUMINISTROS'!I5,7,1) | M36: =MID('TABLA DE SUMINISTROS'!I5,8,1) | N36: =MID('TABLA DE SUMINISTROS'!I5,9,1) | O36: =MID('TABLA DE SUMINISTROS'!I5,10,1) | P36: =MID('TABLA DE SUMINISTROS'!I5,11,1) | Q36: =MID('TABLA DE SUMINISTROS'!I5,12,1) | R36: =MID('TABLA DE SUMINISTROS'!I5,13,1) | S36: =MID('TABLA DE SUMINISTROS'!I5,14,1) | T36: =MID('TABLA DE SUMINISTROS'!I5,15,1) | U36: =MID('TABLA DE SUMINISTROS'!I5,16,1) | V36: =MID('TABLA DE SUMINISTROS'!I5,17,1) | W36: =MID('TABLA DE SUMINISTROS'!I5,18,1) | X36: =MID('TABLA DE SUMINISTROS'!I5,19,1) | Y36: =MID('TABLA DE SUMINISTROS'!I5,20,1) | Z36: Código actividad CNAE: | AF36: =MID('TABLA DE SUMINISTROS'!H5,1,1) | AG36: =MID('TABLA DE SUMINISTROS'!H5,2,1) | AH36: =MID('TABLA DE SUMINISTROS'!H5,3,1) | AI36: =MID('TABLA DE SUMINISTROS'!H5,4,1) | AJ36: =MID('TABLA DE SUMINISTROS'!H5,5,1)
A37: Código Universal de punto de Suministro de Electricidad CUPS: | O37: =MID('TABLA DE SUMINISTROS'!A5,1,1) | P37: =MID('TABLA DE SUMINISTROS'!A5,2,1) | Q37: =MID('TABLA DE SUMINISTROS'!A5,3,1) | R37: =MID('TABLA DE SUMINISTROS'!A5,4,1) | S37: =MID('TABLA DE SUMINISTROS'!A5,5,1) | T37: =MID('TABLA DE SUMINISTROS'!A5,6,1) | U37: =MID('TABLA DE SUMINISTROS'!A5,7,1) | V37: =MID('TABLA DE SUMINISTROS'!A5,8,1) | W37: =MID('TABLA DE SUMINISTROS'!A5,9,1) | X37: =MID('TABLA DE SUMINISTROS'!A5,10,1) | Y37: =MID('TABLA DE SUMINISTROS'!A5,11,1) | Z37: =MID('TABLA DE SUMINISTROS'!A5,12,1) | AA37: =MID('TABLA DE SUMINISTROS'!A5,13,1) | AB37: =MID('TABLA DE SUMINISTROS'!A5,14,1) | AC37: =MID('TABLA DE SUMINISTROS'!A5,15,1) | AD37: =MID('TABLA DE SUMINISTROS'!A5,16,1) | AE37: =MID('TABLA DE SUMINISTROS'!A5,17,1) | AF37: =MID('TABLA DE SUMINISTROS'!A5,18,1) | AG37: =MID('TABLA DE SUMINISTROS'!A5,19,1) | AH37: =MID('TABLA DE SUMINISTROS'!A5,20,1) | AI37: =MID('TABLA DE SUMINISTROS'!A5,21,1) | AJ37: =MID('TABLA DE SUMINISTROS'!A5,22,1)
A38: Tarifa acceso: | D38: =IF('TABLA DE SUMINISTROS'!J5="","",'TABLA DE SUMINISTROS'!J5) | G38: Potencia Contratada (kW): | M38: P1= | N38: =IF('TABLA DE SUMINISTROS'!K5="","",'TABLA DE SUMINISTROS'!K5) | Q38: P2= | R38: =IF('TABLA DE SUMINISTROS'!L5="","",'TABLA DE SUMINISTROS'!L5) | U38: P3= | V38: =IF('TABLA DE SUMINISTROS'!M5="","",'TABLA DE SUMINISTROS'!M5) | Y38: P4= | Z38: =IF('TABLA DE SUMINISTROS'!N5="","",'TABLA DE SUMINISTROS'!N5) | AC38: P5= | AD38: =IF('TABLA DE SUMINISTROS'!O5="","",'TABLA DE SUMINISTROS'!O5) | AG38: P6= | AH38: =IF('TABLA DE SUMINISTROS'!P5="","",'TABLA DE SUMINISTROS'!P5)
A39: Fecha de inicio solicitada*: | H39: =IF('TABLA DE SUMINISTROS'!Q5="","",'TABLA DE SUMINISTROS'!Q5)
A40: Contratar suministro eléctrico a: | I40: □ | K40: Precio Fijo | P40: □ | Q40: Precio Indexado
A42: Denominación social: | G42: =UPPER(CONCATENATE('TABLA DE SUMINISTROS'!R6,"")) | Z42: NIF:
A43: Dirección: | D43: =UPPER(CONCATENATE('TABLA DE SUMINISTROS'!B6," ",'TABLA DE SUMINISTROS'!C6)) | Z43: Escalera / Piso / Puerta: | AF43: =UPPER('TABLA DE SUMINISTROS'!D6)
A44: Localidad: | D44: =UPPER('TABLA DE SUMINISTROS'!F6) | O44: Provincia: | R44: =UPPER('TABLA DE SUMINISTROS'!G6) | AB44: Código Postal: | AF44: =MID('TABLA DE SUMINISTROS'!E6,1,1) | AG44: =MID('TABLA DE SUMINISTROS'!E6,2,1) | AH44: =MID('TABLA DE SUMINISTROS'!E6,3,1) | AI44: =MID('TABLA DE SUMINISTROS'!E6,4,1) | AJ44: =MID('TABLA DE SUMINISTROS'!E6,5,1)
A45: Referencia catastral: | F45: =MID('TABLA DE SUMINISTROS'!I6,1,1) | G45: =MID('TABLA DE SUMINISTROS'!I6,2,1) | H45: =MID('TABLA DE SUMINISTROS'!I6,3,1) | I45: =MID('TABLA DE SUMINISTROS'!I6,4,1) | J45: =MID('TABLA DE SUMINISTROS'!I6,5,1) | K45: =MID('TABLA DE SUMINISTROS'!I6,6,1) | L45: =MID('TABLA DE SUMINISTROS'!I6,7,1) | M45: =MID('TABLA DE SUMINISTROS'!I6,8,1) | N45: =MID('TABLA DE SUMINISTROS'!I6,9,1) | O45: =MID('TABLA DE SUMINISTROS'!I6,10,1) | P45: =MID('TABLA DE SUMINISTROS'!I6,11,1) | Q45: =MID('TABLA DE SUMINISTROS'!I6,12,1) | R45: =MID('TABLA DE SUMINISTROS'!I6,13,1) | S45: =MID('TABLA DE SUMINISTROS'!I6,14,1) | T45: =MID('TABLA DE SUMINISTROS'!I6,15,1) | U45: =MID('TABLA DE SUMINISTROS'!I6,16,1) | V45: =MID('TABLA DE SUMINISTROS'!I6,17,1) | W45: =MID('TABLA DE SUMINISTROS'!I6,18,1) | X45: =MID('TABLA DE SUMINISTROS'!I6,19,1) | Y45: =MID('TABLA DE SUMINISTROS'!I6,20,1) | Z45: Código actividad CNAE: | AF45: =MID('TABLA DE SUMINISTROS'!H6,1,1) | AG45: =MID('TABLA DE SUMINISTROS'!H6,2,1) | AH45: =MID('TABLA DE SUMINISTROS'!H6,3,1) | AI45: =MID('TABLA DE SUMINISTROS'!H6,4,1) | AJ45: =MID('TABLA DE SUMINISTROS'!H6,5,1)
A46: Código Universal de punto de Suministro de Electricidad CUPS: | O46: =MID('TABLA DE SUMINISTROS'!A6,1,1) | P46: =MID('TABLA DE SUMINISTROS'!A6,2,1) | Q46: =MID('TABLA DE SUMINISTROS'!A6,3,1) | R46: =MID('TABLA DE SUMINISTROS'!A6,4,1) | S46: =MID('TABLA DE SUMINISTROS'!A6,5,1) | T46: =MID('TABLA DE SUMINISTROS'!A6,6,1) | U46: =MID('TABLA DE SUMINISTROS'!A6,7,1) | V46: =MID('TABLA DE SUMINISTROS'!A6,8,1) | W46: =MID('TABLA DE SUMINISTROS'!A6,9,1) | X46: =MID('TABLA DE SUMINISTROS'!A6,10,1) | Y46: =MID('TABLA DE SUMINISTROS'!A6,11,1) | Z46: =MID('TABLA DE SUMINISTROS'!A6,12,1) | AA46: =MID('TABLA DE SUMINISTROS'!A6,13,1) | AB46: =MID('TABLA DE SUMINISTROS'!A6,14,1) | AC46: =MID('TABLA DE SUMINISTROS'!A6,15,1) | AD46: =MID('TABLA DE SUMINISTROS'!A6,16,1) | AE46: =MID('TABLA DE SUMINISTROS'!A6,17,1) | AF46: =MID('TABLA DE SUMINISTROS'!A6,18,1) | AG46: =MID('TABLA DE SUMINISTROS'!A6,19,1) | AH46: =MID('TABLA DE SUMINISTROS'!A6,20,1) | AI46: =MID('TABLA DE SUMINISTROS'!A6,21,1) | AJ46: =MID('TABLA DE SUMINISTROS'!A6,22,1)
A47: Tarifa acceso: | D47: =IF('TABLA DE SUMINISTROS'!J6="","",'TABLA DE SUMINISTROS'!J6) | G47: Potencia Contratada (kW): | M47: P1= | N47: =IF('TABLA DE SUMINISTROS'!K6="","",'TABLA DE SUMINISTROS'!K6) | Q47: P2= | R47: =IF('TABLA DE SUMINISTROS'!L6="","",'TABLA DE SUMINISTROS'!L6) | U47: P3= | V47: =IF('TABLA DE SUMINISTROS'!M6="","",'TABLA DE SUMINISTROS'!M6) | Y47: P4= | Z47: =IF('TABLA DE SUMINISTROS'!N6="","",'TABLA DE SUMINISTROS'!N6) | AC47: P5= | AD47: =IF('TABLA DE SUMINISTROS'!O6="","",'TABLA DE SUMINISTROS'!O6) | AG47: P6= | AH47: =IF('TABLA DE SUMINISTROS'!P6="","",'TABLA DE SUMINISTROS'!P6)
A48: Fecha de inicio solicitada*: | H48: =IF('TABLA DE SUMINISTROS'!Q6="","",'TABLA DE SUMINISTROS'!Q6)
A49: Contratar suministro eléctrico a: | I49: □ | K49: Precio Fijo | P49: □ | Q49: Precio Indexado
A51: Denominación social: | G51: =UPPER(CONCATENATE('TABLA DE SUMINISTROS'!R7,"")) | Z51: NIF: | AD51: =UPPER(CONCATENATE('TABLA DE SUMINISTROS'!S6,))
A52: Dirección: | D52: =UPPER(CONCATENATE('TABLA DE SUMINISTROS'!B7," ",'TABLA DE SUMINISTROS'!C7)) | Z52: Escalera / Piso / Puerta: | AF52: =UPPER('TABLA DE SUMINISTROS'!D7)
A53: Localidad: | D53: =UPPER('TABLA DE SUMINISTROS'!F7) | O53: Provincia: | R53: =UPPER('TABLA DE SUMINISTROS'!G7) | AB53: Código Postal: | AF53: =MID('TABLA DE SUMINISTROS'!E7,1,1) | AG53: =MID('TABLA DE SUMINISTROS'!E7,2,1) | AH53: =MID('TABLA DE SUMINISTROS'!E7,3,1) | AI53: =MID('TABLA DE SUMINISTROS'!E7,4,1) | AJ53: =MID('TABLA DE SUMINISTROS'!E7,5,1)
A54: Referencia catastral: | F54: =MID('TABLA DE SUMINISTROS'!I7,1,1) | G54: =MID('TABLA DE SUMINISTROS'!I7,2,1) | H54: =MID('TABLA DE SUMINISTROS'!I7,3,1) | I54: =MID('TABLA DE SUMINISTROS'!I7,4,1) | J54: =MID('TABLA DE SUMINISTROS'!I7,5,1) | K54: =MID('TABLA DE SUMINISTROS'!I7,6,1) | L54: =MID('TABLA DE SUMINISTROS'!I7,7,1) | M54: =MID('TABLA DE SUMINISTROS'!I7,8,1) | N54: =MID('TABLA DE SUMINISTROS'!I7,9,1) | O54: =MID('TABLA DE SUMINISTROS'!I7,10,1) | P54: =MID('TABLA DE SUMINISTROS'!I7,11,1) | Q54: =MID('TABLA DE SUMINISTROS'!I7,12,1) | R54: =MID('TABLA DE SUMINISTROS'!I7,13,1) | S54: =MID('TABLA DE SUMINISTROS'!I7,14,1) | T54: =MID('TABLA DE SUMINISTROS'!I7,15,1) | U54: =MID('TABLA DE SUMINISTROS'!I7,16,1) | V54: =MID('TABLA DE SUMINISTROS'!I7,17,1) | W54: =MID('TABLA DE SUMINISTROS'!I7,18,1) | X54: =MID('TABLA DE SUMINISTROS'!I7,19,1) | Y54: =MID('TABLA DE SUMINISTROS'!I7,20,1) | Z54: Código actividad CNAE: | AF54: =MID('TABLA DE SUMINISTROS'!H7,1,1) | AG54: =MID('TABLA DE SUMINISTROS'!H7,2,1) | AH54: =MID('TABLA DE SUMINISTROS'!H7,3,1) | AI54: =MID('TABLA DE SUMINISTROS'!H7,4,1) | AJ54: =MID('TABLA DE SUMINISTROS'!H7,5,1)
A55: Código Universal de punto de Suministro de Electricidad CUPS: | O55: =MID('TABLA DE SUMINISTROS'!A7,1,1) | P55: =MID('TABLA DE SUMINISTROS'!A7,2,1) | Q55: =MID('TABLA DE SUMINISTROS'!A7,3,1) | R55: =MID('TABLA DE SUMINISTROS'!A7,4,1) | S55: =MID('TABLA DE SUMINISTROS'!A7,5,1) | T55: =MID('TABLA DE SUMINISTROS'!A7,6,1) | U55: =MID('TABLA DE SUMINISTROS'!A7,7,1) | V55: =MID('TABLA DE SUMINISTROS'!A7,8,1) | W55: =MID('TABLA DE SUMINISTROS'!A7,9,1) | X55: =MID('TABLA DE SUMINISTROS'!A7,10,1) | Y55: =MID('TABLA DE SUMINISTROS'!A7,11,1) | Z55: =MID('TABLA DE SUMINISTROS'!A7,12,1) | AA55: =MID('TABLA DE SUMINISTROS'!A7,13,1) | AB55: =MID('TABLA DE SUMINISTROS'!A7,14,1) | AC55: =MID('TABLA DE SUMINISTROS'!A7,15,1) | AD55: =MID('TABLA DE SUMINISTROS'!A7,16,1) | AE55: =MID('TABLA DE SUMINISTROS'!A7,17,1) | AF55: =MID('TABLA DE SUMINISTROS'!A7,18,1) | AG55: =MID('TABLA DE SUMINISTROS'!A7,19,1) | AH55: =MID('TABLA DE SUMINISTROS'!A7,20,1) | AI55: =MID('TABLA DE SUMINISTROS'!A7,21,1) | AJ55: =MID('TABLA DE SUMINISTROS'!A7,22,1)
A56: Tarifa acceso: | D56: =IF('TABLA DE SUMINISTROS'!J7="","",'TABLA DE SUMINISTROS'!J7) | G56: Potencia Contratada (kW): | M56: P1= | N56: =IF('TABLA DE SUMINISTROS'!K7="","",'TABLA DE SUMINISTROS'!K7) | Q56: P2= | R56: =IF('TABLA DE SUMINISTROS'!L7="","",'TABLA DE SUMINISTROS'!L7) | U56: P3= | V56: =IF('TABLA DE SUMINISTROS'!M7="","",'TABLA DE SUMINISTROS'!M7) | Y56: P4= | Z56: =IF('TABLA DE SUMINISTROS'!N7="","",'TABLA DE SUMINISTROS'!N7) | AC56: P5= | AD56: =IF('TABLA DE SUMINISTROS'!O7="","",'TABLA DE SUMINISTROS'!O7) | AG56: P6= | AH56: =IF('TABLA DE SUMINISTROS'!P7="","",'TABLA DE SUMINISTROS'!P7)
A57: Fecha de inicio solicitada*: | H57: =IF('TABLA DE SUMINISTROS'!Q7="","",'TABLA DE SUMINISTROS'!Q7)
A58: Contratar suministro eléctrico a: | I58: □ | K58: Precio Fijo | P58: □ | Q58: Precio Indexado
A60: *Esta fecha es orientativa y quedará sometida a la efectiva activación por parte de la Distribuidora, quedando Audax exonerada de toda responsabilidad para el caso no ejecución en la fecha prevista e independientemente de su motivo. Para Adx Classic la fecha de activación solicitada no podrá ser superior al plazo de dos (2) meses desde la fecha de firma de este Contrato.
A63: ACEPTACIÓN Y FIRMA
A64: El presente documento es un anexo a las Condiciones Particulares del Contrato Dual de Suministro y servicios adicionales. A los CUPS que se relacionan en el presente documento le serán de aplicación las condiciones Generales y Particulares contenidas en el Contrato que integra.
A67: p.p | L67: Por El Representante /Cliente: | R67: (Firma y sello)
N70: Lugar y fecha: | R70: En___________________________________________________________, a ______ de _____________________ de _________.
A72: ADX RENOVABLES, S.L. - N.I.F.: B72562051 Calle Electrónica, 19, 7C C.P. 08915-Badalona (Barcelona), Registro Mercantil de Barcelona, tomo 48712, folio 75, hoja B-B-593463

Sheet ANEXO SUMINISTROS 8 al 13 (2)
A4: Anexo de Puntos de Suministro Eléctrico
A5: CONTRATO DUAL DE SUMINISTRO Y SERVICIOS ADICIONALES
A6: Denominación social: | G6: =UPPER(CONCATENATE('TABLA DE SUMINISTROS'!R8,"")) | Z6: NIF: | AD6: =UPPER(CONCATENATE('TABLA DE SUMINISTROS'!S8,))
A7: Dirección: | D7: =UPPER(CONCATENATE('TABLA DE SUMINISTROS'!B8," ",'TABLA DE SUMINISTROS'!C8)) | Z7: Escalera / Piso / Puerta: | AF7: =UPPER('TABLA DE SUMINISTROS'!D8)
A8: Localidad: | D8: =UPPER('TABLA DE SUMINISTROS'!F8) | O8: Provincia: | R8: =UPPER('TABLA DE SUMINISTROS'!G8) | AB8: Código Postal: | AF8: =MID('TABLA DE SUMINISTROS'!E8,1,1) | AG8: =MID('TABLA DE SUMINISTROS'!E8,2,1) | AH8: =MID('TABLA DE SUMINISTROS'!E8,3,1) | AI8: =MID('TABLA DE SUMINISTROS'!E8,4,1) | AJ8: =MID('TABLA DE SUMINISTROS'!E8,5,1)
A9: Referencia catastral: | F9: =MID('TABLA DE SUMINISTROS'!I8,1,1) | G9: =MID('TABLA DE SUMINISTROS'!I8,2,1) | H9: =MID('TABLA DE SUMINISTROS'!I8,3,1) | I9: =MID('TABLA DE SUMINISTROS'!I8,4,1) | J9: =MID('TABLA DE SUMINISTROS'!I8,5,1) | K9: =MID('TABLA DE SUMINISTROS'!I8,6,1) | L9: =MID('TABLA DE SUMINISTROS'!I8,7,1) | M9: =MID('TABLA DE SUMINISTROS'!I8,8,1) | N9: =MID('TABLA DE SUMINISTROS'!I8,9,1) | O9: =MID('TABLA DE SUMINISTROS'!I8,10,1) | P9: =MID('TABLA DE SUMINISTROS'!I8,11,1) | Q9: =MID('TABLA DE SUMINISTROS'!I8,12,1) | R9: =MID('TABLA DE SUMINISTROS'!I8,13,1) | S9: =MID('TABLA DE SUMINISTROS'!I8,14,1) | T9: =MID('TABLA DE SUMINISTROS'!I8,15,1) | U9: =MID('TABLA DE SUMINISTROS'!I8,16,1) | V9: =MID('TABLA DE SUMINISTROS'!I8,17,1) | W9: =MID('TABLA DE SUMINISTROS'!I8,18,1) | X9: =MID('TABLA DE SUMINISTROS'!I8,19,1) | Y9: =MID('TABLA DE SUMINISTROS'!I8,20,1) | Z9: Código actividad CNAE: | AF9: =MID('TABLA DE SUMINISTROS'!H8,1,1) | AG9: =MID('TABLA DE SUMINISTROS'!H8,2,1) | AH9: =MID('TABLA DE SUMINISTROS'!H8,3,1) | AI9: =MID('TABLA DE SUMINISTROS'!H8,4,1) | AJ9: =MID('TABLA DE SUMINISTROS'!H8,5,1)
A10: Código Universal de punto de Suministro de Electricidad CUPS: | O10: =MID('TABLA DE SUMINISTROS'!A8,1,1) | P10: =MID('TABLA DE SUMINISTROS'!A8,2,1) | Q10: =MID('TABLA DE SUMINISTROS'!A8,3,1) | R10: =MID('TABLA DE SUMINISTROS'!A8,4,1) | S10: =MID('TABLA DE SUMINISTROS'!A8,5,1) | T10: =MID('TABLA DE SUMINISTROS'!A8,6,1) | U10: =MID('TABLA DE SUMINISTROS'!A8,7,1) | V10: =MID('TABLA DE SUMINISTROS'!A8,8,1) | W10: =MID('TABLA DE SUMINISTROS'!A8,9,1) | X10: =MID('TABLA DE SUMINISTROS'!A8,10,1) | Y10: =MID('TABLA DE SUMINISTROS'!A8,11,1) | Z10: =MID('TABLA DE SUMINISTROS'!A8,12,1) | AA10: =MID('TABLA DE SUMINISTROS'!A8,13,1) | AB10: =MID('TABLA DE SUMINISTROS'!A8,14,1) | AC10: =MID('TABLA DE SUMINISTROS'!A8,15,1) | AD10: =MID('TABLA DE SUMINISTROS'!A8,16,1) | AE10: =MID('TABLA DE SUMINISTROS'!A8,17,1) | AF10: =MID('TABLA DE SUMINISTROS'!A8,18,1) | AG10: =MID('TABLA DE SUMINISTROS'!A8,19,1) | AH10: =MID('TABLA DE SUMINISTROS'!A8,20,1) | AI10: =MID('TABLA DE SUMINISTROS'!A8,21,1) | AJ10: =MID('TABLA DE SUMINISTROS'!A8,22,1)
A11: Tarifa acceso: | D11: =IF('TABLA DE SUMINISTROS'!J8="","",'TABLA DE SUMINISTROS'!J8) | G11: Potencia Contratada (kW): | M11: P1= | N11: =IF('TABLA DE SUMINISTROS'!K8="","",'TABLA DE SUMINISTROS'!K8) | Q11: P2= | R11: =IF('TABLA DE SUMINISTROS'!L8="","",'TABLA DE SUMINISTROS'!L8) | U11: P3= | V11: =IF('TABLA DE SUMINISTROS'!M8="","",'TABLA DE SUMINISTROS'!M8) | Y11: P4= | Z11: =IF('TABLA DE SUMINISTROS'!N8="","",'TABLA DE SUMINISTROS'!N8) | AC11: P5= | AD11: =IF('TABLA DE SUMINISTROS'!O8="","",'TABLA DE SUMINISTROS'!O8) | AG11: P6= | AH11: =IF('TABLA DE SUMINISTROS'!P8="","",'TABLA DE SUMINISTROS'!P8)
A12: Fecha de inicio solicitada*: | H12: =IF('TABLA DE SUMINISTROS'!Q8="","",'TABLA DE SUMINISTROS'!Q8)
A13: Contratar suministro eléctrico a: | I13: □ | K13: Precio Fijo | P13: □ | Q13: Precio Indexado
A15: Denominación social: | G15: =UPPER(CONCATENATE('TABLA DE SUMINISTROS'!R9,"")) | Z15: NIF: | AD15: =UPPER(CONCATENATE('TABLA DE SUMINISTROS'!S9,))
A16: Dirección: | D16: =UPPER(CONCATENATE('TABLA DE SUMINISTROS'!B9," ",'TABLA DE SUMINISTROS'!C9)) | Z16: Escalera / Piso / Puerta: | AF16: =UPPER('TABLA DE SUMINISTROS'!D9)
A17: Localidad: | D17: =UPPER('TABLA DE SUMINISTROS'!F9) | O17: Provincia: | R17: =UPPER('TABLA DE SUMINISTROS'!G9) | AB17: Código Postal: | AF17: =MID('TABLA DE SUMINISTROS'!E9,1,1) | AG17: =MID('TABLA DE SUMINISTROS'!E9,2,1) | AH17: =MID('TABLA DE SUMINISTROS'!E9,3,1) | AI17: =MID('TABLA DE SUMINISTROS'!E9,4,1) | AJ17: =MID('TABLA DE SUMINISTROS'!E9,5,1)
A18: Referencia catastral: | F18: =MID('TABLA DE SUMINISTROS'!I9,1,1) | G18: =MID('TABLA DE SUMINISTROS'!I9,2,1) | H18: =MID('TABLA DE SUMINISTROS'!I9,3,1) | I18: =MID('TABLA DE SUMINISTROS'!I9,4,1) | J18: =MID('TABLA DE SUMINISTROS'!I9,5,1) | K18: =MID('TABLA DE SUMINISTROS'!I9,6,1) | L18: =MID('TABLA DE SUMINISTROS'!I9,7,1) | M18: =MID('TABLA DE SUMINISTROS'!I9,8,1) | N18: =MID('TABLA DE SUMINISTROS'!I9,9,1) | O18: =MID('TABLA DE SUMINISTROS'!I9,10,1) | P18: =MID('TABLA DE SUMINISTROS'!I9,11,1) | Q18: =MID('TABLA DE SUMINISTROS'!I9,12,1) | R18: =MID('TABLA DE SUMINISTROS'!I9,13,1) | S18: =MID('TABLA DE SUMINISTROS'!I9,14,1) | T18: =MID('TABLA DE SUMINISTROS'!I9,15,1) | U18: =MID('TABLA DE SUMINISTROS'!I9,16,1) | V18: =MID('TABLA DE SUMINISTROS'!I9,17,1) | W18: =MID('TABLA DE SUMINISTROS'!I9,18,1) | X18: =MID('TABLA DE SUMINISTROS'!I9,19,1) | Y18: =MID('TABLA DE SUMINISTROS'!I9,20,1) | Z18: Código actividad CNAE: | AF18: =MID('TABLA DE SUMINISTROS'!H9,1,1) | AG18: =MID('TABLA DE SUMINISTROS'!H9,2,1) | AH18: =MID('TABLA DE SUMINISTROS'!H9,3,1) | AI18: =MID('TABLA DE SUMINISTROS'!H9,4,1) | AJ18: =MID('TABLA DE SUMINISTROS'!H9,5,1)
A19: Código Universal de punto de Suministro de Electricidad CUPS: | O19: =MID('TABLA DE SUMINISTROS'!A9,1,1) | P19: =MID('TABLA DE SUMINISTROS'!A9,2,1) | Q19: =MID('TABLA DE SUMINISTROS'!A9,3,1) | R19: =MID('TABLA DE SUMINISTROS'!A9,4,1) | S19: =MID('TABLA DE SUMINISTROS'!A9,5,1) | T19: =MID('TABLA DE SUMINISTROS'!A9,6,1) | U19: =MID('TABLA DE SUMINISTROS'!A9,7,1) | V19: =MID('TABLA DE SUMINISTROS'!A9,8,1) | W19: =MID('TABLA DE SUMINISTROS'!A9,9,1) | X19: =MID('TABLA DE SUMINISTROS'!A9,10,1) | Y19: =MID('TABLA DE SUMINISTROS'!A9,11,1) | Z19: =MID('TABLA DE SUMINISTROS'!A9,12,1) | AA19: =MID('TABLA DE SUMINISTROS'!A9,13,1) | AB19: =MID('TABLA DE SUMINISTROS'!A9,14,1) | AC19: =MID('TABLA DE SUMINISTROS'!A9,15,1) | AD19: =MID('TABLA DE SUMINISTROS'!A9,16,1) | AE19: =MID('TABLA DE SUMINISTROS'!A9,17,1) | AF19: =MID('TABLA DE SUMINISTROS'!A9,18,1) | AG19: =MID('TABLA DE SUMINISTROS'!A9,19,1) | AH19: =MID('TABLA DE SUMINISTROS'!A9,20,1) | AI19: =MID('TABLA DE SUMINISTROS'!A9,21,1) | AJ19: =MID('TABLA DE SUMINISTROS'!A9,22,1)
A20: Tarifa acceso: | D20: =IF('TABLA DE SUMINISTROS'!J9="","",'TABLA DE SUMINISTROS'!J9) | G20: Potencia Contratada (kW): | M20: P1= | N20: =IF('TABLA DE SUMINISTROS'!K9="","",'TABLA DE SUMINISTROS'!K9) | Q20: P2= | R20: =IF('TABLA DE SUMINISTROS'!L9="","",'TABLA DE SUMINISTROS'!L9) | U20: P3= | V20: =IF('TABLA DE SUMINISTROS'!M9="","",'TABLA DE SUMINISTROS'!M9) | Y20: P4= | Z20: =IF('TABLA DE SUMINISTROS'!N9="","",'TABLA DE SUMINISTROS'!N3) | AC20: P5= | AD20: =IF('TABLA DE SUMINISTROS'!O9="","",'TABLA DE SUMINISTROS'!O9) | AG20: P6= | AH20: =IF('TABLA DE SUMINISTROS'!P9="","",'TABLA DE SUMINISTROS'!P9)
A21: Fecha de inicio solicitada*: | H21: =IF('TABLA DE SUMINISTROS'!Q9="","",'TABLA DE SUMINISTROS'!Q9)
A22: Contratar suministro eléctrico a: | I22: □ | K22: Precio Fijo | P22: □ | Q22: Precio Indexado
A24: Denominación social: | G24: =UPPER(CONCATENATE('TABLA DE SUMINISTROS'!R10,"")) | Z24: NIF: | AD24: =UPPER(CONCATENATE('TABLA DE SUMINISTROS'!S10,))
A25: Dirección: | D25: =UPPER(CONCATENATE('TABLA DE SUMINISTROS'!B10," ",'TABLA DE SUMINISTROS'!C10)) | Z25: Escalera / Piso / Puerta: | AF25: =UPPER('TABLA DE SUMINISTROS'!D10)
A26: Localidad: | D26: =UPPER('TABLA DE SUMINISTROS'!F10) | O26: Provincia: | R26: =UPPER('TABLA DE SUMINISTROS'!G10) | AB26: Código Postal: | AF26: =MID('TABLA DE SUMINISTROS'!E10,1,1) | AG26: =MID('TABLA DE SUMINISTROS'!E10,2,1) | AH26: =MID('TABLA DE SUMINISTROS'!E10,3,1) | AI26: =MID('TABLA DE SUMINISTROS'!E10,4,1) | AJ26: =MID('TABLA DE SUMINISTROS'!E10,5,1)
A27: Referencia catastral: | F27: =MID('TABLA DE SUMINISTROS'!I10,1,1) | G27: =MID('TABLA DE SUMINISTROS'!I10,2,1) | H27: =MID('TABLA DE SUMINISTROS'!I10,3,1) | I27: =MID('TABLA DE SUMINISTROS'!I10,4,1) | J27: =MID('TABLA DE SUMINISTROS'!I10,5,1) | K27: =MID('TABLA DE SUMINISTROS'!I10,6,1) | L27: =MID('TABLA DE SUMINISTROS'!I10,7,1) | M27: =MID('TABLA DE SUMINISTROS'!I10,8,1) | N27: =MID('TABLA DE SUMINISTROS'!I10,9,1) | O27: =MID('TABLA DE SUMINISTROS'!I10,10,1) | P27: =MID('TABLA DE SUMINISTROS'!I10,11,1) | Q27: =MID('TABLA DE SUMINISTROS'!I10,12,1) | R27: =MID('TABLA DE SUMINISTROS'!I10,13,1) | S27: =MID('TABLA DE SUMINISTROS'!I10,14,1) | T27: =MID('TABLA DE SUMINISTROS'!I10,15,1) | U27: =MID('TABLA DE SUMINISTROS'!I10,16,1) | V27: =MID('TABLA DE SUMINISTROS'!I10,17,1) | W27: =MID('TABLA DE SUMINISTROS'!I10,18,1) | X27: =MID('TABLA DE SUMINISTROS'!I10,19,1) | Y27: =MID('TABLA DE SUMINISTROS'!I10,20,1) | Z27: Código actividad CNAE: | AF27: =MID('TABLA DE SUMINISTROS'!H10,1,1) | AG27: =MID('TABLA DE SUMINISTROS'!H10,2,1) | AH27: =MID('TABLA DE SUMINISTROS'!H10,3,1) | AI27: =MID('TABLA DE SUMINISTROS'!H10,4,1) | AJ27: =MID('TABLA DE SUMINISTROS'!H10,5,1)
A28: Código Universal de punto de Suministro de Electricidad CUPS: | O28: =MID('TABLA DE SUMINISTROS'!A10,1,1) | P28: =MID('TABLA DE SUMINISTROS'!A10,2,1) | Q28: =MID('TABLA DE SUMINISTROS'!A10,3,1) | R28: =MID('TABLA DE SUMINISTROS'!A10,4,1) | S28: =MID('TABLA DE SUMINISTROS'!A10,5,1) | T28: =MID('TABLA DE SUMINISTROS'!A10,6,1) | U28: =MID('TABLA DE SUMINISTROS'!A10,7,1) | V28: =MID('TABLA DE SUMINISTROS'!A10,8,1) | W28: =MID('TABLA DE SUMINISTROS'!A10,9,1) | X28: =MID('TABLA DE SUMINISTROS'!A10,10,1) | Y28: =MID('TABLA DE SUMINISTROS'!A10,11,1) | Z28: =MID('TABLA DE SUMINISTROS'!A10,12,1) | AA28: =MID('TABLA DE SUMINISTROS'!A10,13,1) | AB28: =MID('TABLA DE SUMINISTROS'!A10,14,1) | AC28: =MID('TABLA DE SUMINISTROS'!A10,15,1) | AD28: =MID('TABLA DE SUMINISTROS'!A10,16,1) | AE28: =MID('TABLA DE SUMINISTROS'!A10,17,1) | AF28: =MID('TABLA DE SUMINISTROS'!A10,18,1) | AG28: =MID('TABLA DE SUMINISTROS'!A10,19,1) | AH28: =MID('TABLA DE SUMINISTROS'!A10,20,1) | AI28: =MID('TABLA DE SUMINISTROS'!SA10,21,1) | AJ28: =MID('TABLA DE SUMINISTROS'!A10,22,1)
A29: Tarifa acceso: | D29: =IF('TABLA DE SUMINISTROS'!J10="","",'TABLA DE SUMINISTROS'!J10) | G29: Potencia Contratada (kW): | M29: P1= | N29: =IF('TABLA DE SUMINISTROS'!K10="","",'TABLA DE SUMINISTROS'!K10) | Q29: P2= | R29: =IF('TABLA DE SUMINISTROS'!L10="","",'TABLA DE SUMINISTROS'!L10) | U29: P3= | V29: =IF('TABLA DE SUMINISTROS'!M10="","",'TABLA DE SUMINISTROS'!M10) | Y29: P4= | Z29: =IF('TABLA DE SUMINISTROS'!N10="","",'TABLA DE SUMINISTROS'!N10) | AC29: P5= | AD29: =IF('TABLA DE SUMINISTROS'!O10="","",'TABLA DE SUMINISTROS'!O10) | AG29: P6= | AH29: =IF('TABLA DE SUMINISTROS'!P10="","",'TABLA DE SUMINISTROS'!P10)
A30: Fecha de inicio solicitada*: | H30: =IF('TABLA DE SUMINISTROS'!Q10="","",'TABLA DE SUMINISTROS'!Q10)
A31: Contratar suministro eléctrico a: | I31: □ | K31: Precio Fijo | P31: □ | Q31: Precio Indexado
A33: Denominación social: | G33: =UPPER(CONCATENATE('TABLA DE SUMINISTROS'!R11,"")) | Z33: NIF: | AD33: =UPPER(CONCATENATE('TABLA DE SUMINISTROS'!S11,))
A34: Dirección: | D34: =UPPER(CONCATENATE('TABLA DE SUMINISTROS'!B11," ",'TABLA DE SUMINISTROS'!C11)) | Z34: Escalera / Piso / Puerta: | AF34: =UPPER('TABLA DE SUMINISTROS'!D11)
A35: Localidad: | D35: =UPPER('TABLA DE SUMINISTROS'!F11) | O35: Provincia: | R35: =UPPER('TABLA DE SUMINISTROS'!G11) | AB35: Código Postal: | AF35: =MID('TABLA DE SUMINISTROS'!E11,1,1) | AG35: =MID('TABLA DE SUMINISTROS'!E11,2,1) | AH35: =MID('TABLA DE SUMINISTROS'!E11,3,1) | AI35: =MID('TABLA DE SUMINISTROS'!E11,4,1) | AJ35: =MID('TABLA DE SUMINISTROS'!E11,5,1)
A36: Referencia catastral: | F36: =MID('TABLA DE SUMINISTROS'!I11,1,1) | G36: =MID('TABLA DE SUMINISTROS'!I11,2,1) | H36: =MID('TABLA DE SUMINISTROS'!I11,3,1) | I36: =MID('TABLA DE SUMINISTROS'!I11,4,1) | J36: =MID('TABLA DE SUMINISTROS'!I11,5,1) | K36: =MID('TABLA DE SUMINISTROS'!I11,6,1) | L36: =MID('TABLA DE SUMINISTROS'!I11,7,1) | M36: =MID('TABLA DE SUMINISTROS'!I11,8,1) | N36: =MID('TABLA DE SUMINISTROS'!I11,9,1) | O36: =MID('TABLA DE SUMINISTROS'!I11,10,1) | P36: =MID('TABLA DE SUMINISTROS'!I11,11,1) | Q36: =MID('TABLA DE SUMINISTROS'!I11,12,1) | R36: =MID('TABLA DE SUMINISTROS'!I11,13,1) | S36: =MID('TABLA DE SUMINISTROS'!I11,14,1) | T36: =MID('TABLA DE SUMINISTROS'!I11,15,1) | U36: =MID('TABLA DE SUMINISTROS'!I11,16,1) | V36: =MID('TABLA DE SUMINISTROS'!I11,17,1) | W36: =MID('TABLA DE SUMINISTROS'!I11,18,1) | X36: =MID('TABLA DE SUMINISTROS'!I11,19,1) | Y36: =MID('TABLA DE SUMINISTROS'!I11,20,1) | Z36: Código actividad CNAE: | AF36: =MID('TABLA DE SUMINISTROS'!H11,1,1) | AG36: =MID('TABLA DE SUMINISTROS'!H11,2,1) | AH36: =MID('TABLA DE SUMINISTROS'!H11,3,1) | AI36: =MID('TABLA DE SUMINISTROS'!H11,4,1) | AJ36: =MID('TABLA DE SUMINISTROS'!H11,5,1)
A37: Código Universal de punto de Suministro de Electricidad CUPS: | O37: =MID('TABLA DE SUMINISTROS'!A11,1,1) | P37: =MID('TABLA DE SUMINISTROS'!A11,2,1) | Q37: =MID('TABLA DE SUMINISTROS'!A11,3,1) | R37: =MID('TABLA DE SUMINISTROS'!A11,4,1) | S37: =MID('TABLA DE SUMINISTROS'!A11,5,1) | T37: =MID('TABLA DE SUMINISTROS'!A11,6,1) | U37: =MID('TABLA DE SUMINISTROS'!A11,7,1) | V37: =MID('TABLA DE SUMINISTROS'!A11,8,1) | W37: =MID('TABLA DE SUMINISTROS'!A11,9,1) | X37: =MID('TABLA DE SUMINISTROS'!A11,10,1) | Y37: =MID('TABLA DE SUMINISTROS'!A11,11,1) | Z37: =MID('TABLA DE SUMINISTROS'!A11,12,1) | AA37: =MID('TABLA DE SUMINISTROS'!A11,13,1) | AB37: =MID('TABLA DE SUMINISTROS'!A11,14,1) | AC37: =MID('TABLA DE SUMINISTROS'!A11,15,1) | AD37: =MID('TABLA DE SUMINISTROS'!A11,16,1) | AE37: =MID('TABLA DE SUMINISTROS'!A11,17,1) | AF37: =MID('TABLA DE SUMINISTROS'!A11,18,1) | AG37: =MID('TABLA DE SUMINISTROS'!A11,19,1) | AH37: =MID('TABLA DE SUMINISTROS'!A11,20,1) | AI37: =MID('TABLA DE SUMINISTROS'!A11,21,1) | AJ37: =MID('TABLA DE SUMINISTROS'!A11,22,1)
A38: Tarifa acceso: | D38: =IF('TABLA DE SUMINISTROS'!J11="","",'TABLA DE SUMINISTROS'!J11) | G38: Potencia Contratada (kW): | M38: P1= | N38: =IF('TABLA DE SUMINISTROS'!K11="","",'TABLA DE SUMINISTROS'!K11) | Q38: P2= | R38: =IF('TABLA DE SUMINISTROS'!L11="","",'TABLA DE SUMINISTROS'!L11) | U38: P3= | V38: =IF('TABLA DE SUMINISTROS'!M11="","",'TABLA DE SUMINISTROS'!M11) | Y38: P4= | Z38: =IF('TABLA DE SUMINISTROS'!N11="","",'TABLA DE SUMINISTROS'!N11) | AC38: P5= | AD38: =IF('TABLA DE SUMINISTROS'!O11="","",'TABLA DE SUMINISTROS'!O11) | AG38: P6= | AH38: =IF('TABLA DE SUMINISTROS'!P11="","",'TABLA DE SUMINISTROS'!P11)
A39: Fecha de inicio solicitada*: | H39: =IF('TABLA DE SUMINISTROS'!Q11="","",'TABLA DE SUMINISTROS'!Q11)
A40: Contratar suministro eléctrico a: | I40: □ | K40: Precio Fijo | P40: □ | Q40: Precio Indexado
A42: Denominación social: | G42: =UPPER(CONCATENATE('TABLA DE SUMINISTROS'!R12,"")) | Z42: NIF: | AD42: =UPPER(CONCATENATE('TABLA DE SUMINISTROS'!S12,))
A43: Dirección: | D43: =UPPER(CONCATENATE('TABLA DE SUMINISTROS'!B12," ",'TABLA DE SUMINISTROS'!C12)) | Z43: Escalera / Piso / Puerta: | AF43: =UPPER('TABLA DE SUMINISTROS'!D12)
A44: Localidad: | D44: =UPPER('TABLA DE SUMINISTROS'!F12) | O44: Provincia: | R44: =UPPER('TABLA DE SUMINISTROS'!G12) | AB44: Código Postal: | AF44: =MID('TABLA DE SUMINISTROS'!E12,1,1) | AG44: =MID('TABLA DE SUMINISTROS'!E12,2,1) | AH44: =MID('TABLA DE SUMINISTROS'!E12,3,1) | AI44: =MID('TABLA DE SUMINISTROS'!E12,4,1) | AJ44: =MID('TABLA DE SUMINISTROS'!E12,5,1)
A45: Referencia catastral: | F45: =MID('TABLA DE SUMINISTROS'!I6,1,1) | G45: =MID('TABLA DE SUMINISTROS'!I6,2,1) | H45: =MID('TABLA DE SUMINISTROS'!I6,3,1) | I45: =MID('TABLA DE SUMINISTROS'!I6,4,1) | J45: =MID('TABLA DE SUMINISTROS'!I6,5,1) | K45: =MID('TABLA DE SUMINISTROS'!I6,6,1) | L45: =MID('TABLA DE SUMINISTROS'!I6,7,1) | M45: =MID('TABLA DE SUMINISTROS'!I6,8,1) | N45: =MID('TABLA DE SUMINISTROS'!I6,9,1) | O45: =MID('TABLA DE SUMINISTROS'!I6,10,1) | P45: =MID('TABLA DE SUMINISTROS'!I6,11,1) | Q45: =MID('TABLA DE SUMINISTROS'!I6,12,1) | R45: =MID('TABLA DE SUMINISTROS'!I6,13,1) | S45: =MID('TABLA DE SUMINISTROS'!I6,14,1) | T45: =MID('TABLA DE SUMINISTROS'!I6,15,1) | U45: =MID('TABLA DE SUMINISTROS'!I6,16,1) | V45: =MID('TABLA DE SUMINISTROS'!I6,17,1) | W45: =MID('TABLA DE SUMINISTROS'!I6,18,1) | X45: =MID('TABLA DE SUMINISTROS'!I6,19,1) | Y45: =MID('TABLA DE SUMINISTROS'!I6,20,1) | Z45: Código actividad CNAE: | AF45: =MID('TABLA DE SUMINISTROS'!H12,1,1) | AG45: =MID('TABLA DE SUMINISTROS'!H12,2,1) | AH45: =MID('TABLA DE SUMINISTROS'!H12,3,1) | AI45: =MID('TABLA DE SUMINISTROS'!H12,4,1) | AJ45: =MID('TABLA DE SUMINISTROS'!H12,5,1)
A46: Código Universal de punto de Suministro de Electricidad CUPS: | O46: =MID('TABLA DE SUMINISTROS'!A12,1,1) | P46: =MID('TABLA DE SUMINISTROS'!A12,2,1) | Q46: =MID('TABLA DE SUMINISTROS'!A12,3,1) | R46: =MID('TABLA DE SUMINISTROS'!A12,4,1) | S46: =MID('TABLA DE SUMINISTROS'!A12,5,1) | T46: =MID('TABLA DE SUMINISTROS'!A12,6,1) | U46: =MID('TABLA DE SUMINISTROS'!A12,7,1) | V46: =MID('TABLA DE SUMINISTROS'!A12,8,1) | W46: =MID('TABLA DE SUMINISTROS'!A12,9,1) | X46: =MID('TABLA DE SUMINISTROS'!A12,10,1) | Y46: =MID('TABLA DE SUMINISTROS'!A12,11,1) | Z46: =MID('TABLA DE SUMINISTROS'!A12,12,1) | AA46: =MID('TABLA DE SUMINISTROS'!A12,13,1) | AB46: =MID('TABLA DE SUMINISTROS'!A12,14,1) | AC46: =MID('TABLA DE SUMINISTROS'!A12,15,1) | AD46: =MID('TABLA DE SUMINISTROS'!A12,16,1) | AE46: =MID('TABLA DE SUMINISTROS'!A12,17,1) | AF46: =MID('TABLA DE SUMINISTROS'!A12,18,1) | AG46: =MID('TABLA DE SUMINISTROS'!A12,19,1) | AH46: =MID('TABLA DE SUMINISTROS'!A12,20,1) | AI46: =MID('TABLA DE SUMINISTROS'!A12,21,1) | AJ46: =MID('TABLA DE SUMINISTROS'!A12,22,1)
A47: Tarifa acceso: | D47: =IF('TABLA DE SUMINISTROS'!J12="","",'TABLA DE SUMINISTROS'!J12) | G47: Potencia Contratada (kW): | M47: P1= | N47: =IF('TABLA DE SUMINISTROS'!K12="","",'TABLA DE SUMINISTROS'!K12) | Q47: P2= | R47: =IF('TABLA DE SUMINISTROS'!L12="","",'TABLA DE SUMINISTROS'!L12) | U47: P3= | V47: =IF('TABLA DE SUMINISTROS'!M12="","",'TABLA DE SUMINISTROS'!M12) | Y47: P4= | Z47: =IF('TABLA DE SUMINISTROS'!N12="","",'TABLA DE SUMINISTROS'!N12) | AC47: P5= | AD47: =IF('TABLA DE SUMINISTROS'!O12="","",'TABLA DE SUMINISTROS'!O12) | AG47: P6= | AH47: =IF('TABLA DE SUMINISTROS'!P12="","",'TABLA DE SUMINISTROS'!P12)
A48: Fecha de inicio solicitada*: | H48: =IF('TABLA DE SUMINISTROS'!Q12="","",'TABLA DE SUMINISTROS'!Q12)
A49: Contratar suministro eléctrico a: | I49: □ | K49: Precio Fijo | P49: □ | Q49: Precio Indexado
A51: Denominación social: | G51: =UPPER(CONCATENATE('TABLA DE SUMINISTROS'!R13,"")) | Z51: NIF: | AD51: =UPPER(CONCATENATE('TABLA DE SUMINISTROS'!S13,))
A52: Dirección: | D52: =UPPER(CONCATENATE('TABLA DE SUMINISTROS'!B13," ",'TABLA DE SUMINISTROS'!C13)) | Z52: Escalera / Piso / Puerta: | AF52: =UPPER('TABLA DE SUMINISTROS'!D13)
A53: Localidad: | D53: =UPPER('TABLA DE SUMINISTROS'!F13) | O53: Provincia: | R53: =UPPER('TABLA DE SUMINISTROS'!G13) | AB53: Código Postal: | AF53: =MID('TABLA DE SUMINISTROS'!E13,1,1) | AG53: =MID('TABLA DE SUMINISTROS'!E13,2,1) | AH53: =MID('TABLA DE SUMINISTROS'!E13,3,1) | AI53: =MID('TABLA DE SUMINISTROS'!E13,4,1) | AJ53: =MID('TABLA DE SUMINISTROS'!E13,5,1)
A54: Referencia catastral: | F54: =MID('TABLA DE SUMINISTROS'!I7,1,1) | G54: =MID('TABLA DE SUMINISTROS'!I7,2,1) | H54: =MID('TABLA DE SUMINISTROS'!I7,3,1) | I54: =MID('TABLA DE SUMINISTROS'!I7,4,1) | J54: =MID('TABLA DE SUMINISTROS'!I7,5,1) | K54: =MID('TABLA DE SUMINISTROS'!I7,6,1) | L54: =MID('TABLA DE SUMINISTROS'!I7,7,1) | M54: =MID('TABLA DE SUMINISTROS'!I7,8,1) | N54: =MID('TABLA DE SUMINISTROS'!I7,9,1) | O54: =MID('TABLA DE SUMINISTROS'!I7,10,1) | P54: =MID('TABLA DE SUMINISTROS'!I7,11,1) | Q54: =MID('TABLA DE SUMINISTROS'!I7,12,1) | R54: =MID('TABLA DE SUMINISTROS'!I7,13,1) | S54: =MID('TABLA DE SUMINISTROS'!I7,14,1) | T54: =MID('TABLA DE SUMINISTROS'!I7,15,1) | U54: =MID('TABLA DE SUMINISTROS'!I7,16,1) | V54: =MID('TABLA DE SUMINISTROS'!I7,17,1) | W54: =MID('TABLA DE SUMINISTROS'!I7,18,1) | X54: =MID('TABLA DE SUMINISTROS'!I7,19,1) | Y54: =MID('TABLA DE SUMINISTROS'!I7,20,1) | Z54: Código actividad CNAE: | AF54: =MID('TABLA DE SUMINISTROS'!H13,1,1) | AG54: =MID('TABLA DE SUMINISTROS'!H13,2,1) | AH54: =MID('TABLA DE SUMINISTROS'!H13,3,1) | AI54: =MID('TABLA DE SUMINISTROS'!H13,4,1) | AJ54: =MID('TABLA DE SUMINISTROS'!H13,5,1)
A55: Código Universal de punto de Suministro de Electricidad CUPS: | O55: =MID('TABLA DE SUMINISTROS'!A13,1,1) | P55: =MID('TABLA DE SUMINISTROS'!A13,2,1) | Q55: =MID('TABLA DE SUMINISTROS'!A13,3,1) | R55: =MID('TABLA DE SUMINISTROS'!A13,4,1) | S55: =MID('TABLA DE SUMINISTROS'!A13,5,1) | T55: =MID('TABLA DE SUMINISTROS'!A13,6,1) | U55: =MID('TABLA DE SUMINISTROS'!A13,7,1) | V55: =MID('TABLA DE SUMINISTROS'!A13,8,1) | W55: =MID('TABLA DE SUMINISTROS'!A13,9,1) | X55: =MID('TABLA DE SUMINISTROS'!A13,10,1) | Y55: =MID('TABLA DE SUMINISTROS'!A13,11,1) | Z55: =MID('TABLA DE SUMINISTROS'!A13,12,1) | AA55: =MID('TABLA DE SUMINISTROS'!A13,13,1) | AB55: =MID('TABLA DE SUMINISTROS'!A13,14,1) | AC55: =MID('TABLA DE SUMINISTROS'!A13,15,1) | AD55: =MID('TABLA DE SUMINISTROS'!A13,16,1) | AE55: =MID('TABLA DE SUMINISTROS'!A13,17,1) | AF55: =MID('TABLA DE SUMINISTROS'!A13,18,1) | AG55: =MID('TABLA DE SUMINISTROS'!A13,19,1) | AH55: =MID('TABLA DE SUMINISTROS'!A13,20,1) | AI55: =MID('TABLA DE SUMINISTROS'!A13,21,1) | AJ55: =MID('TABLA DE SUMINISTROS'!A13,22,1)
A56: Tarifa acceso: | D56: =IF('TABLA DE SUMINISTROS'!J13="","",'TABLA DE SUMINISTROS'!J13) | G56: Potencia Contratada (kW): | M56: P1= | N56: =IF('TABLA DE SUMINISTROS'!K13="","",'TABLA DE SUMINISTROS'!K13) | Q56: P2= | R56: =IF('TABLA DE SUMINISTROS'!L13="","",'TABLA DE SUMINISTROS'!L13) | U56: P3= | V56: =IF('TABLA DE SUMINISTROS'!M13="","",'TABLA DE SUMINISTROS'!M13) | Y56: P4= | Z56: =IF('TABLA DE SUMINISTROS'!N13="","",'TABLA DE SUMINISTROS'!N13) | AC56: P5= | AD56: =IF('TABLA DE SUMINISTROS'!O13="","",'TABLA DE SUMINISTROS'!O13) | AG56: P6= | AH56: =IF('TABLA DE SUMINISTROS'!P13="","",'TABLA DE SUMINISTROS'!P13)
A57: Fecha de inicio solicitada*: | H57: =IF('TABLA DE SUMINISTROS'!Q13="","",'TABLA DE SUMINISTROS'!Q13)
A58: Contratar suministro eléctrico a: | I58: □ | K58: Precio Fijo | P58: □ | Q58: Precio Indexado
A60: *Esta fecha es orientativa y quedará sometida a la efectiva activación por parte de la Distribuidora, quedando Audax exonerada de toda responsabilidad para el caso no ejecución en la fecha prevista e independientemente de su motivo. Para Adx Classic la fecha de activación solicitada no podrá ser superior al plazo de dos (2) meses desde la fecha de firma de este Contrato.
A63: ACEPTACIÓN Y FIRMA
A64: El presente documento es un anexo a las Condiciones Particulares del Contrato Dual de Suministro y servicios adicionales. A los CUPS que se relacionan en el presente documento le serán de aplicación las condiciones Generales y Particulares contenidas en el Contrato que integra.
A67: p.p | L67: Por El Representante /Cliente: | R67: (Firma y sello)
N70: Lugar y fecha: | R70: En___________________________________________________________, a ______ de _____________________ de _________.
A72: ADX RENOVABLES, S.L. - N.I.F.: B72562051 Calle Electrónica, 19, 7C C.P. 08915-Badalona (Barcelona), Registro Mercantil de Barcelona, tomo 48712, folio 75, hoja B-B-593463

Sheet ANEXO SUMINISTROS 14 al 19
A4: Anexo de Puntos de Suministro Eléctrico
A5: CONTRATO DUAL DE SUMINISTRO Y SERVICIOS ADICIONALES
A6: Denominación social: | G6: =UPPER(CONCATENATE('TABLA DE SUMINISTROS'!R14,"")) | Z6: NIF: | AD6: =UPPER(CONCATENATE('TABLA DE SUMINISTROS'!S14,))
A7: Dirección: | D7: =UPPER(CONCATENATE('TABLA DE SUMINISTROS'!B14," ",'TABLA DE SUMINISTROS'!C14)) | Z7: Escalera / Piso / Puerta: | AF7: =UPPER('TABLA DE SUMINISTROS'!D14)
A8: Localidad: | D8: =UPPER('TABLA DE SUMINISTROS'!F14) | O8: Provincia: | R8: =UPPER('TABLA DE SUMINISTROS'!G14) | AB8: Código Postal: | AF8: =MID('TABLA DE SUMINISTROS'!E14,1,1) | AG8: =MID('TABLA DE SUMINISTROS'!E14,2,1) | AH8: =MID('TABLA DE SUMINISTROS'!E14,3,1) | AI8: =MID('TABLA DE SUMINISTROS'!E14,4,1) | AJ8: =MID('TABLA DE SUMINISTROS'!E14,5,1)
A9: Referencia catastral: | F9: =MID('TABLA DE SUMINISTROS'!I14,1,1) | G9: =MID('TABLA DE SUMINISTROS'!I14,2,1) | H9: =MID('TABLA DE SUMINISTROS'!I14,3,1) | I9: =MID('TABLA DE SUMINISTROS'!I8,4,1) | J9: =MID('TABLA DE SUMINISTROS'!I8,5,1) | K9: =MID('TABLA DE SUMINISTROS'!I8,6,1) | L9: =MID('TABLA DE SUMINISTROS'!I8,7,1) | M9: =MID('TABLA DE SUMINISTROS'!I8,8,1) | N9: =MID('TABLA DE SUMINISTROS'!I8,9,1) | O9: =MID('TABLA DE SUMINISTROS'!I8,10,1) | P9: =MID('TABLA DE SUMINISTROS'!I8,11,1) | Q9: =MID('TABLA DE SUMINISTROS'!I8,12,1) | R9: =MID('TABLA DE SUMINISTROS'!I8,13,1) | S9: =MID('TABLA DE SUMINISTROS'!I8,14,1) | T9: =MID('TABLA DE SUMINISTROS'!I8,15,1) | U9: =MID('TABLA DE SUMINISTROS'!I8,16,1) | V9: =MID('TABLA DE SUMINISTROS'!I8,17,1) | W9: =MID('TABLA DE SUMINISTROS'!I8,18,1) | X9: =MID('TABLA DE SUMINISTROS'!I8,19,1) | Y9: =MID('TABLA DE SUMINISTROS'!I8,20,1) | Z9: Código actividad CNAE: | AF9: =MID('TABLA DE SUMINISTROS'!H14,1,1) | AG9: =MID('TABLA DE SUMINISTROS'!H8,2,1) | AH9: =MID('TABLA DE SUMINISTROS'!H8,3,1) | AI9: =MID('TABLA DE SUMINISTROS'!H8,4,1) | AJ9: =MID('TABLA DE SUMINISTROS'!H8,5,1)
A10: Código Universal de punto de Suministro de Electricidad CUPS: | O10: =MID('TABLA DE SUMINISTROS'!A14,1,1) | P10: =MID('TABLA DE SUMINISTROS'!A14,2,1) | Q10: =MID('TABLA DE SUMINISTROS'!A14,3,1) | R10: =MID('TABLA DE SUMINISTROS'!A14,4,1) | S10: =MID('TABLA DE SUMINISTROS'!A14,5,1) | T10: =MID('TABLA DE SUMINISTROS'!A14,6,1) | U10: =MID('TABLA DE SUMINISTROS'!A14,7,1) | V10: =MID('TABLA DE SUMINISTROS'!A14,8,1) | W10: =MID('TABLA DE SUMINISTROS'!A14,9,1) | X10: =MID('TABLA DE SUMINISTROS'!A14,10,1) | Y10: =MID('TABLA DE SUMINISTROS'!A14,11,1) | Z10: =MID('TABLA DE SUMINISTROS'!A14,12,1) | AA10: =MID('TABLA DE SUMINISTROS'!A14,13,1) | AB10: =MID('TABLA DE SUMINISTROS'!A14,14,1) | AC10: =MID('TABLA DE SUMINISTROS'!A14,15,1) | AD10: =MID('TABLA DE SUMINISTROS'!A14,16,1) | AE10: =MID('TABLA DE SUMINISTROS'!A14,17,1) | AF10: =MID('TABLA DE SUMINISTROS'!A14,18,1) | AG10: =MID('TABLA DE SUMINISTROS'!A14,19,1) | AH10: =MID('TABLA DE SUMINISTROS'!A14,20,1) | AI10: =MID('TABLA DE SUMINISTROS'!A14,21,1) | AJ10: =MID('TABLA DE SUMINISTROS'!A14,22,1)
A11: Tarifa acceso: | D11: =IF('TABLA DE SUMINISTROS'!J14="","",'TABLA DE SUMINISTROS'!J14) | G11: Potencia Contratada (kW): | M11: P1= | N11: =IF('TABLA DE SUMINISTROS'!K14="","",'TABLA DE SUMINISTROS'!K14) | Q11: P2= | R11: =IF('TABLA DE SUMINISTROS'!L14="","",'TABLA DE SUMINISTROS'!L14) | U11: P3= | V11: =IF('TABLA DE SUMINISTROS'!M14="","",'TABLA DE SUMINISTROS'!M14) | Y11: P4= | Z11: =IF('TABLA DE SUMINISTROS'!N14="","",'TABLA DE SUMINISTROS'!N14) | AC11: P5= | AD11: =IF('TABLA DE SUMINISTROS'!O14="","",'TABLA DE SUMINISTROS'!O14) | AG11: P6= | AH11: =IF('TABLA DE SUMINISTROS'!P14="","",'TABLA DE SUMINISTROS'!P14)
A12: Fecha de inicio solicitada*: | H12: =IF('TABLA DE SUMINISTROS'!Q14="","",'TABLA DE SUMINISTROS'!Q14)
A13: Contratar suministro eléctrico a: | I13: □ | K13: Precio Fijo | P13: □ | Q13: Precio Indexado
A15: Denominación social: | G15: =UPPER(CONCATENATE('TABLA DE SUMINISTROS'!R15,"")) | Z15: NIF: | AD15: =UPPER(CONCATENATE('TABLA DE SUMINISTROS'!S15,))
A16: Dirección: | D16: =UPPER(CONCATENATE('TABLA DE SUMINISTROS'!B15," ",'TABLA DE SUMINISTROS'!C15)) | Z16: Escalera / Piso / Puerta: | AF16: =UPPER('TABLA DE SUMINISTROS'!D15)
A17: Localidad: | D17: =UPPER('TABLA DE SUMINISTROS'!F15) | O17: Provincia: | R17: =UPPER('TABLA DE SUMINISTROS'!G15) | AB17: Código Postal: | AF17: =MID('TABLA DE SUMINISTROS'!E15,1,1) | AG17: =MID('TABLA DE SUMINISTROS'!E15,2,1) | AH17: =MID('TABLA DE SUMINISTROS'!E15,3,1) | AI17: =MID('TABLA DE SUMINISTROS'!E15,4,1) | AJ17: =MID('TABLA DE SUMINISTROS'!E15,5,1)
A18: Referencia catastral: | F18: =MID('TABLA DE SUMINISTROS'!I9,1,1) | G18: =MID('TABLA DE SUMINISTROS'!I9,2,1) | H18: =MID('TABLA DE SUMINISTROS'!I9,3,1) | I18: =MID('TABLA DE SUMINISTROS'!I9,4,1) | J18: =MID('TABLA DE SUMINISTROS'!I9,5,1) | K18: =MID('TABLA DE SUMINISTROS'!I9,6,1) | L18: =MID('TABLA DE SUMINISTROS'!I9,7,1) | M18: =MID('TABLA DE SUMINISTROS'!I9,8,1) | N18: =MID('TABLA DE SUMINISTROS'!I9,9,1) | O18: =MID('TABLA DE SUMINISTROS'!I9,10,1) | P18: =MID('TABLA DE SUMINISTROS'!I9,11,1) | Q18: =MID('TABLA DE SUMINISTROS'!I9,12,1) | R18: =MID('TABLA DE SUMINISTROS'!I9,13,1) | S18: =MID('TABLA DE SUMINISTROS'!I9,14,1) | T18: =MID('TABLA DE SUMINISTROS'!I9,15,1) | U18: =MID('TABLA DE SUMINISTROS'!I9,16,1) | V18: =MID('TABLA DE SUMINISTROS'!I9,17,1) | W18: =MID('TABLA DE SUMINISTROS'!I9,18,1) | X18: =MID('TABLA DE SUMINISTROS'!I9,19,1) | Y18: =MID('TABLA DE SUMINISTROS'!I9,20,1) | Z18: Código actividad CNAE: | AF18: =MID('TABLA DE SUMINISTROS'!H9,1,1) | AG18: =MID('TABLA DE SUMINISTROS'!H9,2,1) | AH18: =MID('TABLA DE SUMINISTROS'!H9,3,1) | AI18: =MID('TABLA DE SUMINISTROS'!H9,4,1) | AJ18: =MID('TABLA DE SUMINISTROS'!H9,5,1)
A19: Código Universal de punto de Suministro de Electricidad CUPS: | O19: =MID('TABLA DE SUMINISTROS'!A15,1,1) | P19: =MID('TABLA DE SUMINISTROS'!A15,2,1) | Q19: =MID('TABLA DE SUMINISTROS'!A15,3,1) | R19: =MID('TABLA DE SUMINISTROS'!A15,4,1) | S19: =MID('TABLA DE SUMINISTROS'!A15,5,1) | T19: =MID('TABLA DE SUMINISTROS'!A15,6,1) | U19: =MID('TABLA DE SUMINISTROS'!A15,7,1) | V19: =MID('TABLA DE SUMINISTROS'!A15,8,1) | W19: =MID('TABLA DE SUMINISTROS'!A15,9,1) | X19: =MID('TABLA DE SUMINISTROS'!A15,10,1) | Y19: =MID('TABLA DE SUMINISTROS'!A15,11,1) | Z19: =MID('TABLA DE SUMINISTROS'!A15,12,1) | AA19: =MID('TABLA DE SUMINISTROS'!A15,13,1) | AB19: =MID('TABLA DE SUMINISTROS'!A15,14,1) | AC19: =MID('TABLA DE SUMINISTROS'!A15,15,1) | AD19: =MID('TABLA DE SUMINISTROS'!A15,16,1) | AE19: =MID('TABLA DE SUMINISTROS'!A15,17,1) | AF19: =MID('TABLA DE SUMINISTROS'!A15,18,1) | AG19: =MID('TABLA DE SUMINISTROS'!A15,19,1) | AH19: =MID('TABLA DE SUMINISTROS'!A15,20,1) | AI19: =MID('TABLA DE SUMINISTROS'!A15,21,1) | AJ19: =MID('TABLA DE SUMINISTROS'!A15,22,1)
A20: Tarifa acceso: | D20: =IF('TABLA DE SUMINISTROS'!J15="","",'TABLA DE SUMINISTROS'!J15) | G20: Potencia Contratada (kW): | M20: P1= | N20: =IF('TABLA DE SUMINISTROS'!K15="","",'TABLA DE SUMINISTROS'!K15) | Q20: P2= | R20: =IF('TABLA DE SUMINISTROS'!L15="","",'TABLA DE SUMINISTROS'!L15) | U20: P3= | V20: =IF('TABLA DE SUMINISTROS'!M15="","",'TABLA DE SUMINISTROS'!M15) | Y20: P4= | Z20: =IF('TABLA DE SUMINISTROS'!N15="","",'TABLA DE SUMINISTROS'!N15) | AC20: P5= | AD20: =IF('TABLA DE SUMINISTROS'!O15="","",'TABLA DE SUMINISTROS'!O15) | AG20: P6= | AH20: =IF('TABLA DE SUMINISTROS'!P15="","",'TABLA DE SUMINISTROS'!P15)
A21: Fecha de inicio solicitada*: | H21: =IF('TABLA DE SUMINISTROS'!Q15="","",'TABLA DE SUMINISTROS'!Q15)
A22: Contratar suministro eléctrico a: | I22: □ | K22: Precio Fijo | P22: □ | Q22: Precio Indexado
A24: Denominación social: | G24: =UPPER(CONCATENATE('TABLA DE SUMINISTROS'!R16,"")) | Z24: NIF: | AD24: =UPPER(CONCATENATE('TABLA DE SUMINISTROS'!S16,))
A25: Dirección: | D25: =UPPER(CONCATENATE('TABLA DE SUMINISTROS'!B16," ",'TABLA DE SUMINISTROS'!C16)) | Z25: Escalera / Piso / Puerta: | AF25: =UPPER('TABLA DE SUMINISTROS'!D16)
A26: Localidad: | D26: =UPPER('TABLA DE SUMINISTROS'!F16) | O26: Provincia: | R26: =UPPER('TABLA DE SUMINISTROS'!G16) | AB26: Código Postal: | AF26: =MID('TABLA DE SUMINISTROS'!E16,1,1) | AG26: =MID('TABLA DE SUMINISTROS'!E16,2,1) | AH26: =MID('TABLA DE SUMINISTROS'!E16,3,1) | AI26: =MID('TABLA DE SUMINISTROS'!E16,4,1) | AJ26: =MID('TABLA DE SUMINISTROS'!E16,5,1)
A27: Referencia catastral: | F27: =MID('TABLA DE SUMINISTROS'!I10,1,1) | G27: =MID('TABLA DE SUMINISTROS'!I10,2,1) | H27: =MID('TABLA DE SUMINISTROS'!I10,3,1) | I27: =MID('TABLA DE SUMINISTROS'!I10,4,1) | J27: =MID('TABLA DE SUMINISTROS'!I10,5,1) | K27: =MID('TABLA DE SUMINISTROS'!I10,6,1) | L27: =MID('TABLA DE SUMINISTROS'!I10,7,1) | M27: =MID('TABLA DE SUMINISTROS'!I10,8,1) | N27: =MID('TABLA DE SUMINISTROS'!I10,9,1) | O27: =MID('TABLA DE SUMINISTROS'!I10,10,1) | P27: =MID('TABLA DE SUMINISTROS'!I10,11,1) | Q27: =MID('TABLA DE SUMINISTROS'!I10,12,1) | R27: =MID('TABLA DE SUMINISTROS'!I10,13,1) | S27: =MID('TABLA DE SUMINISTROS'!I10,14,1) | T27: =MID('TABLA DE SUMINISTROS'!I10,15,1) | U27: =MID('TABLA DE SUMINISTROS'!I10,16,1) | V27: =MID('TABLA DE SUMINISTROS'!I10,17,1) | W27: =MID('TABLA DE SUMINISTROS'!I10,18,1) | X27: =MID('TABLA DE SUMINISTROS'!I10,19,1) | Y27: =MID('TABLA DE SUMINISTROS'!I10,20,1) | Z27: Código actividad CNAE: | AF27: =MID('TABLA DE SUMINISTROS'!H10,1,1) | AG27: =MID('TABLA DE SUMINISTROS'!H10,2,1) | AH27: =MID('TABLA DE SUMINISTROS'!H10,3,1) | AI27: =MID('TABLA DE SUMINISTROS'!H10,4,1) | AJ27: =MID('TABLA DE SUMINISTROS'!H10,5,1)
A28: Código Universal de punto de Suministro de Electricidad CUPS: | O28: =MID('TABLA DE SUMINISTROS'!A16,1,1) | P28: =MID('TABLA DE SUMINISTROS'!A16,2,1) | Q28: =MID('TABLA DE SUMINISTROS'!A16,3,1) | R28: =MID('TABLA DE SUMINISTROS'!A16,4,1) | S28: =MID('TABLA DE SUMINISTROS'!A16,5,1) | T28: =MID('TABLA DE SUMINISTROS'!A16,6,1) | U28: =MID('TABLA DE SUMINISTROS'!A16,7,1) | V28: =MID('TABLA DE SUMINISTROS'!A16,8,1) | W28: =MID('TABLA DE SUMINISTROS'!A16,9,1) | X28: =MID('TABLA DE SUMINISTROS'!A16,10,1) | Y28: =MID('TABLA DE SUMINISTROS'!A16,11,1) | Z28: =MID('TABLA DE SUMINISTROS'!A16,12,1) | AA28: =MID('TABLA DE SUMINISTROS'!A16,13,1) | AB28: =MID('TABLA DE SUMINISTROS'!A16,14,1) | AC28: =MID('TABLA DE SUMINISTROS'!A16,15,1) | AD28: =MID('TABLA DE SUMINISTROS'!A16,16,1) | AE28: =MID('TABLA DE SUMINISTROS'!A16,17,1) | AF28: =MID('TABLA DE SUMINISTROS'!A16,18,1) | AG28: =MID('TABLA DE SUMINISTROS'!A16,19,1) | AH28: =MID('TABLA DE SUMINISTROS'!A16,20,1) | AI28: =MID('TABLA DE SUMINISTROS'!SA16,21,1) | AJ28: =MID('TABLA DE SUMINISTROS'!A16,22,1)
A29: Tarifa acceso: | D29: =IF('TABLA DE SUMINISTROS'!J16="","",'TABLA DE SUMINISTROS'!J16) | G29: Potencia Contratada (kW): | M29: P1= | N29: =IF('TABLA DE SUMINISTROS'!K16="","",'TABLA DE SUMINISTROS'!K16) | Q29: P2= | R29: =IF('TABLA DE SUMINISTROS'!L16="","",'TABLA DE SUMINISTROS'!L16) | U29: P3= | V29: =IF('TABLA DE SUMINISTROS'!M16="","",'TABLA DE SUMINISTROS'!M16) | Y29: P4= | Z29: =IF('TABLA DE SUMINISTROS'!N16="","",'TABLA DE SUMINISTROS'!N16) | AC29: P5= | AD29: =IF('TABLA DE SUMINISTROS'!O16="","",'TABLA DE SUMINISTROS'!O16) | AG29: P6= | AH29: =IF('TABLA DE SUMINISTROS'!P16="","",'TABLA DE SUMINISTROS'!P16)
A30: Fecha de inicio solicitada*: | H30: =IF('TABLA DE SUMINISTROS'!Q16="","",'TABLA DE SUMINISTROS'!Q16)
A31: Contratar suministro eléctrico a: | I31: □ | K31: Precio Fijo | P31: □ | Q31: Precio Indexado
A33: Denominación social: | G33: =UPPER(CONCATENATE('TABLA DE SUMINISTROS'!R17,"")) | Z33: NIF: | AD33: =UPPER(CONCATENATE('TABLA DE SUMINISTROS'!S17,))
A34: Dirección: | D34: =UPPER(CONCATENATE('TABLA DE SUMINISTROS'!B17," ",'TABLA DE SUMINISTROS'!C17)) | Z34: Escalera / Piso / Puerta: | AF34: =UPPER('TABLA DE SUMINISTROS'!D17)
A35: Localidad: | D35: =UPPER('TABLA DE SUMINISTROS'!F17) | O35: Provincia: | R35: =UPPER('TABLA DE SUMINISTROS'!G17) | AB35: Código Postal: | AF35: =MID('TABLA DE SUMINISTROS'!E17,1,1) | AG35: =MID('TABLA DE SUMINISTROS'!E17,2,1) | AH35: =MID('TABLA DE SUMINISTROS'!E17,3,1) | AI35: =MID('TABLA DE SUMINISTROS'!E17,4,1) | AJ35: =MID('TABLA DE SUMINISTROS'!E17,5,1)
A36: Referencia catastral: | F36: =MID('TABLA DE SUMINISTROS'!I11,1,1) | G36: =MID('TABLA DE SUMINISTROS'!I11,2,1) | H36: =MID('TABLA DE SUMINISTROS'!I11,3,1) | I36: =MID('TABLA DE SUMINISTROS'!I11,4,1) | J36: =MID('TABLA DE SUMINISTROS'!I11,5,1) | K36: =MID('TABLA DE SUMINISTROS'!I11,6,1) | L36: =MID('TABLA DE SUMINISTROS'!I11,7,1) | M36: =MID('TABLA DE SUMINISTROS'!I11,8,1) | N36: =MID('TABLA DE SUMINISTROS'!I11,9,1) | O36: =MID('TABLA DE SUMINISTROS'!I11,10,1) | P36: =MID('TABLA DE SUMINISTROS'!I11,11,1) | Q36: =MID('TABLA DE SUMINISTROS'!I11,12,1) | R36: =MID('TABLA DE SUMINISTROS'!I11,13,1) | S36: =MID('TABLA DE SUMINISTROS'!I11,14,1) | T36: =MID('TABLA DE SUMINISTROS'!I11,15,1) | U36: =MID('TABLA DE SUMINISTROS'!I11,16,1) | V36: =MID('TABLA DE SUMINISTROS'!I11,17,1) | W36: =MID('TABLA DE SUMINISTROS'!I11,18,1) | X36: =MID('TABLA DE SUMINISTROS'!I11,19,1) | Y36: =MID('TABLA DE SUMINISTROS'!I11,20,1) | Z36: Código actividad CNAE: | AF36: =MID('TABLA DE SUMINISTROS'!H11,1,1) | AG36: =MID('TABLA DE SUMINISTROS'!H11,2,1) | AH36: =MID('TABLA DE SUMINISTROS'!H11,3,1) | AI36: =MID('TABLA DE SUMINISTROS'!H11,4,1) | AJ36: =MID('TABLA DE SUMINISTROS'!H11,5,1)
A37: Código Universal de punto de Suministro de Electricidad CUPS: | O37: =MID('TABLA DE SUMINISTROS'!A17,1,1) | P37: =MID('TABLA DE SUMINISTROS'!A17,2,1) | Q37: =MID('TABLA DE SUMINISTROS'!A17,3,1) | R37: =MID('TABLA DE SUMINISTROS'!A17,4,1) | S37: =MID('TABLA DE SUMINISTROS'!A17,5,1) | T37: =MID('TABLA DE SUMINISTROS'!A17,6,1) | U37: =MID('TABLA DE SUMINISTROS'!A17,7,1) | V37: =MID('TABLA DE SUMINISTROS'!A17,8,1) | W37: =MID('TABLA DE SUMINISTROS'!A17,9,1) | X37: =MID('TABLA DE SUMINISTROS'!A17,10,1) | Y37: =MID('TABLA DE SUMINISTROS'!A17,11,1) | Z37: =MID('TABLA DE SUMINISTROS'!A17,12,1) | AA37: =MID('TABLA DE SUMINISTROS'!A17,13,1) | AB37: =MID('TABLA DE SUMINISTROS'!A17,14,1) | AC37: =MID('TABLA DE SUMINISTROS'!A17,15,1) | AD37: =MID('TABLA DE SUMINISTROS'!A17,16,1) | AE37: =MID('TABLA DE SUMINISTROS'!A17,17,1) | AF37: =MID('TABLA DE SUMINISTROS'!A17,18,1) | AG37: =MID('TABLA DE SUMINISTROS'!A17,19,1) | AH37: =MID('TABLA DE SUMINISTROS'!A17,20,1) | AI37: =MID('TABLA DE SUMINISTROS'!A17,21,1) | AJ37: =MID('TABLA DE SUMINISTROS'!A17,22,1)
A38: Tarifa acceso: | D38: =IF('TABLA DE SUMINISTROS'!J17="","",'TABLA DE SUMINISTROS'!J17) | G38: Potencia Contratada (kW): | M38: P1= | N38: =IF('TABLA DE SUMINISTROS'!K17="","",'TABLA DE SUMINISTROS'!K17) | Q38: P2= | R38: =IF('TABLA DE SUMINISTROS'!L17="","",'TABLA DE SUMINISTROS'!L17) | U38: P3= | V38: =IF('TABLA DE SUMINISTROS'!M17="","",'TABLA DE SUMINISTROS'!M17) | Y38: P4= | Z38: =IF('TABLA DE SUMINISTROS'!N17="","",'TABLA DE SUMINISTROS'!N17) | AC38: P5= | AD38: =IF('TABLA DE SUMINISTROS'!O17="","",'TABLA DE SUMINISTROS'!O17) | AG38: P6= | AH38: =IF('TABLA DE SUMINISTROS'!P17="","",'TABLA DE SUMINISTROS'!P17)
A39: Fecha de inicio solicitada*: | H39: =IF('TABLA DE SUMINISTROS'!Q17="","",'TABLA DE SUMINISTROS'!Q17)
A40: Contratar suministro eléctrico a: | I40: □ | K40: Precio Fijo | P40: □ | Q40: Precio Indexado
A42: Denominación social: | G42: =UPPER(CONCATENATE('TABLA DE SUMINISTROS'!R18,"")) | Z42: NIF: | AD42: =UPPER(CONCATENATE('TABLA DE SUMINISTROS'!S18,))
A43: Dirección: | D43: =UPPER(CONCATENATE('TABLA DE SUMINISTROS'!B18," ",'TABLA DE SUMINISTROS'!C18)) | Z43: Escalera / Piso / Puerta: | AF43: =UPPER('TABLA DE SUMINISTROS'!D18)
A44: Localidad: | D44: =UPPER('TABLA DE SUMINISTROS'!F18) | O44: Provincia: | R44: =UPPER('TABLA DE SUMINISTROS'!G18) | AB44: Código Postal: | AF44: =MID('TABLA DE SUMINISTROS'!E18,1,1) | AG44: =MID('TABLA DE SUMINISTROS'!E18,2,1) | AH44: =MID('TABLA DE SUMINISTROS'!E18,3,1) | AI44: =MID('TABLA DE SUMINISTROS'!E18,4,1) | AJ44: =MID('TABLA DE SUMINISTROS'!E18,5,1)
A45: Referencia catastral: | F45: =MID('TABLA DE SUMINISTROS'!I6,1,1) | G45: =MID('TABLA DE SUMINISTROS'!I6,2,1) | H45: =MID('TABLA DE SUMINISTROS'!I6,3,1) | I45: =MID('TABLA DE SUMINISTROS'!I6,4,1) | J45: =MID('TABLA DE SUMINISTROS'!I6,5,1) | K45: =MID('TABLA DE SUMINISTROS'!I6,6,1) | L45: =MID('TABLA DE SUMINISTROS'!I6,7,1) | M45: =MID('TABLA DE SUMINISTROS'!I6,8,1) | N45: =MID('TABLA DE SUMINISTROS'!I6,9,1) | O45: =MID('TABLA DE SUMINISTROS'!I6,10,1) | P45: =MID('TABLA DE SUMINISTROS'!I6,11,1) | Q45: =MID('TABLA DE SUMINISTROS'!I6,12,1) | R45: =MID('TABLA DE SUMINISTROS'!I6,13,1) | S45: =MID('TABLA DE SUMINISTROS'!I6,14,1) | T45: =MID('TABLA DE SUMINISTROS'!I6,15,1) | U45: =MID('TABLA DE SUMINISTROS'!I6,16,1) | V45: =MID('TABLA DE SUMINISTROS'!I6,17,1) | W45: =MID('TABLA DE SUMINISTROS'!I6,18,1) | X45: =MID('TABLA DE SUMINISTROS'!I6,19,1) | Y45: =MID('TABLA DE SUMINISTROS'!I6,20,1) | Z45: Código actividad CNAE: | AF45: =MID('TABLA DE SUMINISTROS'!H12,1,1) | AG45: =MID('TABLA DE SUMINISTROS'!H12,2,1) | AH45: =MID('TABLA DE SUMINISTROS'!H12,3,1) | AI45: =MID('TABLA DE SUMINISTROS'!H12,4,1) | AJ45: =MID('TABLA DE SUMINISTROS'!H12,5,1)
A46: Código Universal de punto de Suministro de Electricidad CUPS: | O46: =MID('TABLA DE SUMINISTROS'!A18,1,1) | P46: =MID('TABLA DE SUMINISTROS'!A18,2,1) | Q46: =MID('TABLA DE SUMINISTROS'!A18,3,1) | R46: =MID('TABLA DE SUMINISTROS'!A18,4,1) | S46: =MID('TABLA DE SUMINISTROS'!A18,5,1) | T46: =MID('TABLA DE SUMINISTROS'!A18,6,1) | U46: =MID('TABLA DE SUMINISTROS'!A18,7,1) | V46: =MID('TABLA DE SUMINISTROS'!A18,8,1) | W46: =MID('TABLA DE SUMINISTROS'!A18,9,1) | X46: =MID('TABLA DE SUMINISTROS'!A18,10,1) | Y46: =MID('TABLA DE SUMINISTROS'!A18,11,1) | Z46: =MID('TABLA DE SUMINISTROS'!A18,12,1) | AA46: =MID('TABLA DE SUMINISTROS'!A18,13,1) | AB46: =MID('TABLA DE SUMINISTROS'!A18,14,1) | AC46: =MID('TABLA DE SUMINISTROS'!A18,15,1) | AD46: =MID('TABLA DE SUMINISTROS'!A18,16,1) | AE46: =MID('TABLA DE SUMINISTROS'!A18,17,1) | AF46: =MID('TABLA DE SUMINISTROS'!A18,18,1) | AG46: =MID('TABLA DE SUMINISTROS'!A18,19,1) | AH46: =MID('TABLA DE SUMINISTROS'!A18,20,1) | AI46: =MID('TABLA DE SUMINISTROS'!A18,21,1) | AJ46: =MID('TABLA DE SUMINISTROS'!A18,22,1)
A47: Tarifa acceso: | D47: =IF('TABLA DE SUMINISTROS'!J18="","",'TABLA DE SUMINISTROS'!J18) | G47: Potencia Contratada (kW): | M47: P1= | N47: =IF('TABLA DE SUMINISTROS'!K18="","",'TABLA DE SUMINISTROS'!K18) | Q47: P2= | R47: =IF('TABLA DE SUMINISTROS'!L18="","",'TABLA DE SUMINISTROS'!L18) | U47: P3= | V47: =IF('TABLA DE SUMINISTROS'!M18="","",'TABLA DE SUMINISTROS'!M18) | Y47: P4= | Z47: =IF('TABLA DE SUMINISTROS'!N18="","",'TABLA DE SUMINISTROS'!N18) | AC47: P5= | AD47: =IF('TABLA DE SUMINISTROS'!O18="","",'TABLA DE SUMINISTROS'!O18) | AG47: P6= | AH47: =IF('TABLA DE SUMINISTROS'!P18="","",'TABLA DE SUMINISTROS'!P18)
A48: Fecha de inicio solicitada*: | H48: =IF('TABLA DE SUMINISTROS'!Q18="","",'TABLA DE SUMINISTROS'!Q18)
A49: Contratar suministro eléctrico a: | I49: □ | K49: Precio Fijo | P49: □ | Q49: Precio Indexado
A51: Denominación social: | G51: =UPPER(CONCATENATE('TABLA DE SUMINISTROS'!R19,"")) | Z51: NIF: | AD51: =UPPER(CONCATENATE('TABLA DE SUMINISTROS'!S19,))
A52: Dirección: | D52: =UPPER(CONCATENATE('TABLA DE SUMINISTROS'!B19," ",'TABLA DE SUMINISTROS'!C19)) | Z52: Escalera / Piso / Puerta: | AF52: =UPPER('TABLA DE SUMINISTROS'!D19)
A53: Localidad: | D53: =UPPER('TABLA DE SUMINISTROS'!F19) | O53: Provincia: | R53: =UPPER('TABLA DE SUMINISTROS'!G19) | AB53: Código Postal: | AF53: =MID('TABLA DE SUMINISTROS'!E19,1,1) | AG53: =MID('TABLA DE SUMINISTROS'!E19,2,1) | AH53: =MID('TABLA DE SUMINISTROS'!E19,3,1) | AI53: =MID('TABLA DE SUMINISTROS'!E19,4,1) | AJ53: =MID('TABLA DE SUMINISTROS'!E19,5,1)
A54: Referencia catastral: | F54: =MID('TABLA DE SUMINISTROS'!I7,1,1) | G54: =MID('TABLA DE SUMINISTROS'!I7,2,1) | H54: =MID('TABLA DE SUMINISTROS'!I7,3,1) | I54: =MID('TABLA DE SUMINISTROS'!I7,4,1) | J54: =MID('TABLA DE SUMINISTROS'!I7,5,1) | K54: =MID('TABLA DE SUMINISTROS'!I7,6,1) | L54: =MID('TABLA DE SUMINISTROS'!I7,7,1) | M54: =MID('TABLA DE SUMINISTROS'!I7,8,1) | N54: =MID('TABLA DE SUMINISTROS'!I7,9,1) | O54: =MID('TABLA DE SUMINISTROS'!I7,10,1) | P54: =MID('TABLA DE SUMINISTROS'!I7,11,1) | Q54: =MID('TABLA DE SUMINISTROS'!I7,12,1) | R54: =MID('TABLA DE SUMINISTROS'!I7,13,1) | S54: =MID('TABLA DE SUMINISTROS'!I7,14,1) | T54: =MID('TABLA DE SUMINISTROS'!I7,15,1) | U54: =MID('TABLA DE SUMINISTROS'!I7,16,1) | V54: =MID('TABLA DE SUMINISTROS'!I7,17,1) | W54: =MID('TABLA DE SUMINISTROS'!I7,18,1) | X54: =MID('TABLA DE SUMINISTROS'!I7,19,1) | Y54: =MID('TABLA DE SUMINISTROS'!I7,20,1) | Z54: Código actividad CNAE: | AF54: =MID('TABLA DE SUMINISTROS'!H13,1,1) | AG54: =MID('TABLA DE SUMINISTROS'!H13,2,1) | AH54: =MID('TABLA DE SUMINISTROS'!H13,3,1) | AI54: =MID('TABLA DE SUMINISTROS'!H13,4,1) | AJ54: =MID('TABLA DE SUMINISTROS'!H13,5,1)
A55: Código Universal de punto de Suministro de Electricidad CUPS: | O55: =MID('TABLA DE SUMINISTROS'!A19,1,1) | P55: =MID('TABLA DE SUMINISTROS'!A19,2,1) | Q55: =MID('TABLA DE SUMINISTROS'!A19,3,1) | R55: =MID('TABLA DE SUMINISTROS'!A19,4,1) | S55: =MID('TABLA DE SUMINISTROS'!A19,5,1) | T55: =MID('TABLA DE SUMINISTROS'!A19,6,1) | U55: =MID('TABLA DE SUMINISTROS'!A19,7,1) | V55: =MID('TABLA DE SUMINISTROS'!A19,8,1) | W55: =MID('TABLA DE SUMINISTROS'!A19,9,1) | X55: =MID('TABLA DE SUMINISTROS'!A19,10,1) | Y55: =MID('TABLA DE SUMINISTROS'!A19,11,1) | Z55: =MID('TABLA DE SUMINISTROS'!A19,12,1) | AA55: =MID('TABLA DE SUMINISTROS'!A19,13,1) | AB55: =MID('TABLA DE SUMINISTROS'!A19,14,1) | AC55: =MID('TABLA DE SUMINISTROS'!A19,15,1) | AD55: =MID('TABLA DE SUMINISTROS'!A19,16,1) | AE55: =MID('TABLA DE SUMINISTROS'!A19,17,1) | AF55: =MID('TABLA DE SUMINISTROS'!A19,18,1) | AG55: =MID('TABLA DE SUMINISTROS'!A19,19,1) | AH55: =MID('TABLA DE SUMINISTROS'!A19,20,1) | AI55: =MID('TABLA DE SUMINISTROS'!A19,21,1) | AJ55: =MID('TABLA DE SUMINISTROS'!A19,22,1)
A56: Tarifa acceso: | D56: =IF('TABLA DE SUMINISTROS'!J19="","",'TABLA DE SUMINISTROS'!J19) | G56: Potencia Contratada (kW): | M56: P1= | N56: =IF('TABLA DE SUMINISTROS'!K19="","",'TABLA DE SUMINISTROS'!K19) | Q56: P2= | R56: =IF('TABLA DE SUMINISTROS'!L19="","",'TABLA DE SUMINISTROS'!L19) | U56: P3= | V56: =IF('TABLA DE SUMINISTROS'!M19="","",'TABLA DE SUMINISTROS'!M19) | Y56: P4= | Z56: =IF('TABLA DE SUMINISTROS'!N19="","",'TABLA DE SUMINISTROS'!N19) | AC56: P5= | AD56: =IF('TABLA DE SUMINISTROS'!O19="","",'TABLA DE SUMINISTROS'!O19) | AG56: P6= | AH56: =IF('TABLA DE SUMINISTROS'!P19="","",'TABLA DE SUMINISTROS'!P19)
A57: Fecha de inicio solicitada*: | H57: =IF('TABLA DE SUMINISTROS'!Q19="","",'TABLA DE SUMINISTROS'!Q19)
A58: Contratar suministro eléctrico a: | I58: □ | K58: Precio Fijo | P58: □ | Q58: Precio Indexado
A60: *Esta fecha es orientativa y quedará sometida a la efectiva activación por parte de la Distribuidora, quedando Audax exonerada de toda responsabilidad para el caso no ejecución en la fecha prevista e independientemente de su motivo. Para Adx Classic la fecha de activación solicitada no podrá ser superior al plazo de dos (2) meses desde la fecha de firma de este Contrato.
A63: ACEPTACIÓN Y FIRMA
A64: El presente documento es un anexo a las Condiciones Particulares del Contrato Dual de Suministro y servicios adicionales. A los CUPS que se relacionan en el presente documento le serán de aplicación las condiciones Generales y Particulares contenidas en el Contrato que integra.
A67: p.p | L67: Por El Representante /Cliente: | R67: (Firma y sello)
N70: Lugar y fecha: | R70: En___________________________________________________________, a ______ de _____________________ de _________.
A72: ADX RENOVABLES, S.L. - N.I.F.: B72562051 Calle Electrónica, 19, 7C C.P. 08915-Badalona (Barcelona), Registro Mercantil de Barcelona, tomo 48712, folio 75, hoja B-B-593463

Sheet ANEXO SUMINISTROS 20 al 25
A4: Anexo de Puntos de Suministro Eléctrico
A5: CONTRATO DUAL DE SUMINISTRO Y SERVICIOS ADICIONALES
A6: Denominación social: | G6: =UPPER(CONCATENATE('TABLA DE SUMINISTROS'!R20,"")) | Z6: NIF: | AD6: =UPPER(CONCATENATE('TABLA DE SUMINISTROS'!S20,))
A7: Dirección: | D7: =UPPER(CONCATENATE('TABLA DE SUMINISTROS'!B20," ",'TABLA DE SUMINISTROS'!C20)) | Z7: Escalera / Piso / Puerta: | AF7: =UPPER('TABLA DE SUMINISTROS'!D20)
A8: Localidad: | D8: =UPPER('TABLA DE SUMINISTROS'!F20) | O8: Provincia: | R8: =UPPER('TABLA DE SUMINISTROS'!G20) | AB8: Código Postal: | AF8: =MID('TABLA DE SUMINISTROS'!E20,1,1) | AG8: =MID('TABLA DE SUMINISTROS'!E20,2,1) | AH8: =MID('TABLA DE SUMINISTROS'!E20,3,1) | AI8: =MID('TABLA DE SUMINISTROS'!E20,4,1) | AJ8: =MID('TABLA DE SUMINISTROS'!E20,5,1)
A9: Referencia catastral: | F9: =MID('TABLA DE SUMINISTROS'!I14,1,1) | G9: =MID('TABLA DE SUMINISTROS'!I14,2,1) | H9: =MID('TABLA DE SUMINISTROS'!I14,3,1) | I9: =MID('TABLA DE SUMINISTROS'!I8,4,1) | J9: =MID('TABLA DE SUMINISTROS'!I8,5,1) | K9: =MID('TABLA DE SUMINISTROS'!I8,6,1) | L9: =MID('TABLA DE SUMINISTROS'!I8,7,1) | M9: =MID('TABLA DE SUMINISTROS'!I8,8,1) | N9: =MID('TABLA DE SUMINISTROS'!I8,9,1) | O9: =MID('TABLA DE SUMINISTROS'!I8,10,1) | P9: =MID('TABLA DE SUMINISTROS'!I8,11,1) | Q9: =MID('TABLA DE SUMINISTROS'!I8,12,1) | R9: =MID('TABLA DE SUMINISTROS'!I8,13,1) | S9: =MID('TABLA DE SUMINISTROS'!I8,14,1) | T9: =MID('TABLA DE SUMINISTROS'!I8,15,1) | U9: =MID('TABLA DE SUMINISTROS'!I8,16,1) | V9: =MID('TABLA DE SUMINISTROS'!I8,17,1) | W9: =MID('TABLA DE SUMINISTROS'!I8,18,1) | X9: =MID('TABLA DE SUMINISTROS'!I8,19,1) | Y9: =MID('TABLA DE SUMINISTROS'!I8,20,1) | Z9: Código actividad CNAE: | AF9: =MID('TABLA DE SUMINISTROS'!H14,1,1) | AG9: =MID('TABLA DE SUMINISTROS'!H8,2,1) | AH9: =MID('TABLA DE SUMINISTROS'!H8,3,1) | AI9: =MID('TABLA DE SUMINISTROS'!H8,4,1) | AJ9: =MID('TABLA DE SUMINISTROS'!H8,5,1)
A10: Código Universal de punto de Suministro de Electricidad CUPS: | O10: =MID('TABLA DE SUMINISTROS'!A20,1,1) | P10: =MID('TABLA DE SUMINISTROS'!A20,2,1) | Q10: =MID('TABLA DE SUMINISTROS'!A20,3,1) | R10: =MID('TABLA DE SUMINISTROS'!A20,4,1) | S10: =MID('TABLA DE SUMINISTROS'!A20,5,1) | T10: =MID('TABLA DE SUMINISTROS'!A20,6,1) | U10: =MID('TABLA DE SUMINISTROS'!A20,7,1) | V10: =MID('TABLA DE SUMINISTROS'!A20,8,1) | W10: =MID('TABLA DE SUMINISTROS'!A20,9,1) | X10: =MID('TABLA DE SUMINISTROS'!A20,10,1) | Y10: =MID('TABLA DE SUMINISTROS'!A20,11,1) | Z10: =MID('TABLA DE SUMINISTROS'!A20,12,1) | AA10: =MID('TABLA DE SUMINISTROS'!A20,13,1) | AB10: =MID('TABLA DE SUMINISTROS'!A20,14,1) | AC10: =MID('TABLA DE SUMINISTROS'!A20,15,1) | AD10: =MID('TABLA DE SUMINISTROS'!A20,16,1) | AE10: =MID('TABLA DE SUMINISTROS'!A20,17,1) | AF10: =MID('TABLA DE SUMINISTROS'!A20,18,1) | AG10: =MID('TABLA DE SUMINISTROS'!A20,19,1) | AH10: =MID('TABLA DE SUMINISTROS'!A20,20,1) | AI10: =MID('TABLA DE SUMINISTROS'!A20,21,1) | AJ10: =MID('TABLA DE SUMINISTROS'!A20,22,1)
A11: Tarifa acceso: | D11: =IF('TABLA DE SUMINISTROS'!J20="","",'TABLA DE SUMINISTROS'!J20) | G11: Potencia Contratada (kW): | M11: P1= | N11: =IF('TABLA DE SUMINISTROS'!K20="","",'TABLA DE SUMINISTROS'!K20) | Q11: P2= | R11: =IF('TABLA DE SUMINISTROS'!L20="","",'TABLA DE SUMINISTROS'!L20) | U11: P3= | V11: =IF('TABLA DE SUMINISTROS'!M20="","",'TABLA DE SUMINISTROS'!M20) | Y11: P4= | Z11: =IF('TABLA DE SUMINISTROS'!N20="","",'TABLA DE SUMINISTROS'!N20) | AC11: P5= | AD11: =IF('TABLA DE SUMINISTROS'!O20="","",'TABLA DE SUMINISTROS'!O20) | AG11: P6= | AH11: =IF('TABLA DE SUMINISTROS'!P20="","",'TABLA DE SUMINISTROS'!P20)
A12: Fecha de inicio solicitada*: | H12: =IF('TABLA DE SUMINISTROS'!Q20="","",'TABLA DE SUMINISTROS'!Q20)
A13: Contratar suministro eléctrico a: | I13: □ | K13: Precio Fijo | P13: □ | Q13: Precio Indexado
A15: Denominación social: | G15: =UPPER(CONCATENATE('TABLA DE SUMINISTROS'!R21,"")) | Z15: NIF: | AD15: =UPPER(CONCATENATE('TABLA DE SUMINISTROS'!S21,))
A16: Dirección: | D16: =UPPER(CONCATENATE('TABLA DE SUMINISTROS'!B21," ",'TABLA DE SUMINISTROS'!C21)) | Z16: Escalera / Piso / Puerta: | AF16: =UPPER('TABLA DE SUMINISTROS'!D21)
A17: Localidad: | D17: =UPPER('TABLA DE SUMINISTROS'!F21) | O17: Provincia: | R17: =UPPER('TABLA DE SUMINISTROS'!G21) | AB17: Código Postal: | AF17: =MID('TABLA DE SUMINISTROS'!E21,1,1) | AG17: =MID('TABLA DE SUMINISTROS'!E21,2,1) | AH17: =MID('TABLA DE SUMINISTROS'!E21,3,1) | AI17: =MID('TABLA DE SUMINISTROS'!E21,4,1) | AJ17: =MID('TABLA DE SUMINISTROS'!E21,5,1)
A18: Referencia catastral: | F18: =MID('TABLA DE SUMINISTROS'!I9,1,1) | G18: =MID('TABLA DE SUMINISTROS'!I9,2,1) | H18: =MID('TABLA DE SUMINISTROS'!I9,3,1) | I18: =MID('TABLA DE SUMINISTROS'!I9,4,1) | J18: =MID('TABLA DE SUMINISTROS'!I9,5,1) | K18: =MID('TABLA DE SUMINISTROS'!I9,6,1) | L18: =MID('TABLA DE SUMINISTROS'!I9,7,1) | M18: =MID('TABLA DE SUMINISTROS'!I9,8,1) | N18: =MID('TABLA DE SUMINISTROS'!I9,9,1) | O18: =MID('TABLA DE SUMINISTROS'!I9,10,1) | P18: =MID('TABLA DE SUMINISTROS'!I9,11,1) | Q18: =MID('TABLA DE SUMINISTROS'!I9,12,1) | R18: =MID('TABLA DE SUMINISTROS'!I9,13,1) | S18: =MID('TABLA DE SUMINISTROS'!I9,14,1) | T18: =MID('TABLA DE SUMINISTROS'!I9,15,1) | U18: =MID('TABLA DE SUMINISTROS'!I9,16,1) | V18: =MID('TABLA DE SUMINISTROS'!I9,17,1) | W18: =MID('TABLA DE SUMINISTROS'!I9,18,1) | X18: =MID('TABLA DE SUMINISTROS'!I9,19,1) | Y18: =MID('TABLA DE SUMINISTROS'!I9,20,1) | Z18: Código actividad CNAE: | AF18: =MID('TABLA DE SUMINISTROS'!H9,1,1) | AG18: =MID('TABLA DE SUMINISTROS'!H9,2,1) | AH18: =MID('TABLA DE SUMINISTROS'!H9,3,1) | AI18: =MID('TABLA DE SUMINISTROS'!H9,4,1) | AJ18: =MID('TABLA DE SUMINISTROS'!H9,5,1)
A19: Código Universal de punto de Suministro de Electricidad CUPS: | O19: =MID('TABLA DE SUMINISTROS'!A21,1,1) | P19: =MID('TABLA DE SUMINISTROS'!A21,2,1) | Q19: =MID('TABLA DE SUMINISTROS'!A21,3,1) | R19: =MID('TABLA DE SUMINISTROS'!A21,4,1) | S19: =MID('TABLA DE SUMINISTROS'!A21,5,1) | T19: =MID('TABLA DE SUMINISTROS'!A21,6,1) | U19: =MID('TABLA DE SUMINISTROS'!A21,7,1) | V19: =MID('TABLA DE SUMINISTROS'!A21,8,1) | W19: =MID('TABLA DE SUMINISTROS'!A21,9,1) | X19: =MID('TABLA DE SUMINISTROS'!A21,10,1) | Y19: =MID('TABLA DE SUMINISTROS'!A21,11,1) | Z19: =MID('TABLA DE SUMINISTROS'!A21,12,1) | AA19: =MID('TABLA DE SUMINISTROS'!A21,13,1) | AB19: =MID('TABLA DE SUMINISTROS'!A21,14,1) | AC19: =MID('TABLA DE SUMINISTROS'!A21,15,1) | AD19: =MID('TABLA DE SUMINISTROS'!A21,16,1) | AE19: =MID('TABLA DE SUMINISTROS'!A21,17,1) | AF19: =MID('TABLA DE SUMINISTROS'!A21,18,1) | AG19: =MID('TABLA DE SUMINISTROS'!A21,19,1) | AH19: =MID('TABLA DE SUMINISTROS'!A21,20,1) | AI19: =MID('TABLA DE SUMINISTROS'!A21,21,1) | AJ19: =MID('TABLA DE SUMINISTROS'!A21,22,1)
A20: Tarifa acceso: | D20: =IF('TABLA DE SUMINISTROS'!J21="","",'TABLA DE SUMINISTROS'!J21) | G20: Potencia Contratada (kW): | M20: P1= | N20: =IF('TABLA DE SUMINISTROS'!K21="","",'TABLA DE SUMINISTROS'!K21) | Q20: P2= | R20: =IF('TABLA DE SUMINISTROS'!L21="","",'TABLA DE SUMINISTROS'!L21) | U20: P3= | V20: =IF('TABLA DE SUMINISTROS'!M21="","",'TABLA DE SUMINISTROS'!M21) | Y20: P4= | Z20: =IF('TABLA DE SUMINISTROS'!N21="","",'TABLA DE SUMINISTROS'!N21) | AC20: P5= | AD20: =IF('TABLA DE SUMINISTROS'!O21="","",'TABLA DE SUMINISTROS'!O21) | AG20: P6= | AH20: =IF('TABLA DE SUMINISTROS'!P21="","",'TABLA DE SUMINISTROS'!P21)
A21: Fecha de inicio solicitada*: | H21: =IF('TABLA DE SUMINISTROS'!Q21="","",'TABLA DE SUMINISTROS'!Q21)
A22: Contratar suministro eléctrico a: | I22: □ | K22: Precio Fijo | P22: □ | Q22: Precio Indexado
A24: Denominación social: | G24: =UPPER(CONCATENATE('TABLA DE SUMINISTROS'!R22,"")) | Z24: NIF: | AD24: =UPPER(CONCATENATE('TABLA DE SUMINISTROS'!S22,))
A25: Dirección: | D25: =UPPER(CONCATENATE('TABLA DE SUMINISTROS'!B22," ",'TABLA DE SUMINISTROS'!C22)) | Z25: Escalera / Piso / Puerta: | AF25: =UPPER('TABLA DE SUMINISTROS'!D22)
A26: Localidad: | D26: =UPPER('TABLA DE SUMINISTROS'!F22) | O26: Provincia: | R26: =UPPER('TABLA DE SUMINISTROS'!G22) | AB26: Código Postal: | AF26: =MID('TABLA DE SUMINISTROS'!E22,1,1) | AG26: =MID('TABLA DE SUMINISTROS'!E22,2,1) | AH26: =MID('TABLA DE SUMINISTROS'!E22,3,1) | AI26: =MID('TABLA DE SUMINISTROS'!E22,4,1) | AJ26: =MID('TABLA DE SUMINISTROS'!E22,5,1)
A27: Referencia catastral: | F27: =MID('TABLA DE SUMINISTROS'!I10,1,1) | G27: =MID('TABLA DE SUMINISTROS'!I10,2,1) | H27: =MID('TABLA DE SUMINISTROS'!I10,3,1) | I27: =MID('TABLA DE SUMINISTROS'!I10,4,1) | J27: =MID('TABLA DE SUMINISTROS'!I10,5,1) | K27: =MID('TABLA DE SUMINISTROS'!I10,6,1) | L27: =MID('TABLA DE SUMINISTROS'!I10,7,1) | M27: =MID('TABLA DE SUMINISTROS'!I10,8,1) | N27: =MID('TABLA DE SUMINISTROS'!I10,9,1) | O27: =MID('TABLA DE SUMINISTROS'!I10,10,1) | P27: =MID('TABLA DE SUMINISTROS'!I10,11,1) | Q27: =MID('TABLA DE SUMINISTROS'!I10,12,1) | R27: =MID('TABLA DE SUMINISTROS'!I10,13,1) | S27: =MID('TABLA DE SUMINISTROS'!I10,14,1) | T27: =MID('TABLA DE SUMINISTROS'!I10,15,1) | U27: =MID('TABLA DE SUMINISTROS'!I10,16,1) | V27: =MID('TABLA DE SUMINISTROS'!I10,17,1) | W27: =MID('TABLA DE SUMINISTROS'!I10,18,1) | X27: =MID('TABLA DE SUMINISTROS'!I10,19,1) | Y27: =MID('TABLA DE SUMINISTROS'!I10,20,1) | Z27: Código actividad CNAE: | AF27: =MID('TABLA DE SUMINISTROS'!H10,1,1) | AG27: =MID('TABLA DE SUMINISTROS'!H10,2,1) | AH27: =MID('TABLA DE SUMINISTROS'!H10,3,1) | AI27: =MID('TABLA DE SUMINISTROS'!H10,4,1) | AJ27: =MID('TABLA DE SUMINISTROS'!H10,5,1)
A28: Código Universal de punto de Suministro de Electricidad CUPS: | O28: =MID('TABLA DE SUMINISTROS'!A22,1,1) | P28: =MID('TABLA DE SUMINISTROS'!A22,2,1) | Q28: =MID('TABLA DE SUMINISTROS'!A22,3,1) | R28: =MID('TABLA DE SUMINISTROS'!A22,4,1) | S28: =MID('TABLA DE SUMINISTROS'!A22,5,1) | T28: =MID('TABLA DE SUMINISTROS'!A22,6,1) | U28: =MID('TABLA DE SUMINISTROS'!A22,7,1) | V28: =MID('TABLA DE SUMINISTROS'!A22,8,1) | W28: =MID('TABLA DE SUMINISTROS'!A22,9,1) | X28: =MID('TABLA DE SUMINISTROS'!A22,10,1) | Y28: =MID('TABLA DE SUMINISTROS'!A22,11,1) | Z28: =MID('TABLA DE SUMINISTROS'!A22,12,1) | AA28: =MID('TABLA DE SUMINISTROS'!A22,13,1) | AB28: =MID('TABLA DE SUMINISTROS'!A22,14,1) | AC28: =MID('TABLA DE SUMINISTROS'!A22,15,1) | AD28: =MID('TABLA DE SUMINISTROS'!A22,16,1) | AE28: =MID('TABLA DE SUMINISTROS'!A22,17,1) | AF28: =MID('TABLA DE SUMINISTROS'!A22,18,1) | AG28: =MID('TABLA DE SUMINISTROS'!A22,19,1) | AH28: =MID('TABLA DE SUMINISTROS'!A22,20,1) | AI28: =MID('TABLA DE SUMINISTROS'!A22,21,1) | AJ28: =MID('TABLA DE SUMINISTROS'!A22,22,1)
A29: Tarifa acceso: | D29: =IF('TABLA DE SUMINISTROS'!J22="","",'TABLA DE SUMINISTROS'!J22) | G29: Potencia Contratada (kW): | M29: P1= | N29: =IF('TABLA DE SUMINISTROS'!K22="","",'TABLA DE SUMINISTROS'!K22) | Q29: P2= | R29: =IF('TABLA DE SUMINISTROS'!L22="","",'TABLA DE SUMINISTROS'!L22) | U29: P3= | V29: =IF('TABLA DE SUMINISTROS'!M22="","",'TABLA DE SUMINISTROS'!M22) | Y29: P4= | Z29: =IF('TABLA DE SUMINISTROS'!N22="","",'TABLA DE SUMINISTROS'!N22) | AC29: P5= | AD29: =IF('TABLA DE SUMINISTROS'!O22="","",'TABLA DE SUMINISTROS'!O22) | AG29: P6= | AH29: =IF('TABLA DE SUMINISTROS'!P22="","",'TABLA DE SUMINISTROS'!P22)
A30: Fecha de inicio solicitada*: | H30: =IF('TABLA DE SUMINISTROS'!Q22="","",'TABLA DE SUMINISTROS'!Q22)
A31: Contratar suministro eléctrico a: | I31: □ | K31: Precio Fijo | P31: □ | Q31: Precio Indexado
A33: Denominación social: | G33: =UPPER(CONCATENATE('TABLA DE SUMINISTROS'!R23,"")) | Z33: NIF: | AD33: =UPPER(CONCATENATE('TABLA DE SUMINISTROS'!S23,))
A34: Dirección: | D34: =UPPER(CONCATENATE('TABLA DE SUMINISTROS'!B23," ",'TABLA DE SUMINISTROS'!C23)) | Z34: Escalera / Piso / Puerta: | AF34: =UPPER('TABLA DE SUMINISTROS'!D23)
A35: Localidad: | D35: =UPPER('TABLA DE SUMINISTROS'!F23) | O35: Provincia: | R35: =UPPER('TABLA DE SUMINISTROS'!G23) | AB35: Código Postal: | AF35: =MID('TABLA DE SUMINISTROS'!E23,1,1) | AG35: =MID('TABLA DE SUMINISTROS'!E23,2,1) | AH35: =MID('TABLA DE SUMINISTROS'!E23,3,1) | AI35: =MID('TABLA DE SUMINISTROS'!E23,4,1) | AJ35: =MID('TABLA DE SUMINISTROS'!E23,5,1)
A36: Referencia catastral: | F36: =MID('TABLA DE SUMINISTROS'!I11,1,1) | G36: =MID('TABLA DE SUMINISTROS'!I11,2,1) | H36: =MID('TABLA DE SUMINISTROS'!I11,3,1) | I36: =MID('TABLA DE SUMINISTROS'!I11,4,1) | J36: =MID('TABLA DE SUMINISTROS'!I11,5,1) | K36: =MID('TABLA DE SUMINISTROS'!I11,6,1) | L36: =MID('TABLA DE SUMINISTROS'!I11,7,1) | M36: =MID('TABLA DE SUMINISTROS'!I11,8,1) | N36: =MID('TABLA DE SUMINISTROS'!I11,9,1) | O36: =MID('TABLA DE SUMINISTROS'!I11,10,1) | P36: =MID('TABLA DE SUMINISTROS'!I11,11,1) | Q36: =MID('TABLA DE SUMINISTROS'!I11,12,1) | R36: =MID('TABLA DE SUMINISTROS'!I11,13,1) | S36: =MID('TABLA DE SUMINISTROS'!I11,14,1) | T36: =MID('TABLA DE SUMINISTROS'!I11,15,1) | U36: =MID('TABLA DE SUMINISTROS'!I11,16,1) | V36: =MID('TABLA DE SUMINISTROS'!I11,17,1) | W36: =MID('TABLA DE SUMINISTROS'!I11,18,1) | X36: =MID('TABLA DE SUMINISTROS'!I11,19,1) | Y36: =MID('TABLA DE SUMINISTROS'!I11,20,1) | Z36: Código actividad CNAE: | AF36: =MID('TABLA DE SUMINISTROS'!H11,1,1) | AG36: =MID('TABLA DE SUMINISTROS'!H11,2,1) | AH36: =MID('TABLA DE SUMINISTROS'!H11,3,1) | AI36: =MID('TABLA DE SUMINISTROS'!H11,4,1) | AJ36: =MID('TABLA DE SUMINISTROS'!H11,5,1)
A37: Código Universal de punto de Suministro de Electricidad CUPS: | O37: =MID('TABLA DE SUMINISTROS'!A23,1,1) | P37: =MID('TABLA DE SUMINISTROS'!A23,2,1) | Q37: =MID('TABLA DE SUMINISTROS'!A23,3,1) | R37: =MID('TABLA DE SUMINISTROS'!A23,4,1) | S37: =MID('TABLA DE SUMINISTROS'!A23,5,1) | T37: =MID('TABLA DE SUMINISTROS'!A23,6,1) | U37: =MID('TABLA DE SUMINISTROS'!A23,7,1) | V37: =MID('TABLA DE SUMINISTROS'!A23,8,1) | W37: =MID('TABLA DE SUMINISTROS'!A23,9,1) | X37: =MID('TABLA DE SUMINISTROS'!A23,10,1) | Y37: =MID('TABLA DE SUMINISTROS'!A23,11,1) | Z37: =MID('TABLA DE SUMINISTROS'!A23,12,1) | AA37: =MID('TABLA DE SUMINISTROS'!A23,13,1) | AB37: =MID('TABLA DE SUMINISTROS'!A23,14,1) | AC37: =MID('TABLA DE SUMINISTROS'!A23,15,1) | AD37: =MID('TABLA DE SUMINISTROS'!A23,16,1) | AE37: =MID('TABLA DE SUMINISTROS'!A23,17,1) | AF37: =MID('TABLA DE SUMINISTROS'!A23,18,1) | AG37: =MID('TABLA DE SUMINISTROS'!A23,19,1) | AH37: =MID('TABLA DE SUMINISTROS'!A23,20,1) | AI37: =MID('TABLA DE SUMINISTROS'!A23,21,1) | AJ37: =MID('TABLA DE SUMINISTROS'!A23,22,1)
A38: Tarifa acceso: | D38: =IF('TABLA DE SUMINISTROS'!J23="","",'TABLA DE SUMINISTROS'!J23) | G38: Potencia Contratada (kW): | M38: P1= | N38: =IF('TABLA DE SUMINISTROS'!K23="","",'TABLA DE SUMINISTROS'!K23) | Q38: P2= | R38: =IF('TABLA DE SUMINISTROS'!L23="","",'TABLA DE SUMINISTROS'!L23) | U38: P3= | V38: =IF('TABLA DE SUMINISTROS'!M23="","",'TABLA DE SUMINISTROS'!M23) | Y38: P4= | Z38: =IF('TABLA DE SUMINISTROS'!N23="","",'TABLA DE SUMINISTROS'!N23) | AC38: P5= | AD38: =IF('TABLA DE SUMINISTROS'!O23="","",'TABLA DE SUMINISTROS'!O23) | AG38: P6= | AH38: =IF('TABLA DE SUMINISTROS'!P23="","",'TABLA DE SUMINISTROS'!P23)
A39: Fecha de inicio solicitada*: | H39: =IF('TABLA DE SUMINISTROS'!Q23="","",'TABLA DE SUMINISTROS'!Q23)
A40: Contratar suministro eléctrico a: | I40: □ | K40: Precio Fijo | P40: □ | Q40: Precio Indexado
A42: Denominación social: | G42: =UPPER(CONCATENATE('TABLA DE SUMINISTROS'!R24,"")) | Z42: NIF: | AD42: =UPPER(CONCATENATE('TABLA DE SUMINISTROS'!S24,))
A43: Dirección: | D43: =UPPER(CONCATENATE('TABLA DE SUMINISTROS'!B24," ",'TABLA DE SUMINISTROS'!C24)) | Z43: Escalera / Piso / Puerta: | AF43: =UPPER('TABLA DE SUMINISTROS'!D24)
A44: Localidad: | D44: =UPPER('TABLA DE SUMINISTROS'!F24) | O44: Provincia: | R44: =UPPER('TABLA DE SUMINISTROS'!G24) | AB44: Código Postal: | AF44: =MID('TABLA DE SUMINISTROS'!E24,1,1) | AG44: =MID('TABLA DE SUMINISTROS'!E24,2,1) | AH44: =MID('TABLA DE SUMINISTROS'!E24,3,1) | AI44: =MID('TABLA DE SUMINISTROS'!E24,4,1) | AJ44: =MID('TABLA DE SUMINISTROS'!E24,5,1)
A45: Referencia catastral: | F45: =MID('TABLA DE SUMINISTROS'!I6,1,1) | G45: =MID('TABLA DE SUMINISTROS'!I6,2,1) | H45: =MID('TABLA DE SUMINISTROS'!I6,3,1) | I45: =MID('TABLA DE SUMINISTROS'!I6,4,1) | J45: =MID('TABLA DE SUMINISTROS'!I6,5,1) | K45: =MID('TABLA DE SUMINISTROS'!I6,6,1) | L45: =MID('TABLA DE SUMINISTROS'!I6,7,1) | M45: =MID('TABLA DE SUMINISTROS'!I6,8,1) | N45: =MID('TABLA DE SUMINISTROS'!I6,9,1) | O45: =MID('TABLA DE SUMINISTROS'!I6,10,1) | P45: =MID('TABLA DE SUMINISTROS'!I6,11,1) | Q45: =MID('TABLA DE SUMINISTROS'!I6,12,1) | R45: =MID('TABLA DE SUMINISTROS'!I6,13,1) | S45: =MID('TABLA DE SUMINISTROS'!I6,14,1) | T45: =MID('TABLA DE SUMINISTROS'!I6,15,1) | U45: =MID('TABLA DE SUMINISTROS'!I6,16,1) | V45: =MID('TABLA DE SUMINISTROS'!I6,17,1) | W45: =MID('TABLA DE SUMINISTROS'!I6,18,1) | X45: =MID('TABLA DE SUMINISTROS'!I6,19,1) | Y45: =MID('TABLA DE SUMINISTROS'!I6,20,1) | Z45: Código actividad CNAE: | AF45: =MID('TABLA DE SUMINISTROS'!H12,1,1) | AG45: =MID('TABLA DE SUMINISTROS'!H12,2,1) | AH45: =MID('TABLA DE SUMINISTROS'!H12,3,1) | AI45: =MID('TABLA DE SUMINISTROS'!H12,4,1) | AJ45: =MID('TABLA DE SUMINISTROS'!H12,5,1)
A46: Código Universal de punto de Suministro de Electricidad CUPS: | O46: =MID('TABLA DE SUMINISTROS'!A24,1,1) | P46: =MID('TABLA DE SUMINISTROS'!A24,2,1) | Q46: =MID('TABLA DE SUMINISTROS'!A24,3,1) | R46: =MID('TABLA DE SUMINISTROS'!A24,4,1) | S46: =MID('TABLA DE SUMINISTROS'!A24,5,1) | T46: =MID('TABLA DE SUMINISTROS'!A24,6,1) | U46: =MID('TABLA DE SUMINISTROS'!A24,7,1) | V46: =MID('TABLA DE SUMINISTROS'!A24,8,1) | W46: =MID('TABLA DE SUMINISTROS'!A24,9,1) | X46: =MID('TABLA DE SUMINISTROS'!A24,10,1) | Y46: =MID('TABLA DE SUMINISTROS'!A24,11,1) | Z46: =MID('TABLA DE SUMINISTROS'!A24,12,1) | AA46: =MID('TABLA DE SUMINISTROS'!A24,13,1) | AB46: =MID('TABLA DE SUMINISTROS'!A24,14,1) | AC46: =MID('TABLA DE SUMINISTROS'!A24,15,1) | AD46: =MID('TABLA DE SUMINISTROS'!A24,16,1) | AE46: =MID('TABLA DE SUMINISTROS'!A24,17,1) | AF46: =MID('TABLA DE SUMINISTROS'!A24,18,1) | AG46: =MID('TABLA DE SUMINISTROS'!A24,19,1) | AH46: =MID('TABLA DE SUMINISTROS'!A24,20,1) | AI46: =MID('TABLA DE SUMINISTROS'!A24,21,1) | AJ46: =MID('TABLA DE SUMINISTROS'!A24,22,1)
A47: Tarifa acceso: | D47: =IF('TABLA DE SUMINISTROS'!J24="","",'TABLA DE SUMINISTROS'!J24) | G47: Potencia Contratada (kW): | M47: P1= | N47: =IF('TABLA DE SUMINISTROS'!K24="","",'TABLA DE SUMINISTROS'!K24) | Q47: P2= | R47: =IF('TABLA DE SUMINISTROS'!L24="","",'TABLA DE SUMINISTROS'!L24) | U47: P3= | V47: =IF('TABLA DE SUMINISTROS'!M24="","",'TABLA DE SUMINISTROS'!M24) | Y47: P4= | Z47: =IF('TABLA DE SUMINISTROS'!N24="","",'TABLA DE SUMINISTROS'!N24) | AC47: P5= | AD47: =IF('TABLA DE SUMINISTROS'!O24="","",'TABLA DE SUMINISTROS'!O24) | AG47: P6= | AH47: =IF('TABLA DE SUMINISTROS'!P24="","",'TABLA DE SUMINISTROS'!P24)
A48: Fecha de inicio solicitada*: | H48: =IF('TABLA DE SUMINISTROS'!Q24="","",'TABLA DE SUMINISTROS'!Q24)
A49: Contratar suministro eléctrico a: | I49: □ | K49: Precio Fijo | P49: □ | Q49: Precio Indexado
A51: Denominación social: | G51: =UPPER(CONCATENATE('TABLA DE SUMINISTROS'!R25,"")) | Z51: NIF: | AD51: =UPPER(CONCATENATE('TABLA DE SUMINISTROS'!S25,))
A52: Dirección: | D52: =UPPER(CONCATENATE('TABLA DE SUMINISTROS'!B25," ",'TABLA DE SUMINISTROS'!C25)) | Z52: Escalera / Piso / Puerta: | AF52: =UPPER('TABLA DE SUMINISTROS'!D25)
A53: Localidad: | D53: =UPPER('TABLA DE SUMINISTROS'!F25) | O53: Provincia: | R53: =UPPER('TABLA DE SUMINISTROS'!G25) | AB53: Código Postal: | AF53: =MID('TABLA DE SUMINISTROS'!E25,1,1) | AG53: =MID('TABLA DE SUMINISTROS'!E25,2,1) | AH53: =MID('TABLA DE SUMINISTROS'!E25,3,1) | AI53: =MID('TABLA DE SUMINISTROS'!E25,4,1) | AJ53: =MID('TABLA DE SUMINISTROS'!E25,5,1)
A54: Referencia catastral: | F54: =MID('TABLA DE SUMINISTROS'!I7,1,1) | G54: =MID('TABLA DE SUMINISTROS'!I7,2,1) | H54: =MID('TABLA DE SUMINISTROS'!I7,3,1) | I54: =MID('TABLA DE SUMINISTROS'!I7,4,1) | J54: =MID('TABLA DE SUMINISTROS'!I7,5,1) | K54: =MID('TABLA DE SUMINISTROS'!I7,6,1) | L54: =MID('TABLA DE SUMINISTROS'!I7,7,1) | M54: =MID('TABLA DE SUMINISTROS'!I7,8,1) | N54: =MID('TABLA DE SUMINISTROS'!I7,9,1) | O54: =MID('TABLA DE SUMINISTROS'!I7,10,1) | P54: =MID('TABLA DE SUMINISTROS'!I7,11,1) | Q54: =MID('TABLA DE SUMINISTROS'!I7,12,1) | R54: =MID('TABLA DE SUMINISTROS'!I7,13,1) | S54: =MID('TABLA DE SUMINISTROS'!I7,14,1) | T54: =MID('TABLA DE SUMINISTROS'!I7,15,1) | U54: =MID('TABLA DE SUMINISTROS'!I7,16,1) | V54: =MID('TABLA DE SUMINISTROS'!I7,17,1) | W54: =MID('TABLA DE SUMINISTROS'!I7,18,1) | X54: =MID('TABLA DE SUMINISTROS'!I7,19,1) | Y54: =MID('TABLA DE SUMINISTROS'!I7,20,1) | Z54: Código actividad CNAE: | AF54: =MID('TABLA DE SUMINISTROS'!H13,1,1) | AG54: =MID('TABLA DE SUMINISTROS'!H13,2,1) | AH54: =MID('TABLA DE SUMINISTROS'!H13,3,1) | AI54: =MID('TABLA DE SUMINISTROS'!H13,4,1) | AJ54: =MID('TABLA DE SUMINISTROS'!H13,5,1)
A55: Código Universal de punto de Suministro de Electricidad CUPS: | O55: =MID('TABLA DE SUMINISTROS'!A25,1,1) | P55: =MID('TABLA DE SUMINISTROS'!A25,2,1) | Q55: =MID('TABLA DE SUMINISTROS'!A25,3,1) | R55: =MID('TABLA DE SUMINISTROS'!A25,4,1) | S55: =MID('TABLA DE SUMINISTROS'!A25,5,1) | T55: =MID('TABLA DE SUMINISTROS'!A25,6,1) | U55: =MID('TABLA DE SUMINISTROS'!A25,7,1) | V55: =MID('TABLA DE SUMINISTROS'!A25,8,1) | W55: =MID('TABLA DE SUMINISTROS'!A25,9,1) | X55: =MID('TABLA DE SUMINISTROS'!A25,10,1) | Y55: =MID('TABLA DE SUMINISTROS'!A25,11,1) | Z55: =MID('TABLA DE SUMINISTROS'!A25,12,1) | AA55: =MID('TABLA DE SUMINISTROS'!A25,13,1) | AB55: =MID('TABLA DE SUMINISTROS'!A25,14,1) | AC55: =MID('TABLA DE SUMINISTROS'!A25,15,1) | AD55: =MID('TABLA DE SUMINISTROS'!A25,16,1) | AE55: =MID('TABLA DE SUMINISTROS'!A25,17,1) | AF55: =MID('TABLA DE SUMINISTROS'!A25,18,1) | AG55: =MID('TABLA DE SUMINISTROS'!A25,19,1) | AH55: =MID('TABLA DE SUMINISTROS'!A25,20,1) | AI55: =MID('TABLA DE SUMINISTROS'!A25,21,1) | AJ55: =MID('TABLA DE SUMINISTROS'!A25,22,1)
A56: Tarifa acceso: | D56: =IF('TABLA DE SUMINISTROS'!J19="","",'TABLA DE SUMINISTROS'!J19) | G56: Potencia Contratada (kW): | M56: P1= | N56: =IF('TABLA DE SUMINISTROS'!K25="","",'TABLA DE SUMINISTROS'!K25) | Q56: P2= | R56: =IF('TABLA DE SUMINISTROS'!L25="","",'TABLA DE SUMINISTROS'!L25) | U56: P3= | V56: =IF('TABLA DE SUMINISTROS'!M25="","",'TABLA DE SUMINISTROS'!M25) | Y56: P4= | Z56: =IF('TABLA DE SUMINISTROS'!N25="","",'TABLA DE SUMINISTROS'!N25) | AC56: P5= | AD56: =IF('TABLA DE SUMINISTROS'!O25="","",'TABLA DE SUMINISTROS'!O25) | AG56: P6= | AH56: =IF('TABLA DE SUMINISTROS'!P25="","",'TABLA DE SUMINISTROS'!P25)
A57: Fecha de inicio solicitada*: | H57: =IF('TABLA DE SUMINISTROS'!Q25="","",'TABLA DE SUMINISTROS'!Q25)
A58: Contratar suministro eléctrico a: | I58: □ | K58: Precio Fijo | P58: □ | Q58: Precio Indexado
A60: *Esta fecha es orientativa y quedará sometida a la efectiva activación por parte de la Distribuidora, quedando Audax exonerada de toda responsabilidad para el caso no ejecución en la fecha prevista e independientemente de su motivo. Para Adx Classic la fecha de activación solicitada no podrá ser superior al plazo de dos (2) meses desde la fecha de firma de este Contrato.
A63: ACEPTACIÓN Y FIRMA
A64: El presente documento es un anexo a las Condiciones Particulares del Contrato Dual de Suministro y servicios adicionales. A los CUPS que se relacionan en el presente documento le serán de aplicación las condiciones Generales y Particulares contenidas en el Contrato que integra.
A67: p.p | L67: Por El Representante /Cliente: | R67: (Firma y sello)
N70: Lugar y fecha: | R70: En___________________________________________________________, a ______ de _____________________ de _________.
A72: ADX RENOVABLES, S.L. - N.I.F.: B72562051 Calle Electrónica, 19, 7C C.P. 08915-Badalona (Barcelona), Registro Mercantil de Barcelona, tomo 48712, folio 75, hoja B-B-593463

Sheet ANEXO SUMINISTROS 26 al 31
A4: Anexo de Puntos de Suministro Eléctrico
A5: CONTRATO DUAL DE SUMINISTRO Y SERVICIOS ADICIONALES
A6: Denominación social: | G6: =UPPER(CONCATENATE('TABLA DE SUMINISTROS'!R26,"")) | Z6: NIF: | AD6: =UPPER(CONCATENATE('TABLA DE SUMINISTROS'!S26,))
A7: Dirección: | D7: =UPPER(CONCATENATE('TABLA DE SUMINISTROS'!B26," ",'TABLA DE SUMINISTROS'!C26)) | Z7: Escalera / Piso / Puerta: | AF7: =UPPER('TABLA DE SUMINISTROS'!D26)
A8: Localidad: | D8: =UPPER('TABLA DE SUMINISTROS'!F26) | O8: Provincia: | R8: =UPPER('TABLA DE SUMINISTROS'!G26) | AB8: Código Postal: | AF8: =MID('TABLA DE SUMINISTROS'!E26,1,1) | AG8: =MID('TABLA DE SUMINISTROS'!E26,2,1) | AH8: =MID('TABLA DE SUMINISTROS'!E26,3,1) | AI8: =MID('TABLA DE SUMINISTROS'!E26,4,1) | AJ8: =MID('TABLA DE SUMINISTROS'!E26,5,1)
A9: Referencia catastral: | F9: =MID('TABLA DE SUMINISTROS'!I14,1,1) | G9: =MID('TABLA DE SUMINISTROS'!I14,2,1) | H9: =MID('TABLA DE SUMINISTROS'!I14,3,1) | I9: =MID('TABLA DE SUMINISTROS'!I8,4,1) | J9: =MID('TABLA DE SUMINISTROS'!I8,5,1) | K9: =MID('TABLA DE SUMINISTROS'!I8,6,1) | L9: =MID('TABLA DE SUMINISTROS'!I8,7,1) | M9: =MID('TABLA DE SUMINISTROS'!I8,8,1) | N9: =MID('TABLA DE SUMINISTROS'!I8,9,1) | O9: =MID('TABLA DE SUMINISTROS'!I8,10,1) | P9: =MID('TABLA DE SUMINISTROS'!I8,11,1) | Q9: =MID('TABLA DE SUMINISTROS'!I8,12,1) | R9: =MID('TABLA DE SUMINISTROS'!I8,13,1) | S9: =MID('TABLA DE SUMINISTROS'!I8,14,1) | T9: =MID('TABLA DE SUMINISTROS'!I8,15,1) | U9: =MID('TABLA DE SUMINISTROS'!I8,16,1) | V9: =MID('TABLA DE SUMINISTROS'!I8,17,1) | W9: =MID('TABLA DE SUMINISTROS'!I8,18,1) | X9: =MID('TABLA DE SUMINISTROS'!I8,19,1) | Y9: =MID('TABLA DE SUMINISTROS'!I8,20,1) | Z9: Código actividad CNAE: | AF9: =MID('TABLA DE SUMINISTROS'!H14,1,1) | AG9: =MID('TABLA DE SUMINISTROS'!H8,2,1) | AH9: =MID('TABLA DE SUMINISTROS'!H8,3,1) | AI9: =MID('TABLA DE SUMINISTROS'!H8,4,1) | AJ9: =MID('TABLA DE SUMINISTROS'!H8,5,1)
A10: Código Universal de punto de Suministro de Electricidad CUPS: | O10: =MID('TABLA DE SUMINISTROS'!A26,1,1) | P10: =MID('TABLA DE SUMINISTROS'!A26,2,1) | Q10: =MID('TABLA DE SUMINISTROS'!A26,3,1) | R10: =MID('TABLA DE SUMINISTROS'!A26,4,1) | S10: =MID('TABLA DE SUMINISTROS'!A26,5,1) | T10: =MID('TABLA DE SUMINISTROS'!A26,6,1) | U10: =MID('TABLA DE SUMINISTROS'!A26,7,1) | V10: =MID('TABLA DE SUMINISTROS'!A26,8,1) | W10: =MID('TABLA DE SUMINISTROS'!A26,9,1) | X10: =MID('TABLA DE SUMINISTROS'!A26,10,1) | Y10: =MID('TABLA DE SUMINISTROS'!A26,11,1) | Z10: =MID('TABLA DE SUMINISTROS'!A26,12,1) | AA10: =MID('TABLA DE SUMINISTROS'!A26,13,1) | AB10: =MID('TABLA DE SUMINISTROS'!A26,14,1) | AC10: =MID('TABLA DE SUMINISTROS'!A26,15,1) | AD10: =MID('TABLA DE SUMINISTROS'!A26,16,1) | AE10: =MID('TABLA DE SUMINISTROS'!A26,17,1) | AF10: =MID('TABLA DE SUMINISTROS'!A26,18,1) | AG10: =MID('TABLA DE SUMINISTROS'!A26,19,1) | AH10: =MID('TABLA DE SUMINISTROS'!A26,20,1) | AI10: =MID('TABLA DE SUMINISTROS'!A26,21,1) | AJ10: =MID('TABLA DE SUMINISTROS'!A26,22,1)
A11: Tarifa acceso: | D11: =IF('TABLA DE SUMINISTROS'!J26="","",'TABLA DE SUMINISTROS'!J26) | G11: Potencia Contratada (kW): | M11: P1= | N11: =IF('TABLA DE SUMINISTROS'!K26="","",'TABLA DE SUMINISTROS'!K26) | Q11: P2= | R11: =IF('TABLA DE SUMINISTROS'!L26="","",'TABLA DE SUMINISTROS'!L26) | U11: P3= | V11: =IF('TABLA DE SUMINISTROS'!M26="","",'TABLA DE SUMINISTROS'!M26) | Y11: P4= | Z11: =IF('TABLA DE SUMINISTROS'!N26="","",'TABLA DE SUMINISTROS'!N26) | AC11: P5= | AD11: =IF('TABLA DE SUMINISTROS'!O26="","",'TABLA DE SUMINISTROS'!O26) | AG11: P6= | AH11: =IF('TABLA DE SUMINISTROS'!P26="","",'TABLA DE SUMINISTROS'!P26)
A12: Fecha de inicio solicitada*: | H12: =IF('TABLA DE SUMINISTROS'!Q26="","",'TABLA DE SUMINISTROS'!Q26)
A13: Contratar suministro eléctrico a: | I13: □ | K13: Precio Fijo | P13: □ | Q13: Precio Indexado
A15: Denominación social: | G15: =UPPER(CONCATENATE('TABLA DE SUMINISTROS'!R27,"")) | Z15: NIF: | AD15: =UPPER(CONCATENATE('TABLA DE SUMINISTROS'!S27,))
A16: Dirección: | D16: =UPPER(CONCATENATE('TABLA DE SUMINISTROS'!B27," ",'TABLA DE SUMINISTROS'!C27)) | Z16: Escalera / Piso / Puerta: | AF16: =UPPER('TABLA DE SUMINISTROS'!D27)
A17: Localidad: | D17: =UPPER('TABLA DE SUMINISTROS'!F27) | O17: Provincia: | R17: =UPPER('TABLA DE SUMINISTROS'!G27) | AB17: Código Postal: | AF17: =MID('TABLA DE SUMINISTROS'!E27,1,1) | AG17: =MID('TABLA DE SUMINISTROS'!E27,2,1) | AH17: =MID('TABLA DE SUMINISTROS'!E27,3,1) | AI17: =MID('TABLA DE SUMINISTROS'!E27,4,1) | AJ17: =MID('TABLA DE SUMINISTROS'!E27,5,1)
A18: Referencia catastral: | F18: =MID('TABLA DE SUMINISTROS'!I9,1,1) | G18: =MID('TABLA DE SUMINISTROS'!I9,2,1) | H18: =MID('TABLA DE SUMINISTROS'!I9,3,1) | I18: =MID('TABLA DE SUMINISTROS'!I9,4,1) | J18: =MID('TABLA DE SUMINISTROS'!I9,5,1) | K18: =MID('TABLA DE SUMINISTROS'!I9,6,1) | L18: =MID('TABLA DE SUMINISTROS'!I9,7,1) | M18: =MID('TABLA DE SUMINISTROS'!I9,8,1) | N18: =MID('TABLA DE SUMINISTROS'!I9,9,1) | O18: =MID('TABLA DE SUMINISTROS'!I9,10,1) | P18: =MID('TABLA DE SUMINISTROS'!I9,11,1) | Q18: =MID('TABLA DE SUMINISTROS'!I9,12,1) | R18: =MID('TABLA DE SUMINISTROS'!I9,13,1) | S18: =MID('TABLA DE SUMINISTROS'!I9,14,1) | T18: =MID('TABLA DE SUMINISTROS'!I9,15,1) | U18: =MID('TABLA DE SUMINISTROS'!I9,16,1) | V18: =MID('TABLA DE SUMINISTROS'!I9,17,1) | W18: =MID('TABLA DE SUMINISTROS'!I9,18,1) | X18: =MID('TABLA DE SUMINISTROS'!I9,19,1) | Y18: =MID('TABLA DE SUMINISTROS'!I9,20,1) | Z18: Código actividad CNAE: | AF18: =MID('TABLA DE SUMINISTROS'!H9,1,1) | AG18: =MID('TABLA DE SUMINISTROS'!H9,2,1) | AH18: =MID('TABLA DE SUMINISTROS'!H9,3,1) | AI18: =MID('TABLA DE SUMINISTROS'!H9,4,1) | AJ18: =MID('TABLA DE SUMINISTROS'!H9,5,1)
A19: Código Universal de punto de Suministro de Electricidad CUPS: | O19: =MID('TABLA DE SUMINISTROS'!A27,1,1) | P19: =MID('TABLA DE SUMINISTROS'!A27,2,1) | Q19: =MID('TABLA DE SUMINISTROS'!A27,3,1) | R19: =MID('TABLA DE SUMINISTROS'!A27,4,1) | S19: =MID('TABLA DE SUMINISTROS'!A27,5,1) | T19: =MID('TABLA DE SUMINISTROS'!A27,6,1) | U19: =MID('TABLA DE SUMINISTROS'!A27,7,1) | V19: =MID('TABLA DE SUMINISTROS'!A27,8,1) | W19: =MID('TABLA DE SUMINISTROS'!A27,9,1) | X19: =MID('TABLA DE SUMINISTROS'!A27,10,1) | Y19: =MID('TABLA DE SUMINISTROS'!A27,11,1) | Z19: =MID('TABLA DE SUMINISTROS'!A27,12,1) | AA19: =MID('TABLA DE SUMINISTROS'!A27,13,1) | AB19: =MID('TABLA DE SUMINISTROS'!A27,14,1) | AC19: =MID('TABLA DE SUMINISTROS'!A27,15,1) | AD19: =MID('TABLA DE SUMINISTROS'!A27,16,1) | AE19: =MID('TABLA DE SUMINISTROS'!A27,17,1) | AF19: =MID('TABLA DE SUMINISTROS'!A27,18,1) | AG19: =MID('TABLA DE SUMINISTROS'!A27,19,1) | AH19: =MID('TABLA DE SUMINISTROS'!A27,20,1) | AI19: =MID('TABLA DE SUMINISTROS'!A27,21,1) | AJ19: =MID('TABLA DE SUMINISTROS'!A27,22,1)
A20: Tarifa acceso: | D20: =IF('TABLA DE SUMINISTROS'!J27="","",'TABLA DE SUMINISTROS'!J27) | G20: Potencia Contratada (kW): | M20: P1= | N20: =IF('TABLA DE SUMINISTROS'!K27="","",'TABLA DE SUMINISTROS'!K27) | Q20: P2= | R20: =IF('TABLA DE SUMINISTROS'!L27="","",'TABLA DE SUMINISTROS'!L27) | U20: P3= | V20: =IF('TABLA DE SUMINISTROS'!M27="","",'TABLA DE SUMINISTROS'!M27) | Y20: P4= | Z20: =IF('TABLA DE SUMINISTROS'!N27="","",'TABLA DE SUMINISTROS'!N27) | AC20: P5= | AD20: =IF('TABLA DE SUMINISTROS'!O27="","",'TABLA DE SUMINISTROS'!O27) | AG20: P6= | AH20: =IF('TABLA DE SUMINISTROS'!P27="","",'TABLA DE SUMINISTROS'!P27)
A21: Fecha de inicio solicitada*: | H21: =IF('TABLA DE SUMINISTROS'!Q27="","",'TABLA DE SUMINISTROS'!Q27)
A22: Contratar suministro eléctrico a: | I22: □ | K22: Precio Fijo | P22: □ | Q22: Precio Indexado
A24: Denominación social: | G24: =UPPER(CONCATENATE('TABLA DE SUMINISTROS'!R28,"")) | Z24: NIF: | AD24: =UPPER(CONCATENATE('TABLA DE SUMINISTROS'!S28,))
A25: Dirección: | D25: =UPPER(CONCATENATE('TABLA DE SUMINISTROS'!B28," ",'TABLA DE SUMINISTROS'!C28)) | Z25: Escalera / Piso / Puerta: | AF25: =UPPER('TABLA DE SUMINISTROS'!D28)
A26: Localidad: | D26: =UPPER('TABLA DE SUMINISTROS'!F28) | O26: Provincia: | R26: =UPPER('TABLA DE SUMINISTROS'!G28) | AB26: Código Postal: | AF26: =MID('TABLA DE SUMINISTROS'!E28,1,1) | AG26: =MID('TABLA DE SUMINISTROS'!E28,2,1) | AH26: =MID('TABLA DE SUMINISTROS'!E28,3,1) | AI26: =MID('TABLA DE SUMINISTROS'!E28,4,1) | AJ26: =MID('TABLA DE SUMINISTROS'!E28,5,1)
A27: Referencia catastral: | F27: =MID('TABLA DE SUMINISTROS'!I10,1,1) | G27: =MID('TABLA DE SUMINISTROS'!I10,2,1) | H27: =MID('TABLA DE SUMINISTROS'!I10,3,1) | I27: =MID('TABLA DE SUMINISTROS'!I10,4,1) | J27: =MID('TABLA DE SUMINISTROS'!I10,5,1) | K27: =MID('TABLA DE SUMINISTROS'!I10,6,1) | L27: =MID('TABLA DE SUMINISTROS'!I10,7,1) | M27: =MID('TABLA DE SUMINISTROS'!I10,8,1) | N27: =MID('TABLA DE SUMINISTROS'!I10,9,1) | O27: =MID('TABLA DE SUMINISTROS'!I10,10,1) | P27: =MID('TABLA DE SUMINISTROS'!I10,11,1) | Q27: =MID('TABLA DE SUMINISTROS'!I10,12,1) | R27: =MID('TABLA DE SUMINISTROS'!I10,13,1) | S27: =MID('TABLA DE SUMINISTROS'!I10,14,1) | T27: =MID('TABLA DE SUMINISTROS'!I10,15,1) | U27: =MID('TABLA DE SUMINISTROS'!I10,16,1) | V27: =MID('TABLA DE SUMINISTROS'!I10,17,1) | W27: =MID('TABLA DE SUMINISTROS'!I10,18,1) | X27: =MID('TABLA DE SUMINISTROS'!I10,19,1) | Y27: =MID('TABLA DE SUMINISTROS'!I10,20,1) | Z27: Código actividad CNAE: | AF27: =MID('TABLA DE SUMINISTROS'!H10,1,1) | AG27: =MID('TABLA DE SUMINISTROS'!H10,2,1) | AH27: =MID('TABLA DE SUMINISTROS'!H10,3,1) | AI27: =MID('TABLA DE SUMINISTROS'!H10,4,1) | AJ27: =MID('TABLA DE SUMINISTROS'!H10,5,1)
A28: Código Universal de punto de Suministro de Electricidad CUPS: | O28: =MID('TABLA DE SUMINISTROS'!A28,1,1) | P28: =MID('TABLA DE SUMINISTROS'!A28,2,1) | Q28: =MID('TABLA DE SUMINISTROS'!A28,3,1) | R28: =MID('TABLA DE SUMINISTROS'!A28,4,1) | S28: =MID('TABLA DE SUMINISTROS'!A28,5,1) | T28: =MID('TABLA DE SUMINISTROS'!A28,6,1) | U28: =MID('TABLA DE SUMINISTROS'!A28,7,1) | V28: =MID('TABLA DE SUMINISTROS'!A28,8,1) | W28: =MID('TABLA DE SUMINISTROS'!A28,9,1) | X28: =MID('TABLA DE SUMINISTROS'!A28,10,1) | Y28: =MID('TABLA DE SUMINISTROS'!A28,11,1) | Z28: =MID('TABLA DE SUMINISTROS'!A28,12,1) | AA28: =MID('TABLA DE SUMINISTROS'!A28,13,1) | AB28: =MID('TABLA DE SUMINISTROS'!A28,14,1) | AC28: =MID('TABLA DE SUMINISTROS'!A28,15,1) | AD28: =MID('TABLA DE SUMINISTROS'!A28,16,1) | AE28: =MID('TABLA DE SUMINISTROS'!A28,17,1) | AF28: =MID('TABLA DE SUMINISTROS'!A28,18,1) | AG28: =MID('TABLA DE SUMINISTROS'!A28,19,1) | AH28: =MID('TABLA DE SUMINISTROS'!A28,20,1) | AI28: =MID('TABLA DE SUMINISTROS'!A28,21,1) | AJ28: =MID('TABLA DE SUMINISTROS'!A28,22,1)
A29: Tarifa acceso: | D29: =IF('TABLA DE SUMINISTROS'!J28="","",'TABLA DE SUMINISTROS'!J28) | G29: Potencia Contratada (kW): | M29: P1= | N29: =IF('TABLA DE SUMINISTROS'!K28="","",'TABLA DE SUMINISTROS'!K28) | Q29: P2= | R29: =IF('TABLA DE SUMINISTROS'!L28="","",'TABLA DE SUMINISTROS'!L28) | U29: P3= | V29: =IF('TABLA DE SUMINISTROS'!M28="","",'TABLA DE SUMINISTROS'!M28) | Y29: P4= | Z29: =IF('TABLA DE SUMINISTROS'!N28="","",'TABLA DE SUMINISTROS'!N28) | AC29: P5= | AD29: =IF('TABLA DE SUMINISTROS'!O28="","",'TABLA DE SUMINISTROS'!O28) | AG29: P6= | AH29: =IF('TABLA DE SUMINISTROS'!P28="","",'TABLA DE SUMINISTROS'!P28)
A30: Fecha de inicio solicitada*: | H30: =IF('TABLA DE SUMINISTROS'!Q28="","",'TABLA DE SUMINISTROS'!Q28)
A31: Contratar suministro eléctrico a: | I31: □ | K31: Precio Fijo | P31: □ | Q31: Precio Indexado
A33: Denominación social: | G33: =UPPER(CONCATENATE('TABLA DE SUMINISTROS'!R29,"")) | Z33: NIF: | AD33: =UPPER(CONCATENATE('TABLA DE SUMINISTROS'!S29,))
A34: Dirección: | D34: =UPPER(CONCATENATE('TABLA DE SUMINISTROS'!B29," ",'TABLA DE SUMINISTROS'!C29)) | Z34: Escalera / Piso / Puerta: | AF34: =UPPER('TABLA DE SUMINISTROS'!D29)
A35: Localidad: | D35: =UPPER('TABLA DE SUMINISTROS'!F29) | O35: Provincia: | R35: =UPPER('TABLA DE SUMINISTROS'!G23) | AB35: Código Postal: | AF35: =MID('TABLA DE SUMINISTROS'!E29,1,1) | AG35: =MID('TABLA DE SUMINISTROS'!E29,2,1) | AH35: =MID('TABLA DE SUMINISTROS'!E29,3,1) | AI35: =MID('TABLA DE SUMINISTROS'!E29,4,1) | AJ35: =MID('TABLA DE SUMINISTROS'!E29,5,1)
A36: Referencia catastral: | F36: =MID('TABLA DE SUMINISTROS'!I11,1,1) | G36: =MID('TABLA DE SUMINISTROS'!I11,2,1) | H36: =MID('TABLA DE SUMINISTROS'!I11,3,1) | I36: =MID('TABLA DE SUMINISTROS'!I11,4,1) | J36: =MID('TABLA DE SUMINISTROS'!I11,5,1) | K36: =MID('TABLA DE SUMINISTROS'!I11,6,1) | L36: =MID('TABLA DE SUMINISTROS'!I11,7,1) | M36: =MID('TABLA DE SUMINISTROS'!I11,8,1) | N36: =MID('TABLA DE SUMINISTROS'!I11,9,1) | O36: =MID('TABLA DE SUMINISTROS'!I11,10,1) | P36: =MID('TABLA DE SUMINISTROS'!I11,11,1) | Q36: =MID('TABLA DE SUMINISTROS'!I11,12,1) | R36: =MID('TABLA DE SUMINISTROS'!I11,13,1) | S36: =MID('TABLA DE SUMINISTROS'!I11,14,1) | T36: =MID('TABLA DE SUMINISTROS'!I11,15,1) | U36: =MID('TABLA DE SUMINISTROS'!I11,16,1) | V36: =MID('TABLA DE SUMINISTROS'!I11,17,1) | W36: =MID('TABLA DE SUMINISTROS'!I11,18,1) | X36: =MID('TABLA DE SUMINISTROS'!I11,19,1) | Y36: =MID('TABLA DE SUMINISTROS'!I11,20,1) | Z36: Código actividad CNAE: | AF36: =MID('TABLA DE SUMINISTROS'!H11,1,1) | AG36: =MID('TABLA DE SUMINISTROS'!H11,2,1) | AH36: =MID('TABLA DE SUMINISTROS'!H11,3,1) | AI36: =MID('TABLA DE SUMINISTROS'!H11,4,1) | AJ36: =MID('TABLA DE SUMINISTROS'!H11,5,1)
A37: Código Universal de punto de Suministro de Electricidad CUPS: | O37: =MID('TABLA DE SUMINISTROS'!A29,1,1) | P37: =MID('TABLA DE SUMINISTROS'!A29,2,1) | Q37: =MID('TABLA DE SUMINISTROS'!A29,3,1) | R37: =MID('TABLA DE SUMINISTROS'!A29,4,1) | S37: =MID('TABLA DE SUMINISTROS'!A29,5,1) | T37: =MID('TABLA DE SUMINISTROS'!A29,6,1) | U37: =MID('TABLA DE SUMINISTROS'!A29,7,1) | V37: =MID('TABLA DE SUMINISTROS'!A29,8,1) | W37: =MID('TABLA DE SUMINISTROS'!A29,9,1) | X37: =MID('TABLA DE SUMINISTROS'!A29,10,1) | Y37: =MID('TABLA DE SUMINISTROS'!A29,11,1) | Z37: =MID('TABLA DE SUMINISTROS'!A29,12,1) | AA37: =MID('TABLA DE SUMINISTROS'!A29,13,1) | AB37: =MID('TABLA DE SUMINISTROS'!A29,14,1) | AC37: =MID('TABLA DE SUMINISTROS'!A29,15,1) | AD37: =MID('TABLA DE SUMINISTROS'!A29,16,1) | AE37: =MID('TABLA DE SUMINISTROS'!A29,17,1) | AF37: =MID('TABLA DE SUMINISTROS'!A29,18,1) | AG37: =MID('TABLA DE SUMINISTROS'!A29,19,1) | AH37: =MID('TABLA DE SUMINISTROS'!A29,20,1) | AI37: =MID('TABLA DE SUMINISTROS'!A29,21,1) | AJ37: =MID('TABLA DE SUMINISTROS'!A29,22,1)
A38: Tarifa acceso: | D38: =IF('TABLA DE SUMINISTROS'!J29="","",'TABLA DE SUMINISTROS'!J29) | G38: Potencia Contratada (kW): | M38: P1= | N38: =IF('TABLA DE SUMINISTROS'!K29="","",'TABLA DE SUMINISTROS'!K29) | Q38: P2= | R38: =IF('TABLA DE SUMINISTROS'!L29="","",'TABLA DE SUMINISTROS'!L29) | U38: P3= | V38: =IF('TABLA DE SUMINISTROS'!M29="","",'TABLA DE SUMINISTROS'!M29) | Y38: P4= | Z38: =IF('TABLA DE SUMINISTROS'!N29="","",'TABLA DE SUMINISTROS'!N29) | AC38: P5= | AD38: =IF('TABLA DE SUMINISTROS'!O29="","",'TABLA DE SUMINISTROS'!O29) | AG38: P6= | AH38: =IF('TABLA DE SUMINISTROS'!P29="","",'TABLA DE SUMINISTROS'!P29)
A39: Fecha de inicio solicitada*: | H39: =IF('TABLA DE SUMINISTROS'!Q29="","",'TABLA DE SUMINISTROS'!Q29)
A40: Contratar suministro eléctrico a: | I40: □ | K40: Precio Fijo | P40: □ | Q40: Precio Indexado
A42: Denominación social: | G42: =UPPER(CONCATENATE('TABLA DE SUMINISTROS'!R30,"")) | Z42: NIF: | AD42: =UPPER(CONCATENATE('TABLA DE SUMINISTROS'!S30,))
A43: Dirección: | D43: =UPPER(CONCATENATE('TABLA DE SUMINISTROS'!B30," ",'TABLA DE SUMINISTROS'!C30)) | Z43: Escalera / Piso / Puerta: | AF43: =UPPER('TABLA DE SUMINISTROS'!D30)
A44: Localidad: | D44: =UPPER('TABLA DE SUMINISTROS'!F30) | O44: Provincia: | R44: =UPPER('TABLA DE SUMINISTROS'!G30) | AB44: Código Postal: | AF44: =MID('TABLA DE SUMINISTROS'!E30,1,1) | AG44: =MID('TABLA DE SUMINISTROS'!E30,2,1) | AH44: =MID('TABLA DE SUMINISTROS'!E30,3,1) | AI44: =MID('TABLA DE SUMINISTROS'!E30,4,1) | AJ44: =MID('TABLA DE SUMINISTROS'!E30,5,1)
A45: Referencia catastral: | F45: =MID('TABLA DE SUMINISTROS'!I6,1,1) | G45: =MID('TABLA DE SUMINISTROS'!I6,2,1) | H45: =MID('TABLA DE SUMINISTROS'!I6,3,1) | I45: =MID('TABLA DE SUMINISTROS'!I6,4,1) | J45: =MID('TABLA DE SUMINISTROS'!I6,5,1) | K45: =MID('TABLA DE SUMINISTROS'!I6,6,1) | L45: =MID('TABLA DE SUMINISTROS'!I6,7,1) | M45: =MID('TABLA DE SUMINISTROS'!I6,8,1) | N45: =MID('TABLA DE SUMINISTROS'!I6,9,1) | O45: =MID('TABLA DE SUMINISTROS'!I6,10,1) | P45: =MID('TABLA DE SUMINISTROS'!I6,11,1) | Q45: =MID('TABLA DE SUMINISTROS'!I6,12,1) | R45: =MID('TABLA DE SUMINISTROS'!I6,13,1) | S45: =MID('TABLA DE SUMINISTROS'!I6,14,1) | T45: =MID('TABLA DE SUMINISTROS'!I6,15,1) | U45: =MID('TABLA DE SUMINISTROS'!I6,16,1) | V45: =MID('TABLA DE SUMINISTROS'!I6,17,1) | W45: =MID('TABLA DE SUMINISTROS'!I6,18,1) | X45: =MID('TABLA DE SUMINISTROS'!I6,19,1) | Y45: =MID('TABLA DE SUMINISTROS'!I6,20,1) | Z45: Código actividad CNAE: | AF45: =MID('TABLA DE SUMINISTROS'!H12,1,1) | AG45: =MID('TABLA DE SUMINISTROS'!H12,2,1) | AH45: =MID('TABLA DE SUMINISTROS'!H12,3,1) | AI45: =MID('TABLA DE SUMINISTROS'!H12,4,1) | AJ45: =MID('TABLA DE SUMINISTROS'!H12,5,1)
A46: Código Universal de punto de Suministro de Electricidad CUPS: | O46: =MID('TABLA DE SUMINISTROS'!A30,1,1) | P46: =MID('TABLA DE SUMINISTROS'!A30,2,1) | Q46: =MID('TABLA DE SUMINISTROS'!A30,3,1) | R46: =MID('TABLA DE SUMINISTROS'!A30,4,1) | S46: =MID('TABLA DE SUMINISTROS'!A30,5,1) | T46: =MID('TABLA DE SUMINISTROS'!A30,6,1) | U46: =MID('TABLA DE SUMINISTROS'!A30,7,1) | V46: =MID('TABLA DE SUMINISTROS'!A30,8,1) | W46: =MID('TABLA DE SUMINISTROS'!A30,9,1) | X46: =MID('TABLA DE SUMINISTROS'!A30,10,1) | Y46: =MID('TABLA DE SUMINISTROS'!A30,11,1) | Z46: =MID('TABLA DE SUMINISTROS'!A30,12,1) | AA46: =MID('TABLA DE SUMINISTROS'!A30,13,1) | AB46: =MID('TABLA DE SUMINISTROS'!A30,14,1) | AC46: =MID('TABLA DE SUMINISTROS'!A30,15,1) | AD46: =MID('TABLA DE SUMINISTROS'!A30,16,1) | AE46: =MID('TABLA DE SUMINISTROS'!A30,17,1) | AF46: =MID('TABLA DE SUMINISTROS'!A30,18,1) | AG46: =MID('TABLA DE SUMINISTROS'!A30,19,1) | AH46: =MID('TABLA DE SUMINISTROS'!A30,20,1) | AI46: =MID('TABLA DE SUMINISTROS'!A30,21,1) | AJ46: =MID('TABLA DE SUMINISTROS'!A30,22,1)
A47: Tarifa acceso: | D47: =IF('TABLA DE SUMINISTROS'!J30="","",'TABLA DE SUMINISTROS'!J30) | G47: Potencia Contratada (kW): | M47: P1= | N47: =IF('TABLA DE SUMINISTROS'!K30="","",'TABLA DE SUMINISTROS'!K30) | Q47: P2= | R47: =IF('TABLA DE SUMINISTROS'!L30="","",'TABLA DE SUMINISTROS'!L30) | U47: P3= | V47: =IF('TABLA DE SUMINISTROS'!M30="","",'TABLA DE SUMINISTROS'!M30) | Y47: P4= | Z47: =IF('TABLA DE SUMINISTROS'!N30="","",'TABLA DE SUMINISTROS'!N30) | AC47: P5= | AD47: =IF('TABLA DE SUMINISTROS'!O30="","",'TABLA DE SUMINISTROS'!O30) | AG47: P6= | AH47: =IF('TABLA DE SUMINISTROS'!P30="","",'TABLA DE SUMINISTROS'!P30)
A48: Fecha de inicio solicitada*: | H48: =IF('TABLA DE SUMINISTROS'!Q30="","",'TABLA DE SUMINISTROS'!Q30)
A49: Contratar suministro eléctrico a: | I49: □ | K49: Precio Fijo | P49: □ | Q49: Precio Indexado
A51: Denominación social: | G51: =UPPER(CONCATENATE('TABLA DE SUMINISTROS'!R31,"")) | Z51: NIF: | AD51: =UPPER(CONCATENATE('TABLA DE SUMINISTROS'!S31,))
A52: Dirección: | D52: =UPPER(CONCATENATE('TABLA DE SUMINISTROS'!B31," ",'TABLA DE SUMINISTROS'!C31)) | Z52: Escalera / Piso / Puerta: | AF52: =UPPER('TABLA DE SUMINISTROS'!D31)
A53: Localidad: | D53: =UPPER('TABLA DE SUMINISTROS'!F31) | O53: Provincia: | R53: =UPPER('TABLA DE SUMINISTROS'!G31) | AB53: Código Postal: | AF53: =MID('TABLA DE SUMINISTROS'!E31,1,1) | AG53: =MID('TABLA DE SUMINISTROS'!E31,2,1) | AH53: =MID('TABLA DE SUMINISTROS'!E31,3,1) | AI53: =MID('TABLA DE SUMINISTROS'!E31,4,1) | AJ53: =MID('TABLA DE SUMINISTROS'!E31,5,1)
A54: Referencia catastral: | F54: =MID('TABLA DE SUMINISTROS'!I7,1,1) | G54: =MID('TABLA DE SUMINISTROS'!I7,2,1) | H54: =MID('TABLA DE SUMINISTROS'!I7,3,1) | I54: =MID('TABLA DE SUMINISTROS'!I7,4,1) | J54: =MID('TABLA DE SUMINISTROS'!I7,5,1) | K54: =MID('TABLA DE SUMINISTROS'!I7,6,1) | L54: =MID('TABLA DE SUMINISTROS'!I7,7,1) | M54: =MID('TABLA DE SUMINISTROS'!I7,8,1) | N54: =MID('TABLA DE SUMINISTROS'!I7,9,1) | O54: =MID('TABLA DE SUMINISTROS'!I7,10,1) | P54: =MID('TABLA DE SUMINISTROS'!I7,11,1) | Q54: =MID('TABLA DE SUMINISTROS'!I7,12,1) | R54: =MID('TABLA DE SUMINISTROS'!I7,13,1) | S54: =MID('TABLA DE SUMINISTROS'!I7,14,1) | T54: =MID('TABLA DE SUMINISTROS'!I7,15,1) | U54: =MID('TABLA DE SUMINISTROS'!I7,16,1) | V54: =MID('TABLA DE SUMINISTROS'!I7,17,1) | W54: =MID('TABLA DE SUMINISTROS'!I7,18,1) | X54: =MID('TABLA DE SUMINISTROS'!I7,19,1) | Y54: =MID('TABLA DE SUMINISTROS'!I7,20,1) | Z54: Código actividad CNAE: | AF54: =MID('TABLA DE SUMINISTROS'!H13,1,1) | AG54: =MID('TABLA DE SUMINISTROS'!H13,2,1) | AH54: =MID('TABLA DE SUMINISTROS'!H13,3,1) | AI54: =MID('TABLA DE SUMINISTROS'!H13,4,1) | AJ54: =MID('TABLA DE SUMINISTROS'!H13,5,1)
A55: Código Universal de punto de Suministro de Electricidad CUPS: | O55: =MID('TABLA DE SUMINISTROS'!A31,1,1) | P55: =MID('TABLA DE SUMINISTROS'!A31,2,1) | Q55: =MID('TABLA DE SUMINISTROS'!A31,3,1) | R55: =MID('TABLA DE SUMINISTROS'!A31,4,1) | S55: =MID('TABLA DE SUMINISTROS'!A31,5,1) | T55: =MID('TABLA DE SUMINISTROS'!A31,6,1) | U55: =MID('TABLA DE SUMINISTROS'!A31,7,1) | V55: =MID('TABLA DE SUMINISTROS'!A31,8,1) | W55: =MID('TABLA DE SUMINISTROS'!A31,9,1) | X55: =MID('TABLA DE SUMINISTROS'!A31,10,1) | Y55: =MID('TABLA DE SUMINISTROS'!A31,11,1) | Z55: =MID('TABLA DE SUMINISTROS'!A31,12,1) | AA55: =MID('TABLA DE SUMINISTROS'!A31,13,1) | AB55: =MID('TABLA DE SUMINISTROS'!A31,14,1) | AC55: =MID('TABLA DE SUMINISTROS'!A31,15,1) | AD55: =MID('TABLA DE SUMINISTROS'!A31,16,1) | AE55: =MID('TABLA DE SUMINISTROS'!A31,17,1) | AF55: =MID('TABLA DE SUMINISTROS'!A31,18,1) | AG55: =MID('TABLA DE SUMINISTROS'!A31,19,1) | AH55: =MID('TABLA DE SUMINISTROS'!A31,20,1) | AI55: =MID('TABLA DE SUMINISTROS'!A31,21,1) | AJ55: =MID('TABLA DE SUMINISTROS'!A25,22,1)
A56: Tarifa acceso: | D56: =IF('TABLA DE SUMINISTROS'!J31="","",'TABLA DE SUMINISTROS'!J31) | G56: Potencia Contratada (kW): | M56: P1= | N56: =IF('TABLA DE SUMINISTROS'!K31="","",'TABLA DE SUMINISTROS'!K31) | Q56: P2= | R56: =IF('TABLA DE SUMINISTROS'!L31="","",'TABLA DE SUMINISTROS'!L31) | U56: P3= | V56: =IF('TABLA DE SUMINISTROS'!M31="","",'TABLA DE SUMINISTROS'!M31) | Y56: P4= | Z56: =IF('TABLA DE SUMINISTROS'!N31="","",'TABLA DE SUMINISTROS'!N31) | AC56: P5= | AD56: =IF('TABLA DE SUMINISTROS'!O31="","",'TABLA DE SUMINISTROS'!O31) | AG56: P6= | AH56: =IF('TABLA DE SUMINISTROS'!P31="","",'TABLA DE SUMINISTROS'!P31)
A57: Fecha de inicio solicitada*: | H57: =IF('TABLA DE SUMINISTROS'!Q31="","",'TABLA DE SUMINISTROS'!Q31)
A58: Contratar suministro eléctrico a: | I58: □ | K58: Precio Fijo | P58: □ | Q58: Precio Indexado
A60: *Esta fecha es orientativa y quedará sometida a la efectiva activación por parte de la Distribuidora, quedando Audax exonerada de toda responsabilidad para el caso no ejecución en la fecha prevista e independientemente de su motivo. Para Adx Classic la fecha de activación solicitada no podrá ser superior al plazo de dos (2) meses desde la fecha de firma de este Contrato.
A63: ACEPTACIÓN Y FIRMA
A64: El presente documento es un anexo a las Condiciones Particulares del Contrato Dual de Suministro y servicios adicionales. A los CUPS que se relacionan en el presente documento le serán de aplicación las condiciones Generales y Particulares contenidas en el Contrato que integra.
A67: p.p | L67: Por El Representante /Cliente: | R67: (Firma y sello)
N70: Lugar y fecha: | R70: En___________________________________________________________, a ______ de _____________________ de _________.
A72: ADX RENOVABLES, S.L. - N.I.F.: B72562051 Calle Electrónica, 19, 7C C.P. 08915-Badalona (Barcelona), Registro Mercantil de Barcelona, tomo 48712, folio 75, hoja B-B-593463

Sheet ANEXO SUMINISTROS 32 al 37
A4: Anexo de Puntos de Suministro Eléctrico
A5: CONTRATO DUAL DE SUMINISTRO Y SERVICIOS ADICIONALES
A6: Denominación social: | G6: =UPPER(CONCATENATE('TABLA DE SUMINISTROS'!R32,"")) | Z6: NIF: | AD6: =UPPER(CONCATENATE('TABLA DE SUMINISTROS'!S32,))
A7: Dirección: | D7: =UPPER(CONCATENATE('TABLA DE SUMINISTROS'!B32," ",'TABLA DE SUMINISTROS'!C32)) | Z7: Escalera / Piso / Puerta: | AF7: =UPPER('TABLA DE SUMINISTROS'!D32)
A8: Localidad: | D8: =UPPER('TABLA DE SUMINISTROS'!F32) | O8: Provincia: | R8: =UPPER('TABLA DE SUMINISTROS'!G32) | AB8: Código Postal: | AF8: =MID('TABLA DE SUMINISTROS'!E32,1,1) | AG8: =MID('TABLA DE SUMINISTROS'!E32,2,1) | AH8: =MID('TABLA DE SUMINISTROS'!E32,3,1) | AI8: =MID('TABLA DE SUMINISTROS'!E32,4,1) | AJ8: =MID('TABLA DE SUMINISTROS'!E32,5,1)
A9: Referencia catastral: | F9: =MID('TABLA DE SUMINISTROS'!I14,1,1) | G9: =MID('TABLA DE SUMINISTROS'!I14,2,1) | H9: =MID('TABLA DE SUMINISTROS'!I14,3,1) | I9: =MID('TABLA DE SUMINISTROS'!I8,4,1) | J9: =MID('TABLA DE SUMINISTROS'!I8,5,1) | K9: =MID('TABLA DE SUMINISTROS'!I8,6,1) | L9: =MID('TABLA DE SUMINISTROS'!I8,7,1) | M9: =MID('TABLA DE SUMINISTROS'!I8,8,1) | N9: =MID('TABLA DE SUMINISTROS'!I8,9,1) | O9: =MID('TABLA DE SUMINISTROS'!I8,10,1) | P9: =MID('TABLA DE SUMINISTROS'!I8,11,1) | Q9: =MID('TABLA DE SUMINISTROS'!I8,12,1) | R9: =MID('TABLA DE SUMINISTROS'!I8,13,1) | S9: =MID('TABLA DE SUMINISTROS'!I8,14,1) | T9: =MID('TABLA DE SUMINISTROS'!I8,15,1) | U9: =MID('TABLA DE SUMINISTROS'!I8,16,1) | V9: =MID('TABLA DE SUMINISTROS'!I8,17,1) | W9: =MID('TABLA DE SUMINISTROS'!I8,18,1) | X9: =MID('TABLA DE SUMINISTROS'!I8,19,1) | Y9: =MID('TABLA DE SUMINISTROS'!I8,20,1) | Z9: Código actividad CNAE: | AF9: =MID('TABLA DE SUMINISTROS'!H14,1,1) | AG9: =MID('TABLA DE SUMINISTROS'!H8,2,1) | AH9: =MID('TABLA DE SUMINISTROS'!H8,3,1) | AI9: =MID('TABLA DE SUMINISTROS'!H8,4,1) | AJ9: =MID('TABLA DE SUMINISTROS'!H8,5,1)
A10: Código Universal de punto de Suministro de Electricidad CUPS: | O10: =MID('TABLA DE SUMINISTROS'!A32,1,1) | P10: =MID('TABLA DE SUMINISTROS'!A32,2,1) | Q10: =MID('TABLA DE SUMINISTROS'!A32,3,1) | R10: =MID('TABLA DE SUMINISTROS'!A32,4,1) | S10: =MID('TABLA DE SUMINISTROS'!A32,5,1) | T10: =MID('TABLA DE SUMINISTROS'!A32,6,1) | U10: =MID('TABLA DE SUMINISTROS'!A32,7,1) | V10: =MID('TABLA DE SUMINISTROS'!A32,8,1) | W10: =MID('TABLA DE SUMINISTROS'!A32,9,1) | X10: =MID('TABLA DE SUMINISTROS'!A32,10,1) | Y10: =MID('TABLA DE SUMINISTROS'!A32,11,1) | Z10: =MID('TABLA DE SUMINISTROS'!A32,12,1) | AA10: =MID('TABLA DE SUMINISTROS'!A32,13,1) | AB10: =MID('TABLA DE SUMINISTROS'!A32,14,1) | AC10: =MID('TABLA DE SUMINISTROS'!A32,15,1) | AD10: =MID('TABLA DE SUMINISTROS'!A32,16,1) | AE10: =MID('TABLA DE SUMINISTROS'!A32,17,1) | AF10: =MID('TABLA DE SUMINISTROS'!A32,18,1) | AG10: =MID('TABLA DE SUMINISTROS'!A32,19,1) | AH10: =MID('TABLA DE SUMINISTROS'!A32,20,1) | AI10: =MID('TABLA DE SUMINISTROS'!A32,21,1) | AJ10: =MID('TABLA DE SUMINISTROS'!A32,22,1)
A11: Tarifa acceso: | D11: =IF('TABLA DE SUMINISTROS'!J32="","",'TABLA DE SUMINISTROS'!J32) | G11: Potencia Contratada (kW): | M11: P1= | N11: =IF('TABLA DE SUMINISTROS'!K32="","",'TABLA DE SUMINISTROS'!K32) | Q11: P2= | R11: =IF('TABLA DE SUMINISTROS'!L32="","",'TABLA DE SUMINISTROS'!L32) | U11: P3= | V11: =IF('TABLA DE SUMINISTROS'!M32="","",'TABLA DE SUMINISTROS'!M32) | Y11: P4= | Z11: =IF('TABLA DE SUMINISTROS'!N32="","",'TABLA DE SUMINISTROS'!N32) | AC11: P5= | AD11: =IF('TABLA DE SUMINISTROS'!O32="","",'TABLA DE SUMINISTROS'!O32) | AG11: P6= | AH11: =IF('TABLA DE SUMINISTROS'!P32="","",'TABLA DE SUMINISTROS'!P32)
A12: Fecha de inicio solicitada*: | H12: =IF('TABLA DE SUMINISTROS'!Q32="","",'TABLA DE SUMINISTROS'!Q32)
A13: Contratar suministro eléctrico a: | I13: □ | K13: Precio Fijo | P13: □ | Q13: Precio Indexado
A15: Denominación social: | G15: =UPPER(CONCATENATE('TABLA DE SUMINISTROS'!R33,"")) | Z15: NIF: | AD15: =UPPER(CONCATENATE('TABLA DE SUMINISTROS'!S33,))
A16: Dirección: | D16: =UPPER(CONCATENATE('TABLA DE SUMINISTROS'!B33," ",'TABLA DE SUMINISTROS'!C33)) | Z16: Escalera / Piso / Puerta: | AF16: =UPPER('TABLA DE SUMINISTROS'!D33)
A17: Localidad: | D17: =UPPER('TABLA DE SUMINISTROS'!F33) | O17: Provincia: | R17: =UPPER('TABLA DE SUMINISTROS'!G33) | AB17: Código Postal: | AF17: =MID('TABLA DE SUMINISTROS'!E33,1,1) | AG17: =MID('TABLA DE SUMINISTROS'!E33,2,1) | AH17: =MID('TABLA DE SUMINISTROS'!E33,3,1) | AI17: =MID('TABLA DE SUMINISTROS'!E33,4,1) | AJ17: =MID('TABLA DE SUMINISTROS'!E33,5,1)
A18: Referencia catastral: | F18: =MID('TABLA DE SUMINISTROS'!I9,1,1) | G18: =MID('TABLA DE SUMINISTROS'!I9,2,1) | H18: =MID('TABLA DE SUMINISTROS'!I9,3,1) | I18: =MID('TABLA DE SUMINISTROS'!I9,4,1) | J18: =MID('TABLA DE SUMINISTROS'!I9,5,1) | K18: =MID('TABLA DE SUMINISTROS'!I9,6,1) | L18: =MID('TABLA DE SUMINISTROS'!I9,7,1) | M18: =MID('TABLA DE SUMINISTROS'!I9,8,1) | N18: =MID('TABLA DE SUMINISTROS'!I9,9,1) | O18: =MID('TABLA DE SUMINISTROS'!I9,10,1) | P18: =MID('TABLA DE SUMINISTROS'!I9,11,1) | Q18: =MID('TABLA DE SUMINISTROS'!I9,12,1) | R18: =MID('TABLA DE SUMINISTROS'!I9,13,1) | S18: =MID('TABLA DE SUMINISTROS'!I9,14,1) | T18: =MID('TABLA DE SUMINISTROS'!I9,15,1) | U18: =MID('TABLA DE SUMINISTROS'!I9,16,1) | V18: =MID('TABLA DE SUMINISTROS'!I9,17,1) | W18: =MID('TABLA DE SUMINISTROS'!I9,18,1) | X18: =MID('TABLA DE SUMINISTROS'!I9,19,1) | Y18: =MID('TABLA DE SUMINISTROS'!I9,20,1) | Z18: Código actividad CNAE: | AF18: =MID('TABLA DE SUMINISTROS'!H9,1,1) | AG18: =MID('TABLA DE SUMINISTROS'!H9,2,1) | AH18: =MID('TABLA DE SUMINISTROS'!H9,3,1) | AI18: =MID('TABLA DE SUMINISTROS'!H9,4,1) | AJ18: =MID('TABLA DE SUMINISTROS'!H9,5,1)
A19: Código Universal de punto de Suministro de Electricidad CUPS: | O19: =MID('TABLA DE SUMINISTROS'!A33,1,1) | P19: =MID('TABLA DE SUMINISTROS'!A33,2,1) | Q19: =MID('TABLA DE SUMINISTROS'!A33,3,1) | R19: =MID('TABLA DE SUMINISTROS'!A33,4,1) | S19: =MID('TABLA DE SUMINISTROS'!A33,5,1) | T19: =MID('TABLA DE SUMINISTROS'!A33,6,1) | U19: =MID('TABLA DE SUMINISTROS'!A33,7,1) | V19: =MID('TABLA DE SUMINISTROS'!A33,8,1) | W19: =MID('TABLA DE SUMINISTROS'!A33,9,1) | X19: =MID('TABLA DE SUMINISTROS'!A33,10,1) | Y19: =MID('TABLA DE SUMINISTROS'!A33,11,1) | Z19: =MID('TABLA DE SUMINISTROS'!A33,12,1) | AA19: =MID('TABLA DE SUMINISTROS'!A33,13,1) | AB19: =MID('TABLA DE SUMINISTROS'!A33,14,1) | AC19: =MID('TABLA DE SUMINISTROS'!A33,15,1) | AD19: =MID('TABLA DE SUMINISTROS'!A33,16,1) | AE19: =MID('TABLA DE SUMINISTROS'!A33,17,1) | AF19: =MID('TABLA DE SUMINISTROS'!A33,18,1) | AG19: =MID('TABLA DE SUMINISTROS'!A33,19,1) | AH19: =MID('TABLA DE SUMINISTROS'!A33,20,1) | AI19: =MID('TABLA DE SUMINISTROS'!A33,21,1) | AJ19: =MID('TABLA DE SUMINISTROS'!A33,22,1)
A20: Tarifa acceso: | D20: =IF('TABLA DE SUMINISTROS'!J33="","",'TABLA DE SUMINISTROS'!J33) | G20: Potencia Contratada (kW): | M20: P1= | N20: =IF('TABLA DE SUMINISTROS'!K33="","",'TABLA DE SUMINISTROS'!K33) | Q20: P2= | R20: =IF('TABLA DE SUMINISTROS'!L33="","",'TABLA DE SUMINISTROS'!L33) | U20: P3= | V20: =IF('TABLA DE SUMINISTROS'!M33="","",'TABLA DE SUMINISTROS'!M33) | Y20: P4= | Z20: =IF('TABLA DE SUMINISTROS'!N33="","",'TABLA DE SUMINISTROS'!N33) | AC20: P5= | AD20: =IF('TABLA DE SUMINISTROS'!O33="","",'TABLA DE SUMINISTROS'!O33) | AG20: P6= | AH20: =IF('TABLA DE SUMINISTROS'!P33="","",'TABLA DE SUMINISTROS'!P33)
A21: Fecha de inicio solicitada*: | H21: =IF('TABLA DE SUMINISTROS'!Q33="","",'TABLA DE SUMINISTROS'!Q33)
A22: Contratar suministro eléctrico a: | I22: □ | K22: Precio Fijo | P22: □ | Q22: Precio Indexado
A24: Denominación social: | G24: =UPPER(CONCATENATE('TABLA DE SUMINISTROS'!R34,"")) | Z24: NIF: | AD24: =UPPER(CONCATENATE('TABLA DE SUMINISTROS'!S34,))
A25: Dirección: | D25: =UPPER(CONCATENATE('TABLA DE SUMINISTROS'!B34," ",'TABLA DE SUMINISTROS'!C34)) | Z25: Escalera / Piso / Puerta: | AF25: =UPPER('TABLA DE SUMINISTROS'!D34)
A26: Localidad: | D26: =UPPER('TABLA DE SUMINISTROS'!F34) | O26: Provincia: | R26: =UPPER('TABLA DE SUMINISTROS'!G34) | AB26: Código Postal: | AF26: =MID('TABLA DE SUMINISTROS'!E34,1,1) | AG26: =MID('TABLA DE SUMINISTROS'!E34,2,1) | AH26: =MID('TABLA DE SUMINISTROS'!E34,3,1) | AI26: =MID('TABLA DE SUMINISTROS'!E34,4,1) | AJ26: =MID('TABLA DE SUMINISTROS'!E34,5,1)
A27: Referencia catastral: | F27: =MID('TABLA DE SUMINISTROS'!I10,1,1) | G27: =MID('TABLA DE SUMINISTROS'!I10,2,1) | H27: =MID('TABLA DE SUMINISTROS'!I10,3,1) | I27: =MID('TABLA DE SUMINISTROS'!I10,4,1) | J27: =MID('TABLA DE SUMINISTROS'!I10,5,1) | K27: =MID('TABLA DE SUMINISTROS'!I10,6,1) | L27: =MID('TABLA DE SUMINISTROS'!I10,7,1) | M27: =MID('TABLA DE SUMINISTROS'!I10,8,1) | N27: =MID('TABLA DE SUMINISTROS'!I10,9,1) | O27: =MID('TABLA DE SUMINISTROS'!I10,10,1) | P27: =MID('TABLA DE SUMINISTROS'!I10,11,1) | Q27: =MID('TABLA DE SUMINISTROS'!I10,12,1) | R27: =MID('TABLA DE SUMINISTROS'!I10,13,1) | S27: =MID('TABLA DE SUMINISTROS'!I10,14,1) | T27: =MID('TABLA DE SUMINISTROS'!I10,15,1) | U27: =MID('TABLA DE SUMINISTROS'!I10,16,1) | V27: =MID('TABLA DE SUMINISTROS'!I10,17,1) | W27: =MID('TABLA DE SUMINISTROS'!I10,18,1) | X27: =MID('TABLA DE SUMINISTROS'!I10,19,1) | Y27: =MID('TABLA DE SUMINISTROS'!I10,20,1) | Z27: Código actividad CNAE: | AF27: =MID('TABLA DE SUMINISTROS'!H10,1,1) | AG27: =MID('TABLA DE SUMINISTROS'!H10,2,1) | AH27: =MID('TABLA DE SUMINISTROS'!H10,3,1) | AI27: =MID('TABLA DE SUMINISTROS'!H10,4,1) | AJ27: =MID('TABLA DE SUMINISTROS'!H10,5,1)
A28: Código Universal de punto de Suministro de Electricidad CUPS: | O28: =MID('TABLA DE SUMINISTROS'!A34,1,1) | P28: =MID('TABLA DE SUMINISTROS'!A34,2,1) | Q28: =MID('TABLA DE SUMINISTROS'!A34,3,1) | R28: =MID('TABLA DE SUMINISTROS'!A34,4,1) | S28: =MID('TABLA DE SUMINISTROS'!A34,5,1) | T28: =MID('TABLA DE SUMINISTROS'!A34,6,1) | U28: =MID('TABLA DE SUMINISTROS'!A34,7,1) | V28: =MID('TABLA DE SUMINISTROS'!A34,8,1) | W28: =MID('TABLA DE SUMINISTROS'!A34,9,1) | X28: =MID('TABLA DE SUMINISTROS'!A34,10,1) | Y28: =MID('TABLA DE SUMINISTROS'!A34,11,1) | Z28: =MID('TABLA DE SUMINISTROS'!A34,12,1) | AA28: =MID('TABLA DE SUMINISTROS'!A34,13,1) | AB28: =MID('TABLA DE SUMINISTROS'!A34,14,1) | AC28: =MID('TABLA DE SUMINISTROS'!A34,15,1) | AD28: =MID('TABLA DE SUMINISTROS'!A34,16,1) | AE28: =MID('TABLA DE SUMINISTROS'!A34,17,1) | AF28: =MID('TABLA DE SUMINISTROS'!A34,18,1) | AG28: =MID('TABLA DE SUMINISTROS'!A34,19,1) | AH28: =MID('TABLA DE SUMINISTROS'!A34,20,1) | AI28: =MID('TABLA DE SUMINISTROS'!A34,21,1) | AJ28: =MID('TABLA DE SUMINISTROS'!A34,22,1)
A29: Tarifa acceso: | D29: =IF('TABLA DE SUMINISTROS'!J34="","",'TABLA DE SUMINISTROS'!J34) | G29: Potencia Contratada (kW): | M29: P1= | N29: =IF('TABLA DE SUMINISTROS'!K34="","",'TABLA DE SUMINISTROS'!K34) | Q29: P2= | R29: =IF('TABLA DE SUMINISTROS'!L34="","",'TABLA DE SUMINISTROS'!L34) | U29: P3= | V29: =IF('TABLA DE SUMINISTROS'!M34="","",'TABLA DE SUMINISTROS'!M34) | Y29: P4= | Z29: =IF('TABLA DE SUMINISTROS'!N34="","",'TABLA DE SUMINISTROS'!N34) | AC29: P5= | AD29: =IF('TABLA DE SUMINISTROS'!O34="","",'TABLA DE SUMINISTROS'!O34) | AG29: P6= | AH29: =IF('TABLA DE SUMINISTROS'!P34="","",'TABLA DE SUMINISTROS'!P34)
A30: Fecha de inicio solicitada*: | H30: =IF('TABLA DE SUMINISTROS'!Q34="","",'TABLA DE SUMINISTROS'!Q34)
A31: Contratar suministro eléctrico a: | I31: □ | K31: Precio Fijo | P31: □ | Q31: Precio Indexado
A33: Denominación social: | G33: =UPPER(CONCATENATE('TABLA DE SUMINISTROS'!R35,"")) | Z33: NIF: | AD33: =UPPER(CONCATENATE('TABLA DE SUMINISTROS'!S35,))
A34: Dirección: | D34: =UPPER(CONCATENATE('TABLA DE SUMINISTROS'!B35," ",'TABLA DE SUMINISTROS'!C35)) | Z34: Escalera / Piso / Puerta: | AF34: =UPPER('TABLA DE SUMINISTROS'!D35)
A35: Localidad: | D35: =UPPER('TABLA DE SUMINISTROS'!F35) | O35: Provincia: | R35: =UPPER('TABLA DE SUMINISTROS'!G35) | AB35: Código Postal: | AF35: =MID('TABLA DE SUMINISTROS'!E35,1,1) | AG35: =MID('TABLA DE SUMINISTROS'!E35,2,1) | AH35: =MID('TABLA DE SUMINISTROS'!E35,3,1) | AI35: =MID('TABLA DE SUMINISTROS'!E35,4,1) | AJ35: =MID('TABLA DE SUMINISTROS'!E35,5,1)
A36: Referencia catastral: | F36: =MID('TABLA DE SUMINISTROS'!I11,1,1) | G36: =MID('TABLA DE SUMINISTROS'!I11,2,1) | H36: =MID('TABLA DE SUMINISTROS'!I11,3,1) | I36: =MID('TABLA DE SUMINISTROS'!I11,4,1) | J36: =MID('TABLA DE SUMINISTROS'!I11,5,1) | K36: =MID('TABLA DE SUMINISTROS'!I11,6,1) | L36: =MID('TABLA DE SUMINISTROS'!I11,7,1) | M36: =MID('TABLA DE SUMINISTROS'!I11,8,1) | N36: =MID('TABLA DE SUMINISTROS'!I11,9,1) | O36: =MID('TABLA DE SUMINISTROS'!I11,10,1) | P36: =MID('TABLA DE SUMINISTROS'!I11,11,1) | Q36: =MID('TABLA DE SUMINISTROS'!I11,12,1) | R36: =MID('TABLA DE SUMINISTROS'!I11,13,1) | S36: =MID('TABLA DE SUMINISTROS'!I11,14,1) | T36: =MID('TABLA DE SUMINISTROS'!I11,15,1) | U36: =MID('TABLA DE SUMINISTROS'!I11,16,1) | V36: =MID('TABLA DE SUMINISTROS'!I11,17,1) | W36: =MID('TABLA DE SUMINISTROS'!I11,18,1) | X36: =MID('TABLA DE SUMINISTROS'!I11,19,1) | Y36: =MID('TABLA DE SUMINISTROS'!I11,20,1) | Z36: Código actividad CNAE: | AF36: =MID('TABLA DE SUMINISTROS'!H11,1,1) | AG36: =MID('TABLA DE SUMINISTROS'!H11,2,1) | AH36: =MID('TABLA DE SUMINISTROS'!H11,3,1) | AI36: =MID('TABLA DE SUMINISTROS'!H11,4,1) | AJ36: =MID('TABLA DE SUMINISTROS'!H11,5,1)
A37: Código Universal de punto de Suministro de Electricidad CUPS: | O37: =MID('TABLA DE SUMINISTROS'!A35,1,1) | P37: =MID('TABLA DE SUMINISTROS'!A35,2,1) | Q37: =MID('TABLA DE SUMINISTROS'!A35,3,1) | R37: =MID('TABLA DE SUMINISTROS'!A35,4,1) | S37: =MID('TABLA DE SUMINISTROS'!A35,5,1) | T37: =MID('TABLA DE SUMINISTROS'!A35,6,1) | U37: =MID('TABLA DE SUMINISTROS'!A35,7,1) | V37: =MID('TABLA DE SUMINISTROS'!A35,8,1) | W37: =MID('TABLA DE SUMINISTROS'!A35,9,1) | X37: =MID('TABLA DE SUMINISTROS'!A35,10,1) | Y37: =MID('TABLA DE SUMINISTROS'!A35,11,1) | Z37: =MID('TABLA DE SUMINISTROS'!A35,12,1) | AA37: =MID('TABLA DE SUMINISTROS'!A35,13,1) | AB37: =MID('TABLA DE SUMINISTROS'!A35,14,1) | AC37: =MID('TABLA DE SUMINISTROS'!A35,15,1) | AD37: =MID('TABLA DE SUMINISTROS'!A35,16,1) | AE37: =MID('TABLA DE SUMINISTROS'!A35,17,1) | AF37: =MID('TABLA DE SUMINISTROS'!A35,18,1) | AG37: =MID('TABLA DE SUMINISTROS'!A35,19,1) | AH37: =MID('TABLA DE SUMINISTROS'!A35,20,1) | AI37: =MID('TABLA DE SUMINISTROS'!A35,21,1) | AJ37: =MID('TABLA DE SUMINISTROS'!A35,22,1)
A38: Tarifa acceso: | D38: =IF('TABLA DE SUMINISTROS'!J35="","",'TABLA DE SUMINISTROS'!J35) | G38: Potencia Contratada (kW): | M38: P1= | N38: =IF('TABLA DE SUMINISTROS'!K35="","",'TABLA DE SUMINISTROS'!K35) | Q38: P2= | R38: =IF('TABLA DE SUMINISTROS'!L35="","",'TABLA DE SUMINISTROS'!L35) | U38: P3= | V38: =IF('TABLA DE SUMINISTROS'!M35="","",'TABLA DE SUMINISTROS'!M35) | Y38: P4= | Z38: =IF('TABLA DE SUMINISTROS'!N35="","",'TABLA DE SUMINISTROS'!N35) | AC38: P5= | AD38: =IF('TABLA DE SUMINISTROS'!O35="","",'TABLA DE SUMINISTROS'!O35) | AG38: P6= | AH38: =IF('TABLA DE SUMINISTROS'!P35="","",'TABLA DE SUMINISTROS'!P35)
A39: Fecha de inicio solicitada*: | H39: =IF('TABLA DE SUMINISTROS'!Q35="","",'TABLA DE SUMINISTROS'!Q35)
A40: Contratar suministro eléctrico a: | I40: □ | K40: Precio Fijo | P40: □ | Q40: Precio Indexado
A42: Denominación social: | G42: =UPPER(CONCATENATE('TABLA DE SUMINISTROS'!R36,"")) | Z42: NIF: | AD42: =UPPER(CONCATENATE('TABLA DE SUMINISTROS'!S36,))
A43: Dirección: | D43: =UPPER(CONCATENATE('TABLA DE SUMINISTROS'!B36," ",'TABLA DE SUMINISTROS'!C36)) | Z43: Escalera / Piso / Puerta: | AF43: =UPPER('TABLA DE SUMINISTROS'!D36)
A44: Localidad: | D44: =UPPER('TABLA DE SUMINISTROS'!F36) | O44: Provincia: | R44: =UPPER('TABLA DE SUMINISTROS'!G36) | AB44: Código Postal: | AF44: =MID('TABLA DE SUMINISTROS'!E36,1,1) | AG44: =MID('TABLA DE SUMINISTROS'!E36,2,1) | AH44: =MID('TABLA DE SUMINISTROS'!E36,3,1) | AI44: =MID('TABLA DE SUMINISTROS'!E36,4,1) | AJ44: =MID('TABLA DE SUMINISTROS'!E36,5,1)
A45: Referencia catastral: | F45: =MID('TABLA DE SUMINISTROS'!I6,1,1) | G45: =MID('TABLA DE SUMINISTROS'!I6,2,1) | H45: =MID('TABLA DE SUMINISTROS'!I6,3,1) | I45: =MID('TABLA DE SUMINISTROS'!I6,4,1) | J45: =MID('TABLA DE SUMINISTROS'!I6,5,1) | K45: =MID('TABLA DE SUMINISTROS'!I6,6,1) | L45: =MID('TABLA DE SUMINISTROS'!I6,7,1) | M45: =MID('TABLA DE SUMINISTROS'!I6,8,1) | N45: =MID('TABLA DE SUMINISTROS'!I6,9,1) | O45: =MID('TABLA DE SUMINISTROS'!I6,10,1) | P45: =MID('TABLA DE SUMINISTROS'!I6,11,1) | Q45: =MID('TABLA DE SUMINISTROS'!I6,12,1) | R45: =MID('TABLA DE SUMINISTROS'!I6,13,1) | S45: =MID('TABLA DE SUMINISTROS'!I6,14,1) | T45: =MID('TABLA DE SUMINISTROS'!I6,15,1) | U45: =MID('TABLA DE SUMINISTROS'!I6,16,1) | V45: =MID('TABLA DE SUMINISTROS'!I6,17,1) | W45: =MID('TABLA DE SUMINISTROS'!I6,18,1) | X45: =MID('TABLA DE SUMINISTROS'!I6,19,1) | Y45: =MID('TABLA DE SUMINISTROS'!I6,20,1) | Z45: Código actividad CNAE: | AF45: =MID('TABLA DE SUMINISTROS'!H12,1,1) | AG45: =MID('TABLA DE SUMINISTROS'!H12,2,1) | AH45: =MID('TABLA DE SUMINISTROS'!H12,3,1) | AI45: =MID('TABLA DE SUMINISTROS'!H12,4,1) | AJ45: =MID('TABLA DE SUMINISTROS'!H12,5,1)
A46: Código Universal de punto de Suministro de Electricidad CUPS: | O46: =MID('TABLA DE SUMINISTROS'!A36,1,1) | P46: =MID('TABLA DE SUMINISTROS'!A36,2,1) | Q46: =MID('TABLA DE SUMINISTROS'!A36,3,1) | R46: =MID('TABLA DE SUMINISTROS'!A36,4,1) | S46: =MID('TABLA DE SUMINISTROS'!A36,5,1) | T46: =MID('TABLA DE SUMINISTROS'!A36,6,1) | U46: =MID('TABLA DE SUMINISTROS'!A36,7,1) | V46: =MID('TABLA DE SUMINISTROS'!A36,8,1) | W46: =MID('TABLA DE SUMINISTROS'!A36,9,1) | X46: =MID('TABLA DE SUMINISTROS'!A36,10,1) | Y46: =MID('TABLA DE SUMINISTROS'!A36,11,1) | Z46: =MID('TABLA DE SUMINISTROS'!A36,12,1) | AA46: =MID('TABLA DE SUMINISTROS'!A36,13,1) | AB46: =MID('TABLA DE SUMINISTROS'!A36,14,1) | AC46: =MID('TABLA DE SUMINISTROS'!A36,15,1) | AD46: =MID('TABLA DE SUMINISTROS'!A36,16,1) | AE46: =MID('TABLA DE SUMINISTROS'!A36,17,1) | AF46: =MID('TABLA DE SUMINISTROS'!A36,18,1) | AG46: =MID('TABLA DE SUMINISTROS'!A36,19,1) | AH46: =MID('TABLA DE SUMINISTROS'!A36,20,1) | AI46: =MID('TABLA DE SUMINISTROS'!A36,21,1) | AJ46: =MID('TABLA DE SUMINISTROS'!A36,22,1)
A47: Tarifa acceso: | D47: =IF('TABLA DE SUMINISTROS'!J36="","",'TABLA DE SUMINISTROS'!J36) | G47: Potencia Contratada (kW): | M47: P1= | N47: =IF('TABLA DE SUMINISTROS'!K36="","",'TABLA DE SUMINISTROS'!K36) | Q47: P2= | R47: =IF('TABLA DE SUMINISTROS'!L36="","",'TABLA DE SUMINISTROS'!L36) | U47: P3= | V47: =IF('TABLA DE SUMINISTROS'!M36="","",'TABLA DE SUMINISTROS'!M36) | Y47: P4= | Z47: =IF('TABLA DE SUMINISTROS'!N36="","",'TABLA DE SUMINISTROS'!N36) | AC47: P5= | AD47: =IF('TABLA DE SUMINISTROS'!O36="","",'TABLA DE SUMINISTROS'!O36) | AG47: P6= | AH47: =IF('TABLA DE SUMINISTROS'!P36="","",'TABLA DE SUMINISTROS'!P36)
A48: Fecha de inicio solicitada*: | H48: =IF('TABLA DE SUMINISTROS'!Q36="","",'TABLA DE SUMINISTROS'!Q36)
A49: Contratar suministro eléctrico a: | I49: □ | K49: Precio Fijo | P49: □ | Q49: Precio Indexado
A51: Denominación social: | G51: =UPPER(CONCATENATE('TABLA DE SUMINISTROS'!R37,"")) | Z51: NIF: | AD51: =UPPER(CONCATENATE('TABLA DE SUMINISTROS'!S37,))
A52: Dirección: | D52: =UPPER(CONCATENATE('TABLA DE SUMINISTROS'!B37," ",'TABLA DE SUMINISTROS'!C37)) | Z52: Escalera / Piso / Puerta: | AF52: =UPPER('TABLA DE SUMINISTROS'!D37)
A53: Localidad: | D53: =UPPER('TABLA DE SUMINISTROS'!F37) | O53: Provincia: | R53: =UPPER('TABLA DE SUMINISTROS'!G37) | AB53: Código Postal: | AF53: =MID('TABLA DE SUMINISTROS'!E37,1,1) | AG53: =MID('TABLA DE SUMINISTROS'!E37,2,1) | AH53: =MID('TABLA DE SUMINISTROS'!E37,3,1) | AI53: =MID('TABLA DE SUMINISTROS'!E37,4,1) | AJ53: =MID('TABLA DE SUMINISTROS'!E37,5,1)
A54: Referencia catastral: | F54: =MID('TABLA DE SUMINISTROS'!I7,1,1) | G54: =MID('TABLA DE SUMINISTROS'!I7,2,1) | H54: =MID('TABLA DE SUMINISTROS'!I7,3,1) | I54: =MID('TABLA DE SUMINISTROS'!I7,4,1) | J54: =MID('TABLA DE SUMINISTROS'!I7,5,1) | K54: =MID('TABLA DE SUMINISTROS'!I7,6,1) | L54: =MID('TABLA DE SUMINISTROS'!I7,7,1) | M54: =MID('TABLA DE SUMINISTROS'!I7,8,1) | N54: =MID('TABLA DE SUMINISTROS'!I7,9,1) | O54: =MID('TABLA DE SUMINISTROS'!I7,10,1) | P54: =MID('TABLA DE SUMINISTROS'!I7,11,1) | Q54: =MID('TABLA DE SUMINISTROS'!I7,12,1) | R54: =MID('TABLA DE SUMINISTROS'!I7,13,1) | S54: =MID('TABLA DE SUMINISTROS'!I7,14,1) | T54: =MID('TABLA DE SUMINISTROS'!I7,15,1) | U54: =MID('TABLA DE SUMINISTROS'!I7,16,1) | V54: =MID('TABLA DE SUMINISTROS'!I7,17,1) | W54: =MID('TABLA DE SUMINISTROS'!I7,18,1) | X54: =MID('TABLA DE SUMINISTROS'!I7,19,1) | Y54: =MID('TABLA DE SUMINISTROS'!I7,20,1) | Z54: Código actividad CNAE: | AF54: =MID('TABLA DE SUMINISTROS'!H13,1,1) | AG54: =MID('TABLA DE SUMINISTROS'!H13,2,1) | AH54: =MID('TABLA DE SUMINISTROS'!H13,3,1) | AI54: =MID('TABLA DE SUMINISTROS'!H13,4,1) | AJ54: =MID('TABLA DE SUMINISTROS'!H13,5,1)
A55: Código Universal de punto de Suministro de Electricidad CUPS: | O55: =MID('TABLA DE SUMINISTROS'!A37,1,1) | P55: =MID('TABLA DE SUMINISTROS'!A37,2,1) | Q55: =MID('TABLA DE SUMINISTROS'!A37,3,1) | R55: =MID('TABLA DE SUMINISTROS'!A37,4,1) | S55: =MID('TABLA DE SUMINISTROS'!A37,5,1) | T55: =MID('TABLA DE SUMINISTROS'!A37,6,1) | U55: =MID('TABLA DE SUMINISTROS'!A37,7,1) | V55: =MID('TABLA DE SUMINISTROS'!A37,8,1) | W55: =MID('TABLA DE SUMINISTROS'!A37,9,1) | X55: =MID('TABLA DE SUMINISTROS'!A37,10,1) | Y55: =MID('TABLA DE SUMINISTROS'!A37,11,1) | Z55: =MID('TABLA DE SUMINISTROS'!A37,12,1) | AA55: =MID('TABLA DE SUMINISTROS'!A37,13,1) | AB55: =MID('TABLA DE SUMINISTROS'!A37,14,1) | AC55: =MID('TABLA DE SUMINISTROS'!A37,15,1) | AD55: =MID('TABLA DE SUMINISTROS'!A37,16,1) | AE55: =MID('TABLA DE SUMINISTROS'!A37,17,1) | AF55: =MID('TABLA DE SUMINISTROS'!A37,18,1) | AG55: =MID('TABLA DE SUMINISTROS'!A37,19,1) | AH55: =MID('TABLA DE SUMINISTROS'!A37,20,1) | AI55: =MID('TABLA DE SUMINISTROS'!A37,21,1) | AJ55: =MID('TABLA DE SUMINISTROS'!A37,22,1)
A56: Tarifa acceso: | D56: =IF('TABLA DE SUMINISTROS'!J37="","",'TABLA DE SUMINISTROS'!J31) | G56: Potencia Contratada (kW): | M56: P1= | N56: =IF('TABLA DE SUMINISTROS'!K37="","",'TABLA DE SUMINISTROS'!K37) | Q56: P2= | R56: =IF('TABLA DE SUMINISTROS'!L37="","",'TABLA DE SUMINISTROS'!L37) | U56: P3= | V56: =IF('TABLA DE SUMINISTROS'!M37="","",'TABLA DE SUMINISTROS'!M37) | Y56: P4= | Z56: =IF('TABLA DE SUMINISTROS'!N37="","",'TABLA DE SUMINISTROS'!N37) | AC56: P5= | AD56: =IF('TABLA DE SUMINISTROS'!O37="","",'TABLA DE SUMINISTROS'!O37) | AG56: P6= | AH56: =IF('TABLA DE SUMINISTROS'!P37="","",'TABLA DE SUMINISTROS'!P37)
A57: Fecha de inicio solicitada*: | H57: =IF('TABLA DE SUMINISTROS'!Q37="","",'TABLA DE SUMINISTROS'!Q37)
A58: Contratar suministro eléctrico a: | I58: □ | K58: Precio Fijo | P58: □ | Q58: Precio Indexado
A60: *Esta fecha es orientativa y quedará sometida a la efectiva activación por parte de la Distribuidora, quedando Audax exonerada de toda responsabilidad para el caso no ejecución en la fecha prevista e independientemente de su motivo. Para Adx Classic la fecha de activación solicitada no podrá ser superior al plazo de dos (2) meses desde la fecha de firma de este Contrato.
A63: ACEPTACIÓN Y FIRMA
A64: El presente documento es un anexo a las Condiciones Particulares del Contrato Dual de Suministro y servicios adicionales. A los CUPS que se relacionan en el presente documento le serán de aplicación las condiciones Generales y Particulares contenidas en el Contrato que integra.
A67: p.p | L67: Por El Representante /Cliente: | R67: (Firma y sello)
N70: Lugar y fecha: | R70: En___________________________________________________________, a ______ de _____________________ de _________.
A72: ADX RENOVABLES, S.L. - N.I.F.: B72562051 Calle Electrónica, 19, 7C C.P. 08915-Badalona (Barcelona), Registro Mercantil de Barcelona, tomo 48712, folio 75, hoja B-B-593463
