Workbook

Sheet TABLA DE SUMINISTROS
A1: CÓDIGO CUPS | B1: TIPO VIA | C1: DIRECCIÓN | D1: ESCALERA-PISO-PUERTA | E1: C.P. | F1: LOCALIDAD | G1: PROVINCIA | H1: CNAE | I1: REFERENCIA CATASTRAL | J1: TARIFA | K1: P1 (Kw) | L1: P2 (Kw) | M1: P3 (Kw) | N1: P4 (Kw) | O1: P5 (Kw) | P1: P6 (Kw) | Q1: FECHA INICIO | R1: RAZON SOCIAL | S1: CIF

Sheet ANEXO SUMINISTROS 1 AL 7 
A4: Anexo de Puntos de Suministro Eléctrico
A5: CONTRATO DUAL DE SUMINISTRO Y SERVICIOS ADICIONALES
A6: Denominación social: | G6: =UPPER(CONCATENATE('TABLA DE SUMINISTROS'!R2,"")) | Z6: NIF: | AD6: =UPPER(CONCATENATE('TABLA DE SUMINISTROS'!S2,))
A7: Dirección: | D7: =UPPER(CONCATENATE('TABLA DE SUMINISTROS'!B2," ",'TABLA DE SUMINISTROS'!C2)) | Z7: Escalera / Piso / Puerta: | AF7: =UPPER('TABLA DE SUMINISTROS'!D2)
A8: Localidad: | D8: =UPPER('TABLA DE SUMINISTROS'!F2) | O8: Provincia: | R8: =UPPER('TABLA DE SUMINISTROS'!G2) | AB8: Código Postal: | AF8: =MID('TABLA DE SUMINISTROS'!E2,1,1) | AG8: =MID('TABLA DE SUMINISTROS'!E2,2,1) | AH8: =MID('TABLA DE SUMINISTROS'!E2,3,1) | AI8: =MID('TABLA DE SUMINISTROS'!E2,4,1) | AJ8: =MID('TABLA DE SUMINISTROS'!E2,5,1)
A9: Referencia catastral: | F9: =MID('TABLA DE SUMINISTROS'!I2,1,1) | G9: =MID('TABLA DE SUMINISTROS'!I2,2,1) | H9: =MID('TABLA DE SUMINISTROS'!I2,3,1) | I9: =MID('TABLA DE SUMINISTROS'!I2,4,1) | J9: =MID('TABLA DE SUMINISTROS'!I2,5,1) | K9: =MID('TABLA DE SUMINISTROS'!I2,6,1) | L9: =MID('TABLA DE SUMINISTROS'!I2,7,1) | M9: =MID('TABLA DE SUMINISTROS'!I2,8,1) | N9: =MID('TABLA DE SUMINISTROS'!I2,9,1) | O9: =MID('TABLA DE SUMINISTROS'!I2,10,1) | P9: =MID('TABLA DE SUMINISTROS'!I2,11,1) | Q9: =MID('TABLA DE SUMINISTROS'!I2,12,1) | R9: =MID('TABLA DE SUMINISTROS'!I2,13,1) | S9: =MID('TABLA DE SUMINISTROS'!I2,14,1) | T9: =MID('TABLA DE SUMINISTROS'!I2,15,1) | U9: =MID('TABLA DE SUMINISTROS'!I2,16,1) | V9: =MID('TABLA DE SUMINISTROS'!I2,17,1) | W9: =MID('TABLA DE SUMINISTROS'!I2,18,1) | X9: =MID('TABLA DE SUMINISTROS'!I2,19,1) | Y9: =MID('TABLA DE SUMINISTROS'!I2,20,1) | Z9: Código actividad CNAE: | AF9: =MID('TABLA DE SUMINISTROS'!H2,1,1) | AG9: =MID('TABLA DE SUMINISTROS'!H2,2,1) | AH9: =MID('TABLA DE SUMINISTROS'!H2,3,1) | AI9: =MID('TABLA DE SUMINISTROS'!H2,4,1) | AJ9: =MID('TABLA DE SUMINISTROS'!H2,5,1)
A10: Código Universal de punto de Suministro de Electricidad CUPS: | O10: =MID('TABLA DE SUMINISTROS'!A2,1,1) | P10: =MID('TABLA DE SUMINISTROS'!A2,2,1) | Q10: =MID('TABLA DE SUMINISTROS'!A2,3,1) | R10: =MID('TABLA DE SUMINISTROS'!A2,4,1) | S10: =MID('TABLA DE SUMINISTROS'!A2,5,1) | T10: =MID('TABLA DE SUMINISTROS'!A2,6,1) | U10: =MID('TABLA DE SUMINISTROS'!A2,7,1) | V10: =MID('TABLA DE SUMINISTROS'!A2,8,1) | W10: =MID('TABLA DE SUMINISTROS'!A2,9,1) | X10: =MID('TABLA DE SUMINISTROS'!A2,10,1) | Y10: =MID('TABLA DE SUMINISTROS'!A2,11,1) | Z10: =MID('TABLA DE SUMINISTROS'!A2,12,1) | AA10: =MID('TABLA DE SUMINISTROS'!A2,13,1) | AB10: =MID('TABLA DE SUMINISTROS'!A2,14,1) | AC10: =MID('TABLA DE SUMINISTROS'!A2,15,1) | AD10: =MID('TABLA DE SUMINISTROS'!A2,16,1) | AE10: =MID('TABLA DE SUMINISTROS'!A2,17,1) | AF10: =MID('TABLA DE SUMINISTROS'!A2,18,1) | AG10: =MID('TABLA DE SUMINISTROS'!A2,19,1) | AH10: =MID('TABLA DE SUMINISTROS'!A2,20,1) | AI10: =MID('TABLA DE SUMINISTROS'!A2,21,1) | AJ10: =MID('TABLA DE SUMINISTROS'!A2,22,1)
A11: Tarifa acceso: | D11: =IF('TABLA DE SUMINISTROS'!J2="","",'TABLA DE SUMINISTROS'!J2) | G11: Potencia Contratada (kW): | M11: P1= | N11: =IF('TABLA DE SUMINISTROS'!K2="","",'TABLA DE SUMINISTROS'!K2) | Q11: P2= | R11: =IF('TABLA DE SUMINISTROS'!L2="","",'TABLA DE SUMINISTROS'!L2) | U11: P3= | V11: =IF('TABLA DE SUMINISTROS'!M2="","",'TABLA DE SUMINISTROS'!M2) | Y11: P4= | Z11: =IF('TABLA DE SUMINISTROS'!N2="","",'TABLA DE SUMINISTROS'!N2) | AC11: P5= | AD11: =IF('TABLA DE SUMINISTROS'!O2="","",'TABLA DE SUMINISTROS'!O2) | AG11: P6= | AH11: =IF('TABLA DE SUMINISTROS'!P2="","",'TABLA DE SUMINISTROS'!P2)
A12: Fecha de inicio solicitada*: | H12: =IF('TABLA DE SUMINISTROS'!Q2="","",'TABLA DE SUMINISTROS'!Q2)
A13: Contratar suministro eléctrico a: | I13: □ | K13: Precio Fijo | P13: □ | Q13: Precio Indexado
A15: Denominación social: | G15: =UPPER(CONCATENATE('TABLA DE SUMINISTROS'!R3,"")) | Z15: NIF: | AD15: =UPPER(CONCATENATE('TABLA DE SUMINISTROS'!S3,))
A16: Dirección: | D16: =UPPER(CONCATENATE('TABLA DE SUMINISTROS'!B3," ",'TABLA DE SUMINISTROS'!C3)) | Z16: Escalera / Piso / Puerta: | AF16: =UPPER('TABLA DE SUMINISTROS'!D3)
A17: Localidad: | D17: =UPPER('TABLA DE SUMINISTROS'!F3) | O17: Provincia: | R17: =UPPER('TABLA DE SUMINISTROS'!G3) | AB17: Código Postal: | AF17: =MID('TABLA DE SUMINISTROS'!E3,1,1) | AG17: =MID('TABLA DE SUMINISTROS'!E3,2,1) | AH17: =MID('TABLA DE SUMINISTROS'!E3,3,1) | AI17: =MID('TABLA DE SUMINISTROS'!E3,4,1) | AJ17: =MID('TABLA DE SUMINISTROS'!E3,5,1)
A18: Referencia catastral: | F18: =MID('TABLA DE SUMINISTROS'!I3,1,1) | G18: =MID('TABLA DE SUMINISTROS'!I3,2,1) | H18: =MID('TABLA DE SUMINISTROS'!I3,3,1) | I18: =MID('TABLA DE SUMINISTROS'!I3,4,1) | J18: =MID('TABLA DE SUMINISTROS'!I3,5,1) | K18: =MID('TABLA DE SUMINISTROS'!I3,6,1) | L18: =MID('TABLA DE SUMINISTROS'!I3,7,1) | M18: =MID('TABLA DE SUMINISTROS'!I3,8,1) | N18: =MID('TABLA DE SUMINISTROS'!I3,9,1) | O18: =MID('TABLA DE SUMINISTROS'!I3,10,1) | P18: =MID('TABLA DE SUMINISTROS'!I3,11,1) | Q18: =MID('TABLA DE SUMINISTROS'!I3,12,1) | R18: =MID('TABLA DE SUMINISTROS'!I3,13,1) | S18: =MID('TABLA DE SUMINISTROS'!I3,14,1) | T18: =MID('TABLA DE SUMINISTROS'!I3,15,1) | U18: =MID('TABLA DE SUMINISTROS'!I3,16,1) | V18: =MID('TABLA DE SUMINISTROS'!I3,17,1) | W18: =MID('TABLA DE SUMINISTROS'!I3,18,1) | X18: =MID('TABLA DE SUMINISTROS'!I3,19,1) | Y18: =MID('TABLA DE SUMINISTROS'!I3,20,1) | Z18: Código actividad CNAE: | AF18: =MID('TABLA DE SUMINISTROS'!H3,1,1) | AG18: =MID('TABLA DE SUMINISTROS'!H3,2,1) | AH18: =MID('TABLA DE SUMINISTROS'!H3,3,1) | AI18: =MID('TABLA DE SUMINISTROS'!H3,4,1) | AJ18: =MID('TABLA DE SUMINISTROS'!H3,5,1)
A19: Código Universal de punto de Suministro de Electricidad CUPS: | O19: =MID('TABLA DE SUMINISTROS'!A3,1,1) | P19: =MID('TABLA DE SUMINISTROS'!A3,2,1) | Q19: =MID('TABLA DE SUMINISTROS'!A3,3,1) | R19: =MID('TABLA DE SUMINISTROS'!A3,4,1) | S19: =MID('TABLA DE SUMINISTROS'!A3,5,1) | T19: =MID('TABLA DE SUMINISTROS'!A3,6,1) | U19: =MID('TABLA DE SUMINISTROS'!A3,7,1) | V19: =MID('TABLA DE SUMINISTROS'!A3,8,1) | W19: =MID('TABLA DE SUMINISTROS'!A3,9,1) | X19: =MID('TABLA DE SUMINISTROS'!A3,10,1) | Y19: =MID('TABLA DE SUMINISTROS'!A3,11,1) | Z19: =MID('TABLA DE SUMINISTROS'!A3,12,1) | AA19: =MID('TABLA DE SUMINISTROS'!A3,13,1) | AB19: =MID('TABLA DE SUMINISTROS'!A3,14,1) | AC19: =MID('TABLA DE SUMINISTROS'!A3,15,1) | AD19: =MID('TABLA DE SUMINISTROS'!A3,16,1) | AE19: =MID('TABLA DE SUMINISTROS'!A3,17,1) | AF19: =MID('TABLA DE SUMINISTROS'!A3,18,1) | AG19: =MID('TABLA DE SUMINISTROS'!A3,19,1) | AH19: =MID('TABLA DE SUMINISTROS'!A3,20,1) | AI19: =MID('TABLA DE SUMINISTROS'!A3,21,1) | AJ19: =MID('TABLA DE SUMINISTROS'!A3,22,1)
A20: Tarifa acceso: | D20: =IF('TABLA DE SUMINISTROS'!J3="","",'TABLA DE SUMINISTROS'!J3) | G20: Potencia Contratada (kW): | M20: P1= | N20: =IF('TABLA DE SUMINISTROS'!K3="","",'TABLA DE SUMINISTROS'!K3) | Q20: P2= | R20: =IF('TABLA DE SUMINISTROS'!L3="","",'TABLA DE SUMINISTROS'!L3) | U20: P3= | V20: =IF('TABLA DE SUMINISTROS'!M3="","",'TABLA DE SUMINISTROS'!M3) | Y20: P4= | Z20: =IF('TABLA DE SUMINISTROS'!N3="","",'TABLA DE SUMINISTROS'!N3) | AC20: P5= | AD20: =IF('TABLA DE SUMINISTROS'!O3="","",'TABLA DE SUMINISTROS'!O3) | AG20: P6= | AH20: =IF('TABLA DE SUMINISTROS'!P3="","",'TABLA DE SUMINISTROS'!P3)
A21: Fecha de inicio solicitada*: | H21: =IF('TABLA DE SUMINISTROS'!Q3="","",'TABLA DE SUMINISTROS'!Q3)
A22: Contratar suministro eléctrico a: | I22: □ | K22: Precio Fijo | P22: □ | Q22: Precio Indexado
A24: Denominación social: | G24: =UPPER(CONCATENATE('TABLA DE SUMINISTROS'!R4,"")) | Z24: NIF: | AD24: =UPPER(CONCATENATE('TABLA DE SUMINISTROS'!S4,))
A25: Dirección: | D25: =UPPER(CONCATENATE('TABLA DE SUMINISTROS'!B4," ",'TABLA DE SUMINISTROS'!C4)) | Z25: Escalera / Piso / Puerta: | AF25: =UPPER('TABLA DE SUMINISTROS'!D4)
A26: Localidad: | D26: =UPPER('TABLA DE SUMINISTROS'!F4) | O26: Provincia: | R26: =UPPER('TABLA DE SUMINISTROS'!G4) | AB26: Código Postal: | AF26: =MID('TABLA DE SUMINISTROS'!E4,1,1) | AG26: =MID('TABLA DE SUMINISTROS'!E4,2,1) | AH26: =MID('TABLA DE SUMINISTROS'!E4,3,1) | AI26: =MID('TABLA DE SUMINISTROS'!E4,4,1) | AJ26: =MID('TABLA DE SUMINISTROS'!E4,5,1)
A27: Referencia catastral: | F27: =MID('TABLA DE SUMINISTROS'!I4,1,1) | G27: =MID('TABLA DE SUMINISTROS'!I4,2,1) | H27: =MID('TABLA DE SUMINISTROS'!I4,3,1) | I27: =MID('TABLA DE SUMINISTROS'!I4,4,1) | J27: =MID('TABLA DE SUMINISTROS'!I4,5,1) | K27: =MID('TABLA DE SUMINISTROS'!I4,6,1) | L27: =MID('TABLA DE SUMINISTROS'!I4,7,1) | M27: =MID('TABLA DE SUMINISTROS'!I4,8,1) | N27: =MID('TABLA DE SUMINISTROS'!I4,9,1) | O27: =MID('TABLA DE SUMINISTROS'!I4,10,1) | P27: =MID('TABLA DE SUMINISTROS'!I4,11,1) | Q27: =MID('TABLA DE SUMINISTROS'!I4,12,1) | R27: =MID('TABLA DE SUMINISTROS'!I4,13,1) | S27: =MID('TABLA DE SUMINISTROS'!I4,14,1) | T27: =MID('TABLA DE SUMINISTROS'!I4,15,1) | U27: =MID('TABLA DE SUMINISTROS'!I4,16,1) | V27: =MID('TABLA DE SUMINISTROS'!I4,17,1) | W27: =MID('TABLA DE SUMINISTROS'!I4,18,1) | X27: =MID('TABLA DE SUMINISTROS'!I4,19,1) | Y27: =MID('TABLA DE SUMINISTROS'!I4,20,1) | Z27: Código actividad CNAE: | AF27: =MID('TABLA DE SUMINISTROS'!H4,1,1) | AG27: =MID('TABLA DE SUMINISTROS'!H4,2,1) | AH27: =MID('TABLA DE SUMINISTROS'!H4,3,1) | AI27: =MID('TABLA DE SUMINISTROS'!H4,4,1) | AJ27: =MID('TABLA DE SUMINISTROS'!H4,5,1)
A28: Código Universal de punto de Suministro de Electricidad CUPS: | O28: =MID('TABLA DE SUMINISTROS'!A4,1,1) | P28: =MID('TABLA DE SUMINISTROS'!A4,2,1) | Q28: =MID('TABLA DE SUMINISTROS'!A4,3,1) | R28: =MID('TABLA DE SUMINISTROS'!A4,4,1) | S28: =MID('TABLA DE SUMINISTROS'!A4,5,1) | T28: =MID('TABLA DE SUMINISTROS'!A4,6,1) | U28: =MID('TABLA DE SUMINISTROS'!A4,7,1) | V28: =MID('TABLA DE SUMINISTROS'!A4,8,1) | W28: =MID('TABLA DE SUMINISTROS'!A4,9,1) | X28: =MID('TABLA DE SUMINISTROS'!A4,10,1) | Y28: =MID('TABLA DE SUMINISTROS'!A4,11,1) | Z28: =MID('TABLA DE SUMINISTROS'!A4,12,1) | AA28: =MID('TABLA DE SUMINISTROS'!A4,13,1) | AB28: =MID('TABLA DE SUMINISTROS'!A4,14,1) | AC28: =MID('TABLA DE SUMINISTROS'!A4,15,1) | AD28: =MID('TABLA DE SUMINISTROS'!A4,16,1) | AE28: =MID('TABLA DE SUMINISTROS'!A4,17,1) | AF28: =MID('TABLA DE SUMINISTROS'!A4,18,1) | AG28: =MID('TABLA DE SUMINISTROS'!A4,19,1) | AH28: =MID('TABLA DE SUMINISTROS'!A4,20,1) | AI28: =MID('TABLA DE SUMINISTROS'!SA4,21,1) | AJ28: =MID('TABLA DE SUMINISTROS'!A4,22,1)
A29: Tarifa acceso: | D29: =IF('TABLA DE SUMINISTROS'!J4="","",'TABLA DE SUMINISTROS'!J4) | G29: Potencia Contratada (kW): | M29: P1= | N29: =IF('TABLA DE SUMINISTROS'!K4="","",'TABLA DE SUMINISTROS'!K4) | Q29: P2= | R29: =IF('TABLA DE SUMINISTROS'!L4="","",'TABLA DE SUMINISTROS'!L4) | U29: P3= | V29: =IF('TABLA DE SUMINISTROS'!M4="","",'TABLA DE SUMINISTROS'!M4) | Y29: P4= | Z29: =IF('TABLA DE SUMINISTROS'!N4="","",'TABLA DE SUMINISTROS'!N4) | AC29: P5= | AD29: =IF('TABLA DE SUMINISTROS'!O4="","",'TABLA DE SUMINISTROS'!O4) | AG29: P6= | AH29: =IF('TABLA DE SUMINISTROS'!P4="","",'TABLA DE SUMINISTROS'!P4)
A30: Fecha de inicio solicitada*: | H30: =IF('TABLA DE SUMINISTROS'!Q4="","",'TABLA DE SUMINISTROS'!Q4)
A31: Contratar suministro eléctrico a: | I31: □ | K31: Precio Fijo | P31: □ | Q31: Precio Indexado
A33: Denominación social: | G33: =UPPER(CONCATENATE('TABLA DE SUMINISTROS'!R5,"")) | Z33: NIF: | AD33: =UPPER(CONCATENATE('TABLA DE SUMINISTROS'!S5,))
A34: Dirección: | D34: =UPPER(CONCATENATE('TABLA DE SUMINISTROS'!B5," ",'TABLA DE SUMINISTROS'!C5)) | Z34: Escalera / Piso / Puerta: | AF34: =UPPER('TABLA DE SUMINISTROS'!D5)
A35: Localidad: | D35: =UPPER('TABLA DE SUMINISTROS'!F5) | O35: Provincia: | R35: =UPPER('TABLA DE SUMINISTROS'!G5) | AB35: Código Postal: | AF35: =MID('TABLA DE SUMINISTROS'!E5,1,1) | AG35: =MID('TABLA DE SUMINISTROS'!E5,2,1) | AH35: =MID('TABLA DE SUMINISTROS'!E5,3,1) | AI35: =MID('TABLA DE SUMINISTROS'!E5,4,1) | AJ35: =MID('TABLA DE SUMINISTROS'!E5,5,1)
A36: Referencia catastral: | F36: =MID('TABLA DE SUMINISTROS'!I5,1,1) | G36: =MID('TABLA DE SUMINISTROS'!I5,2,1) | H36: =MID('TABLA DE SUMINISTROS'!I5,3,1) | I36: =MID('TABLA DE SUMINISTROS'!I5,4,1) | J36: =MID('TABLA DE SUMINISTROS'!I5,5,1) | K36: =MID('TABLA DE SUMINISTROS'!I5,6,1) | L36: =MID('TABLA DE SUMINISTROS'!I5,7,1) | M36: =MID('TABLA DE SUMINISTROS'!I5,8,1) | N36: =MID('TABLA DE SUMINISTROS'!I5,9,1) | O36: =MID('TABLA DE SUMINISTROS'!I5,10,1) | P36: =MID('TABLA DE SUMINISTROS'!I5,11,1) | Q36: =MID('TABLA DE SUMINISTROS'!I5,12,1) | R36: =MID('TABLA DE SUMINISTROS'!I5,13,1) | S36: =MID('TABLA DE SUMINISTROS'!I5,14,1) | T36: =MID('TABLA DE SUMINISTROS'!I5,15,1) | U36: =MID('TABLA DE SUMINISTROS'!I5,16,1) | V36: =MID('TABLA DE SUMINISTROS'!I5,17,1) | W36: =MID('TABLA DE SUMINISTROS'!I5,18,1) | X36: =MID('TABLA DE SUMINISTROS'!I5,19,1) | Y36: =MID('TABLA DE SUMINISTROS'!I5,20,1) | Z36: Código actividad CNAE: | AF36: =MID('TABLA DE SUMINISTROS'!H5,1,1) | AG36: =MID('TABLA DE SUMINISTROS'!H5,2,1) | AH36: =MID('TABLA DE SUMINISTROS'!H5,3,1) | AI36: =MID('TABLA DE SUMINISTROS'!H5,4,1) | AJ36: =MID('TABLA DE SUMINISTROS'!H5,5,1)
A37: Código Universal de punto de Suministro de Electricidad CUPS: | O37: =MID('TABLA DE SUMINISTROS'!A5,1,1) | P37: =MID('TABLA DE SUMINISTROS'!A5,2,1) | Q37: =MID('TABLA DE SUMINISTROS'!A5,3,1) | R37: =MID('TABLA DE SUMINISTROS'!A5,4,1) | S37: =MID('TABLA DE SUMINISTROS'!A5,5,1) | T37: =MID('TABLA DE SUMINISTROS'!A5,6,1) | U37: =MID('TABLA DE SUMINISTROS'!A5,7,1) | V37: =MID('TABLA DE SUMINISTROS'!A5,8,1) | W37: =MID('TABLA DE SUMINISTROS'!A5,9,1) | X37: =MID('TABLA DE SUMINISTROS'!A5,10,1) | Y37: =MID('TABLA DE SUMINISTROS'!A5,11,1) | Z37: =MID('TABLA DE SUMINISTROS'!A5,12,1) | AA37: =MID('TABLA DE SUMINISTROS'!A5,13,1) | AB37: =MID('TABLA DE SUMINISTROS'!A5,14,1) | AC37: =MID('TABLA DE SUMINISTROS'!A5,15,1) | AD37: =MID('TABLA DE SUMINISTROS'!A5,16,1) | AE37: =MID('TABLA DE SUMINISTROS'!A5,17,1) | AF37: =MID('TABLA DE SUMINISTROS'!A5,18,1) | AG37: =MID('TABLA DE SUMINISTROS'!A5,19,1) | AH37: =MID('TABLA DE SUMINISTROS'!A5,20,1) | AI37: =MID('TABLA DE SUMINISTROS'!A5,21,1) | AJ37: =MID('TABLA DE SUMINISTROS'!A5,22,1)
A38: Tarifa acceso: | D38: =IF('TABLA DE SUMINISTROS'!J5="","",'TABLA DE SUMINISTROS'!J5) | G38: Potencia Contratada (kW): | M38: P1= | N38: =IF('TABLA DE SUMINISTROS'!K5="","",'TABLA DE SUMINISTROS'!K5) | Q38: P2= | R38: =IF('TABLA DE SUMINISTROS'!L5="","",'TABLA DE SUMINISTROS'!L5) | U38: P3= | V38: =IF('TABLA DE SUMINISTROS'!M5="","",'TABLA DE SUMINISTROS'!M5) | Y38: P4= | Z38: =IF('TABLA DE SUMINISTROS'!N5="","",'TABLA DE SUMINISTROS'!N5) | AC38: P5= | AD38: =IF('TABLA DE SUMINISTROS'!O5="","",'TABLA DE SUMINISTROS'!O5) | AG38: P6= | AH38: =IF('TABLA DE SUMINISTROS'!P5="","",'TABLA DE SUMINISTROS'!P5)
A39: Fecha de inicio solicitada*: | H39: =IF('TABLA DE SUMINISTROS'!Q5="","",'TABLA DE SUMINISTROS'!Q5)
A40: Contratar suministro eléctrico a: | I40: □ | K40: Precio Fijo | P40: □ | Q40: Precio Indexado
A42: Denominación social: | G42: =UPPER(CONCATENATE('TABLA DE SUMINISTROS'!R6,"")) | Z42: NIF:
A43: Dirección: | D43: =UPPER(CONCATENATE('TABLA DE SUMINISTROS'!B6," ",'TABLA DE SUMINISTROS'!C6)) | Z43: Escalera / Piso / Puerta: | AF43: =UPPER('TABLA DE SUMINISTROS'!D6)
A44: Localidad: | D44: =UPPER('TABLA DE SUMINISTROS'!F6) | O44: Provincia: | R44: =UPPER('TABLA DE SUMINISTROS'!G6) | AB44: Código Postal: | AF44: =MID('TABLA DE SUMINISTROS'!E6,1,1) | AG44: =MID('TABLA DE SUMINISTROS'!E6,2,1) | AH44: =MID('TABLA DE SUMINISTROS'!E6,3,1) | AI44: =MID('TABLA DE SUMINISTROS'!E6,4,1) | AJ44: =MID('TABLA DE SUMINISTROS'!E6,5,1)
A45: Referencia catastral: | F45: =MID('TABLA DE SUMINISTROS'!I6,1,1) | G45: =MID('TABLA DE SUMINISTROS'!I6,2,1) | H45: =MID('TABLA DE SUMINISTROS'!I6,3,1) | I45: =MID('TABLA DE SUMINISTROS'!I6,4,1) | J45: =MID('TABLA DE SUMINISTROS'!I6,5,1) | K45: =MID('TABLA DE SUMINISTROS'!I6,6,1) | L45: =MID('TABLA DE SUMINISTROS'!I6,7,1) | M45: =MID('TABLA DE SUMINISTROS'!I6,8,1) | N45: =MID('TABLA DE SUMINISTROS'!I6,9,1) | O45: =MID('TABLA DE SUMINISTROS'!I6,10,1) | P45: =MID('TABLA DE SUMINISTROS'!I6,11,1) | Q45: =MID('TABLA DE SUMINISTROS'!I6,12,1) | R45: =MID('TABLA DE SUMINISTROS'!I6,13,1) | S45: =MID('TABLA DE SUMINISTROS'!I6,14,1) | T45: =MID('TABLA DE SUMINISTROS'!I6,15,1) | U45: =MID('TABLA DE SUMINISTROS'!I6,16,1) | V45: =MID('TABLA DE SUMINISTROS'!I6,17,1) | W45: =MID('TABLA DE SUMINISTROS'!I6,18,1) | X45: =MID('TABLA DE SUMINISTROS'!I6,19,1) | Y45: =MID('TABLA DE SUMINISTROS'!I6,20,1) | Z45: Código actividad CNAE: | AF45: =MID('TABLA DE SUMINISTROS'!H6,1,1) | AG45: =MID('TABLA DE SUMINISTROS'!H6,2,1) | AH45: =MID('TABLA DE SUMINISTROS'!H6,3,1) | AI45: =MID('TABLA DE SUMINISTROS'!H6,4,1) | AJ45: =MID('TABLA DE SUMINISTROS'!H6,5,1)
A46: Código Universal de punto de Suministro de Electricidad CUPS: | O46: =MID('TABLA DE SUMINISTROS'!A6,1,1) | P46: =MID('TABLA DE SUMINISTROS'!A6,2,1) | Q46: =MID('TABLA DE SUMINISTROS'!A6,3,1) | R46: =MID('TABLA DE SUMINISTROS'!A6,4,1) | S46: =MID('TABLA DE SUMINISTROS'!A6,5,1) | T46: =MID('TABLA DE SUMINISTROS'!A6,6,1) | U46: =MID('TABLA DE SUMINISTROS'!A6,7,1) | V46: =MID('TABLA DE SUMINISTROS'!A6,8,1) | W46: =MID('TABLA DE SUMINISTROS'!A6,9,1) | X46: =MID('TABLA DE SUMINISTROS'!A6,10,1) | Y46: =MID('TABLA DE SUMINISTROS'!A6,11,1) | Z46: =MID('TABLA DE SUMINISTROS'!A6,12,1) | AA46: =MID('TABLA DE SUMINISTROS'!A6,13,1) | AB46: =MID('TABLA DE SUMINISTROS'!A6,14,1) | AC46: =MID('TABLA DE SUMINISTROS'!A6,15,1) | AD46: =MID('TABLA DE SUMINISTROS'!A6,16,1) | AE46: =MID('TABLA DE SUMINISTROS'!A6,17,1) | AF46: =MID('TABLA DE SUMINISTROS'!A6,18,1) | AG46: =MID('TABLA DE SUMINISTROS'!A6,19,1) | AH46: =MID('TABLA DE SUMINISTROS'!A6,20,1) | AI46: =MID('TABLA DE SUMINISTROS'!A6,21,1) | AJ46: =MID('TABLA DE SUMINISTROS'!A6,22,1)
A47: Tarifa acceso: | D47: =IF('TABLA DE SUMINISTROS'!J6="","",'TABLA DE SUMINISTROS'!J6) | G47: Potencia Contratada (kW): | M47: P1= | N47: =IF('TABLA DE SUMINISTROS'!K6="","",'TABLA DE SUMINISTROS'!K6) | Q47: P2= | R47: =IF('TABLA DE SUMINISTROS'!L6="","",'TABLA DE SUMINISTROS'!L6) | U47: P3= | V47: =IF('TABLA DE SUMINISTROS'!M6="","",'TABLA DE SUMINISTROS'!M6) | Y47: P4= | Z47: =IF('TABLA DE SUMINISTROS'!N6="","",'TABLA DE SUMINISTROS'!N6) | AC47: P5= | AD47: =IF('TABLA DE SUMINISTROS'!O6="","",'TABLA DE SUMINISTROS'!O6) | AG47: P6= | AH47: =IF('TABLA DE SUMINISTROS'!P6="","",'TABLA DE SUMINISTROS'!P6)
...

Sheet ANEXO SUMINISTROS 8 al 13 (2)
A4: Anexo de Puntos de Suministro Eléctrico
A5: CONTRATO DUAL DE SUMINISTRO Y SERVICIOS ADICIONALES
A6: Denominación social: | G6: =UPPER(CONCATENATE('TABLA DE SUMINISTROS'!R8,"")) | Z6: NIF: | AD6: =UPPER(CONCATENATE('TABLA DE SUMINISTROS'!S8,))
A7: Dirección: | D7: =UPPER(CONCATENATE('TABLA DE SUMINISTROS'!B8," ",'TABLA DE SUMINISTROS'!C8)) | Z7: Escalera / Piso / Puerta: | AF7: =UPPER('TABLA DE SUMINISTROS'!D8)
A8: Localidad: | D8: =UPPER('TABLA DE SUMINISTROS'!F8) | O8: Provincia: | R8: =UPPER('TABLA DE SUMINISTROS'!G8) | AB8: Código Postal: | AF8: =MID('TABLA DE SUMINISTROS'!E8,1,1) | AG8: =MID('TABLA DE SUMINISTROS'!E8,2,1) | AH8: =MID('TABLA DE SUMINISTROS'!E8,3,1) | AI8: =MID('TABLA DE SUMINISTROS'!E8,4,1) | AJ8: =MID('TABLA DE SUMINISTROS'!E8,5,1)
A9: Referencia catastral: | F9: =MID('TABLA DE SUMINISTROS'!I8,1,1) | G9: =MID('TABLA DE SUMINISTROS'!I8,2,1) | H9: =MID('TABLA DE SUMINISTROS'!I8,3,1) | I9: =MID('TABLA DE SUMINISTROS'!I8,4,1) | J9: =MID('TABLA DE SUMINISTROS'!I8,5,1) | K9: =MID('TABLA DE SUMINISTROS'!I8,6,1) | L9: =MID('TABLA DE SUMINISTROS'!I8,7,1) | M9: =MID('TABLA DE SUMINISTROS'!I8,8,1) | N9: =MID('TABLA DE SUMINISTROS'!I8,9,1) | O9: =MID('TABLA DE SUMINISTROS'!I8,10,1) | P9: =MID('TABLA DE SUMINISTROS'!I8,11,1) | Q9: =MID('TABLA DE SUMINISTROS'!I8,12,1) | R9: =MID('TABLA DE SUMINISTROS'!I8,13,1) | S9: =MID('TABLA DE SUMINISTROS'!I8,14,1) | T9: =MID('TABLA DE SUMINISTROS'!I8,15,1) | U9: =MID('TABLA DE SUMINISTROS'!I8,16,1) | V9: =MID('TABLA DE SUMINISTROS'!I8,17,1) | W9: =MID('TABLA DE SUMINISTROS'!I8,18,1) | X9: =MID('TABLA DE SUMINISTROS'!I8,19,1) | Y9: =MID('TABLA DE SUMINISTROS'!I8,20,1) | Z9: Código actividad CNAE: | AF9: =MID('TABLA DE SUMINISTROS'!H8,1,1) | AG9: =MID('TABLA DE SUMINISTROS'!H8,2,1) | AH9: =MID('TABLA DE SUMINISTROS'!H8,3,1) | AI9: =MID('TABLA DE SUMINISTROS'!H8,4,1) | AJ9: =MID('TABLA DE SUMINISTROS'!H8,5,1)
A10: Código Universal de punto de Suministro de Electricidad CUPS: | O10: =MID('TABLA DE SUMINISTROS'!A8,1,1) | P10: =MID('TABLA DE SUMINISTROS'!A8,2,1) | Q10: =MID('TABLA DE SUMINISTROS'!A8,3,1) | R10: =MID('TABLA DE SUMINISTROS'!A8,4,1) | S10: =MID('TABLA DE SUMINISTROS'!A8,5,1) | T10: =MID('TABLA DE SUMINISTROS'!A8,6,1) | U10: =MID('TABLA DE SUMINISTROS'!A8,7,1) | V10: =MID('TABLA DE SUMINISTROS'!A8,8,1) | W10: =MID('TABLA DE SUMINISTROS'!A8,9,1) | X10: =MID('TABLA DE SUMINISTROS'!A8,10,1) | Y10: =MID('TABLA DE SUMINISTROS'!A8,11,1) | Z10: =MID('TABLA DE SUMINISTROS'!A8,12,1) | AA10: =MID('TABLA DE SUMINISTROS'!A8,13,1) | AB10: =MID('TABLA DE SUMINISTROS'!A8,14,1) | AC10: =MID('TABLA DE SUMINISTROS'!A8,15,1) | AD10: =MID('TABLA DE SUMINISTROS'!A8,16,1) | AE10: =MID('TABLA DE SUMINISTROS'!A8,17,1) | AF10: =MID('TABLA DE SUMINISTROS'!A8,18,1) | AG10: =MID('TABLA DE SUMINISTROS'!A8,19,1) | AH10: =MID('TABLA DE SUMINISTROS'!A8,20,1) | AI10: =MID('TABLA DE SUMINISTROS'!A8,21,1) | AJ10: =MID('TABLA DE SUMINISTROS'!A8,22,1)
A11: Tarifa acceso: | D11: =IF('TABLA DE SUMINISTROS'!J8="","",'TABLA DE SUMINISTROS'!J8) | G11: Potencia Contratada (kW): | M11: P1= | N11: =IF('TABLA DE SUMINISTROS'!K8="","",'TABLA DE SUMINISTROS'!K8) | Q11: P2= | R11: =IF('TABLA DE SUMINISTROS'!L8="","",'TABLA DE SUMINISTROS'!L8) | U11: P3= | V11: =IF('TABLA DE SUMINISTROS'!M8="","",'TABLA DE SUMINISTROS'!M8) | Y11: P4= | Z11: =IF('TABLA DE SUMINISTROS'!N8="","",'TABLA DE SUMINISTROS'!N8) | AC11: P5= | AD11: =IF('TABLA DE SUMINISTROS'!O8="","",'TABLA DE SUMINISTROS'!O8) | AG11: P6= | AH11: =IF('TABLA DE SUMINISTROS'!P8="","",'TABLA DE SUMINISTROS'!P8)
A12: Fecha de inicio solicitada*: | H12: =IF('TABLA DE SUMINISTROS'!Q8="","",'TABLA DE SUMINISTROS'!Q8)
A13: Contratar suministro eléctrico a: | I13: □ | K13: Precio Fijo | P13: □ | Q13: Precio Indexado
A15: Denominación social: | G15: =UPPER(CONCATENATE('TABLA DE SUMINISTROS'!R9,"")) | Z15: NIF: | AD15: =UPPER(CONCATENATE('TABLA DE SUMINISTROS'!S9,))
A16: Dirección: | D16: =UPPER(CONCATENATE('TABLA DE SUMINISTROS'!B9," ",'TABLA DE SUMINISTROS'!C9)) | Z16: Escalera / Piso / Puerta: | AF16: =UPPER('TABLA DE SUMINISTROS'!D9)
A17: Localidad: | D17: =UPPER('TABLA DE SUMINISTROS'!F9) | O17: Provincia: | R17: =UPPER('TABLA DE SUMINISTROS'!G9) | AB17: Código Postal: | AF17: =MID('TABLA DE SUMINISTROS'!E9,1,1) | AG17: =MID('TABLA DE SUMINISTROS'!E9,2,1) | AH17: =MID('TABLA DE SUMINISTROS'!E9,3,1) | AI17: =MID('TABLA DE SUMINISTROS'!E9,4,1) | AJ17: =MID('TABLA DE SUMINISTROS'!E9,5,1)
A18: Referencia catastral: | F18: =MID('TABLA DE SUMINISTROS'!I9,1,1) | G18: =MID('TABLA DE SUMINISTROS'!I9,2,1) | H18: =MID('TABLA DE SUMINISTROS'!I9,3,1) | I18: =MID('TABLA DE SUMINISTROS'!I9,4,1) | J18: =MID('TABLA DE SUMINISTROS'!I9,5,1) | K18: =MID('TABLA DE SUMINISTROS'!I9,6,1) | L18: =MID('TABLA DE SUMINISTROS'!I9,7,1) | M18: =MID('TABLA DE SUMINISTROS'!I9,8,1) | N18: =MID('TABLA DE SUMINISTROS'!I9,9,1) | O18: =MID('TABLA DE SUMINISTROS'!I9,10,1) | P18: =MID('TABLA DE SUMINISTROS'!I9,11,1) | Q18: =MID('TABLA DE SUMINISTROS'!I9,12,1) | R18: =MID('TABLA DE SUMINISTROS'!I9,13,1) | S18: =MID('TABLA DE SUMINISTROS'!I9,14,1) | T18: =MID('TABLA DE SUMINISTROS'!I9,15,1) | U18: =MID('TABLA DE SUMINISTROS'!I9,16,1) | V18: =MID('TABLA DE SUMINISTROS'!I9,17,1) | W18: =MID('TABLA DE SUMINISTROS'!I9,18,1) | X18: =MID('TABLA DE SUMINISTROS'!I9,19,1) | Y18: =MID('TABLA DE SUMINISTROS'!I9,20,1) | Z18: Código actividad CNAE: | AF18: =MID('TABLA DE SUMINISTROS'!H9,1,1) | AG18: =MID('TABLA DE SUMINISTROS'!H9,2,1) | AH18: =MID('TABLA DE SUMINISTROS'!H9,3,1) | AI18: =MID('TABLA DE SUMINISTROS'!H9,4,1) | AJ18: =MID('TABLA DE SUMINISTROS'!H9,5,1)
A19: Código Universal de punto de Suministro de Electricidad CUPS: | O19: =MID('TABLA DE SUMINISTROS'!A9,1,1) | P19: =MID('TABLA DE SUMINISTROS'!A9,2,1) | Q19: =MID('TABLA DE SUMINISTROS'!A9,3,1) | R19: =MID('TABLA DE SUMINISTROS'!A9,4,1) | S19: =MID('TABLA DE SUMINISTROS'!A9,5,1) | T19: =MID('TABLA DE SUMINISTROS'!A9,6,1) | U19: =MID('TABLA DE SUMINISTROS'!A9,7,1) | V19: =MID('TABLA DE SUMINISTROS'!A9,8,1) | W19: =MID('TABLA DE SUMINISTROS'!A9,9,1) | X19: =MID('TABLA DE SUMINISTROS'!A9,10,1) | Y19: =MID('TABLA DE SUMINISTROS'!A9,11,1) | Z19: =MID('TABLA DE SUMINISTROS'!A9,12,1) | AA19: =MID('TABLA DE SUMINISTROS'!A9,13,1) | AB19: =MID('TABLA DE SUMINISTROS'!A9,14,1) | AC19: =MID('TABLA DE SUMINISTROS'!A9,15,1) | AD19: =MID('TABLA DE SUMINISTROS'!A9,16,1) | AE19: =MID('TABLA DE SUMINISTROS'!A9,17,1) | AF19: =MID('TABLA DE SUMINISTROS'!A9,18,1) | AG19: =MID('TABLA DE SUMINISTROS'!A9,19,1) | AH19: =MID('TABLA DE SUMINISTROS'!A9,20,1) | AI19: =MID('TABLA DE SUMINISTROS'!A9,21,1) | AJ19: =MID('TABLA DE SUMINISTROS'!A9,22,1)
A20: Tarifa acceso: | D20: =IF('TABLA DE SUMINISTROS'!J9="","",'TABLA DE SUMINISTROS'!J9) | G20: Potencia Contratada (kW): | M20: P1= | N20: =IF('TABLA DE SUMINISTROS'!K9="","",'TABLA DE SUMINISTROS'!K9) | Q20: P2= | R20: =IF('TABLA DE SUMINISTROS'!L9="","",'TABLA DE SUMINISTROS'!L9) | U20: P3= | V20: =IF('TABLA DE SUMINISTROS'!M9="","",'TABLA DE SUMINISTROS'!M9) | Y20: P4= | Z20: =IF('TABLA DE SUMINISTROS'!N9="","",'TABLA DE SUMINISTROS'!N3) | AC20: P5= | AD20: =IF('TABLA DE SUMINISTROS'!O9="","",'TABLA DE SUMINISTROS'!O9) | AG20: P6= | AH20: =IF('TABLA DE SUMINISTROS'!P9="","",'TABLA DE SUMINISTROS'!P9)
A21: Fecha de inicio solicitada*: | H21: =IF('TABLA DE SUMINISTROS'!Q9="","",'TABLA DE SUMINISTROS'!Q9)
A22: Contratar suministro eléctrico a: | I22: □ | K22: Precio Fijo | P22: □ | Q22: Precio Indexado
A24: Denominación social: | G24: =UPPER(CONCATENATE('TABLA DE SUMINISTROS'!R10,"")) | Z24: NIF: | AD24: =UPPER(CONCATENATE('TABLA DE SUMINISTROS'!S10,))
A25: Dirección: | D25: =UPPER(CONCATENATE('TABLA DE SUMINISTROS'!B10," ",'TABLA DE SUMINISTROS'!C10)) | Z25: Escalera / Piso / Puerta: | AF25: =UPPER('TABLA DE SUMINISTROS'!D10)
A26: Localidad: | D26: =UPPER('TABLA DE SUMINISTROS'!F10) | O26: Provincia: | R26: =UPPER('TABLA DE SUMINISTROS'!G10) | AB26: Código Postal: | AF26: =MID('TABLA DE SUMINISTROS'!E10,1,1) | AG26: =MID('TABLA DE SUMINISTROS'!E10,2,1) | AH26: =MID('TABLA DE SUMINISTROS'!E10,3,1) | AI26: =MID('TABLA DE SUMINISTROS'!E10,4,1) | AJ26: =MID('TABLA DE SUMINISTROS'!E10,5,1)
A27: Referencia catastral: | F27: =MID('TABLA DE SUMINISTROS'!I10,1,1) | G27: =MID('TABLA DE SUMINISTROS'!I10,2,1) | H27: =MID('TABLA DE SUMINISTROS'!I10,3,1) | I27: =MID('TABLA DE SUMINISTROS'!I10,4,1) | J27: =MID('TABLA DE SUMINISTROS'!I10,5,1) | K27: =MID('TABLA DE SUMINISTROS'!I10,6,1) | L27: =MID('TABLA DE SUMINISTROS'!I10,7,1) | M27: =MID('TABLA DE SUMINISTROS'!I10,8,1) | N27: =MID('TABLA DE SUMINISTROS'!I10,9,1) | O27: =MID('TABLA DE SUMINISTROS'!I10,10,1) | P27: =MID('TABLA DE SUMINISTROS'!I10,11,1) | Q27: =MID('TABLA DE SUMINISTROS'!I10,12,1) | R27: =MID('TABLA DE SUMINISTROS'!I10,13,1) | S27: =MID('TABLA DE SUMINISTROS'!I10,14,1) | T27: =MID('TABLA DE SUMINISTROS'!I10,15,1) | U27: =MID('TABLA DE SUMINISTROS'!I10,16,1) | V27: =MID('TABLA DE SUMINISTROS'!I10,17,1) | W27: =MID('TABLA DE SUMINISTROS'!I10,18,1) | X27: =MID('TABLA DE SUMINISTROS'!I10,19,1) | Y27: =MID('TABLA DE SUMINISTROS'!I10,20,1) | Z27: Código actividad CNAE: | AF27: =MID('TABLA DE SUMINISTROS'!H10,1,1) | AG27: =MID('TABLA DE SUMINISTROS'!H10,2,1) | AH27: =MID('TABLA DE SUMINISTROS'!H10,3,1) | AI27: =MID('TABLA DE SUMINISTROS'!H10,4,1) | AJ27: =MID('TABLA DE SUMINISTROS'!H10,5,1)
A28: Código Universal de punto de Suministro de Electricidad CUPS: | O28: =MID('TABLA DE SUMINISTROS'!A10,1,1) | P28: =MID('TABLA DE SUMINISTROS'!A10,2,1) | Q28: =MID('TABLA DE SUMINISTROS'!A10,3,1) | R28: =MID('TABLA DE SUMINISTROS'!A10,4,1) | S28: =MID('TABLA DE SUMINISTROS'!A10,5,1) | T28: =MID('TABLA DE SUMINISTROS'!A10,6,1) | U28: =MID('TABLA DE SUMINISTROS'!A10,7,1) | V28: =MID('TABLA DE SUMINISTROS'!A10,8,1) | W28: =MID('TABLA DE SUMINISTROS'!A10,9,1) | X28: =MID('TABLA DE SUMINISTROS'!A10,10,1) | Y28: =MID('TABLA DE SUMINISTROS'!A10,11,1) | Z28: =MID('TABLA DE SUMINISTROS'!A10,12,1) | AA28: =MID('TABLA DE SUMINISTROS'!A10,13,1) | AB28: =MID('TABLA DE SUMINISTROS'!A10,14,1) | AC28: =MID('TABLA DE SUMINISTROS'!A10,15,1) | AD28: =MID('TABLA DE SUMINISTROS'!A10,16,1) | AE28: =MID('TABLA DE SUMINISTROS'!A10,17,1) | AF28: =MID('TABLA DE SUMINISTROS'!A10,18,1) | AG28: =MID('TABLA DE SUMINISTROS'!A10,19,1) | AH28: =MID('TABLA DE SUMINISTROS'!A10,20,1) | AI28: =MID('TABLA DE SUMINISTROS'!SA10,21,1) | AJ28: =MID('TABLA DE SUMINISTROS'!A10,22,1)
A29: Tarifa acceso: | D29: =IF('TABLA DE SUMINISTROS'!J10="","",'TABLA DE SUMINISTROS'!J10) | G29: Potencia Contratada (kW): | M29: P1= | N29: =IF('TABLA DE SUMINISTROS'!K10="","",'TABLA DE SUMINISTROS'!K10) | Q29: P2= | R29: =IF('TABLA DE SUMINISTROS'!L10="","",'TABLA DE SUMINISTROS'!L10) | U29: P3= | V29: =IF('TABLA DE SUMINISTROS'!M10="","",'TABLA DE SUMINISTROS'!M10) | Y29: P4= | Z29: =IF('TABLA DE SUMINISTROS'!N10="","",'TABLA DE SUMINISTROS'!N10) | AC29: P5= | AD29: =IF('TABLA DE SUMINISTROS'!O10="","",'TABLA DE SUMINISTROS'!O10) | AG29: P6= | AH29: =IF('TABLA DE SUMINISTROS'!P10="","",'TABLA DE SUMINISTROS'!P10)
A30: Fecha de inicio solicitada*: | H30: =IF('TABLA DE SUMINISTROS'!Q10="","",'TABLA DE SUMINISTROS'!Q10)
A31: Contratar suministro eléctrico a: | I31: □ | K31: Precio Fijo | P31: □ | Q31: Precio Indexado
A33: Denominación social: | G33: =UPPER(CONCATENATE('TABLA DE SUMINISTROS'!R11,"")) | Z33: NIF: | AD33: =UPPER(CONCATENATE('TABLA DE SUMINISTROS'!S11,))
A34: Dirección: | D34: =UPPER(CONCATENATE('TABLA DE SUMINISTROS'!B11," ",'TABLA DE SUMINISTROS'!C11)) | Z34: Escalera / Piso / Puerta: | AF34: =UPPER('TABLA DE SUMINISTROS'!D11)
A35: Localidad: | D35: =UPPER('TABLA DE SUMINISTROS'!F11) | O35: Provincia: | R35: =UPPER('TABLA DE SUMINISTROS'!G11) | AB35: Código Postal: | AF35: =MID('TABLA DE SUMINISTROS'!E11,1,1) | AG35: =MID('TABLA DE SUMINISTROS'!E11,2,1) | AH35: =MID('TABLA DE SUMINISTROS'!E11,3,1) | AI35: =MID('TABLA DE SUMINISTROS'!E11,4,1) | AJ35: =MID('TABLA DE SUMINISTROS'!E11,5,1)
A36: Referencia catastral: | F36: =MID('TABLA DE SUMINISTROS'!I11,1,1) | G36: =MID('TABLA DE SUMINISTROS'!I11,2,1) | H36: =MID('TABLA DE SUMINISTROS'!I11,3,1) | I36: =MID('TABLA DE SUMINISTROS'!I11,4,1) | J36: =MID('TABLA DE SUMINISTROS'!I11,5,1) | K36: =MID('TABLA DE SUMINISTROS'!I11,6,1) | L36: =MID('TABLA DE SUMINISTROS'!I11,7,1) | M36: =MID('TABLA DE SUMINISTROS'!I11,8,1) | N36: =MID('TABLA DE SUMINISTROS'!I11,9,1) | O36: =MID('TABLA DE SUMINISTROS'!I11,10,1) | P36: =MID('TABLA DE SUMINISTROS'!I11,11,1) | Q36: =MID('TABLA DE SUMINISTROS'!I11,12,1) | R36: =MID('TABLA DE SUMINISTROS'!I11,13,1) | S36: =MID('TABLA DE SUMINISTROS'!I11,14,1) | T36: =MID('TABLA DE SUMINISTROS'!I11,15,1) | U36: =MID('TABLA DE SUMINISTROS'!I11,16,1) | V36: =MID('TABLA DE SUMINISTROS'!I11,17,1) | W36: =MID('TABLA DE SUMINISTROS'!I11,18,1) | X36: =MID('TABLA DE SUMINISTROS'!I11,19,1) | Y36: =MID('TABLA DE SUMINISTROS'!I11,20,1) | Z36: Código actividad CNAE: | AF36: =MID('TABLA DE SUMINISTROS'!H11,1,1) | AG36: =MID('TABLA DE SUMINISTROS'!H11,2,1) | AH36: =MID('TABLA DE SUMINISTROS'!H11,3,1) | AI36: =MID('TABLA DE SUMINISTROS'!H11,4,1) | AJ36: =MID('TABLA DE SUMINISTROS'!H11,5,1)
A37: Código Universal de punto de Suministro de Electricidad CUPS: | O37: =MID('TABLA DE SUMINISTROS'!A11,1,1) | P37: =MID('TABLA DE SUMINISTROS'!A11,2,1) | Q37: =MID('TABLA DE SUMINISTROS'!A11,3,1) | R37: =MID('TABLA DE SUMINISTROS'!A11,4,1) | S37: =MID('TABLA DE SUMINISTROS'!A11,5,1) | T37: =MID('TABLA DE SUMINISTROS'!A11,6,1) | U37: =MID('TABLA DE SUMINISTROS'!A11,7,1) | V37: =MID('TABLA DE SUMINISTROS'!A11,8,1) | W37: =MID('TABLA DE SUMINISTROS'!A11,9,1) | X37: =MID('TABLA DE SUMINISTROS'!A11,10,1) | Y37: =MID('TABLA DE SUMINISTROS'!A11,11,1) | Z37: =MID('TABLA DE SUMINISTROS'!A11,12,1) | AA37: =MID('TABLA DE SUMINISTROS'!A11,13,1) | AB37: =MID('TABLA DE SUMINISTROS'!A11,14,1) | AC37: =MID('TABLA DE SUMINISTROS'!A11,15,1) | AD37: =MID('TABLA DE SUMINISTROS'!A11,16,1) | AE37: =MID('TABLA DE SUMINISTROS'!A11,17,1) | AF37: =MID('TABLA DE SUMINISTROS'!A11,18,1) | AG37: =MID('TABLA DE SUMINISTROS'!A11,19,1) | AH37: =MID('TABLA DE SUMINISTROS'!A11,20,1) | AI37: =MID('TABLA DE SUMINISTROS'!A11,21,1) | AJ37: =MID('TABLA DE SUMINISTROS'!A11,22,1)
A38: Tarifa acceso: | D38: =IF('TABLA DE SUMINISTROS'!J11="","",'TABLA DE SUMINISTROS'!J11) | G38: Potencia Contratada (kW): | M38: P1= | N38: =IF('TABLA DE SUMINISTROS'!K11="","",'TABLA DE SUMINISTROS'!K11) | Q38: P2= | R38: =IF('TABLA DE SUMINISTROS'!L11="","",'TABLA DE SUMINISTROS'!L11) | U38: P3= | V38: =IF('TABLA DE SUMINISTROS'!M11="","",'TABLA DE SUMINISTROS'!M11) | Y38: P4= | Z38: =IF('TABLA DE SUMINISTROS'!N11="","",'TABLA DE SUMINISTROS'!N11) | AC38: P5= | AD38: =IF('TABLA DE SUMINISTROS'!O11="","",'TABLA DE SUMINISTROS'!O11) | AG38: P6= | AH38: =IF('TABLA DE SUMINISTROS'!P11="","",'TABLA DE SUMINISTROS'!P11)
A39: Fecha de inicio solicitada*: | H39: =IF('TABLA DE SUMINISTROS'!Q11="","",'TABLA DE SUMINISTROS'!Q11)
A40: Contratar suministro eléctrico a: | I40: □ | K40: Precio Fijo | P40: □ | Q40: Precio Indexado
A42: Denominación social: | G42: =UPPER(CONCATENATE('TABLA DE SUMINISTROS'!R12,"")) | Z42: NIF: | AD42: =UPPER(CONCATENATE('TABLA DE SUMINISTROS'!S12,))
A43: Dirección: | D43: =UPPER(CONCATENATE('TABLA DE SUMINISTROS'!B12," ",'TABLA DE SUMINISTROS'!C12)) | Z43: Escalera / Piso / Puerta: | AF43: =UPPER('TABLA DE SUMINISTROS'!D12)
A44: Localidad: | D44: =UPPER('TABLA DE SUMINISTROS'!F12) | O44: Provincia: | R44: =UPPER('TABLA DE SUMINISTROS'!G12) | AB44: Código Postal: | AF44: =MID('TABLA DE SUMINISTROS'!E12,1,1) | AG44: =MID('TABLA DE SUMINISTROS'!E12,2,1) | AH44: =MID('TABLA DE SUMINISTROS'!E12,3,1) | AI44: =MID('TABLA DE SUMINISTROS'!E12,4,1) | AJ44: =MID('TABLA DE SUMINISTROS'!E12,5,1)
A45: Referencia catastral: | F45: =MID('TABLA DE SUMINISTROS'!I6,1,1) | G45: =MID('TABLA DE SUMINISTROS'!I6,2,1) | H45: =MID('TABLA DE SUMINISTROS'!I6,3,1) | I45: =MID('TABLA DE SUMINISTROS'!I6,4,1) | J45: =MID('TABLA DE SUMINISTROS'!I6,5,1) | K45: =MID('TABLA DE SUMINISTROS'!I6,6,1) | L45: =MID('TABLA DE SUMINISTROS'!I6,7,1) | M45: =MID('TABLA DE SUMINISTROS'!I6,8,1) | N45: =MID('TABLA DE SUMINISTROS'!I6,9,1) | O45: =MID('TABLA DE SUMINISTROS'!I6,10,1) | P45: =MID('TABLA DE SUMINISTROS'!I6,11,1) | Q45: =MID('TABLA DE SUMINISTROS'!I6,12,1) | R45: =MID('TABLA DE SUMINISTROS'!I6,13,1) | S45: =MID('TABLA DE SUMINISTROS'!I6,14,1) | T45: =MID('TABLA DE SUMINISTROS'!I6,15,1) | U45: =MID('TABLA DE SUMINISTROS'!I6,16,1) | V45: =MID('TABLA DE SUMINISTROS'!I6,17,1) | W45: =MID('TABLA DE SUMINISTROS'!I6,18,1) | X45: =MID('TABLA DE SUMINISTROS'!I6,19,1) | Y45: =MID('TABLA DE SUMINISTROS'!I6,20,1) | Z45: Código actividad CNAE: | AF45: =MID('TABLA DE SUMINISTROS'!H12,1,1) | AG45: =MID('TABLA DE SUMINISTROS'!H12,2,1) | AH45: =MID('TABLA DE SUMINISTROS'!H12,3,1) | AI45: =MID('TABLA DE SUMINISTROS'!H12,4,1) | AJ45: =MID('TABLA DE SUMINISTROS'!H12,5,1)
A46: Código Universal de punto de Suministro de Electricidad CUPS: | O46: =MID('TABLA DE SUMINISTROS'!A12,1,1) | P46: =MID('TABLA DE SUMINISTROS'!A12,2,1) | Q46: =MID('TABLA DE SUMINISTROS'!A12,3,1) | R46: =MID('TABLA DE SUMINISTROS'!A12,4,1) | S46: =MID('TABLA DE SUMINISTROS'!A12,5,1) | T46: =MID('TABLA DE SUMINISTROS'!A12,6,1) | U46: =MID('TABLA DE SUMINISTROS'!A12,7,1) | V46: =MID('TABLA DE SUMINISTROS'!A12,8,1) | W46: =MID('TABLA DE SUMINISTROS'!A12,9,1) | X46: =MID('TABLA DE SUMINISTROS'!A12,10,1) | Y46: =MID('TABLA DE SUMINISTROS'!A12,11,1) | Z46: =MID('TABLA DE SUMINISTROS'!A12,12,1) | AA46: =MID('TABLA DE SUMINISTROS'!A12,13,1) | AB46: =MID('TABLA DE SUMINISTROS'!A12,14,1) | AC46: =MID('TABLA DE SUMINISTROS'!A12,15,1) | AD46: =MID('TABLA DE SUMINISTROS'!A12,16,1) | AE46: =MID('TABLA DE SUMINISTROS'!A12,17,1) | AF46: =MID('TABLA DE SUMINISTROS'!A12,18,1) | AG46: =MID('TABLA DE SUMINISTROS'!A12,19,1) | AH46: =MID('TABLA DE SUMINISTROS'!A12,20,1) | AI46: =MID('TABLA DE SUMINISTROS'!A12,21,1) | AJ46: =MID('TABLA DE SUMINISTROS'!A12,22,1)
A47: Tarifa acceso: | D47: =IF('TABLA DE SUMINISTROS'!J12="","",'TABLA DE SUMINISTROS'!J12) | G47: Potencia Contratada (kW): | M47: P1= | N47: =IF('TABLA DE SUMINISTROS'!K12="","",'TABLA DE SUMINISTROS'!K12) | Q47: P2= | R47: =IF('TABLA DE SUMINISTROS'!L12="","",'TABLA DE SUMINISTROS'!L12) | U47: P3= | V47: =IF('TABLA DE SUMINISTROS'!M12="","",'TABLA DE SUMINISTROS'!M12) | Y47: P4= | Z47: =IF('TABLA DE SUMINISTROS'!N12="","",'TABLA DE SUMINISTROS'!N12) | AC47: P5= | AD47: =IF('TABLA DE SUMINISTROS'!O12="","",'TABLA DE SUMINISTROS'!O12) | AG47: P6= | AH47: =IF('TABLA DE SUMINISTROS'!P12="","",'TABLA DE SUMINISTROS'!P12)
...

Sheet ANEXO SUMINISTROS 14 al 19
A4: Anexo de Puntos de Suministro Eléctrico
A5: CONTRATO DUAL DE SUMINISTRO Y SERVICIOS ADICIONALES
A6: Denominación social: | G6: =UPPER(CONCATENATE('TABLA DE SUMINISTROS'!R14,"")) | Z6: NIF: | AD6: =UPPER(CONCATENATE('TABLA DE SUMINISTROS'!S14,))
A7: Dirección: | D7: =UPPER(CONCATENATE('TABLA DE SUMINISTROS'!B14," ",'TABLA DE SUMINISTROS'!C14)) | Z7: Escalera / Piso / Puerta: | AF7: =UPPER('TABLA DE SUMINISTROS'!D14)
A8: Localidad: | D8: =UPPER('TABLA DE SUMINISTROS'!F14) | O8: Provincia: | R8: =UPPER('TABLA DE SUMINISTROS'!G14) | AB8: Código Postal: | AF8: =MID('TABLA DE SUMINISTROS'!E14,1,1) | AG8: =MID('TABLA DE SUMINISTROS'!E14,2,1) | AH8: =MID('TABLA DE SUMINISTROS'!E14,3,1) | AI8: =MID('TABLA DE SUMINISTROS'!E14,4,1) | AJ8: =MID('TABLA DE SUMINISTROS'!E14,5,1)
A9: Referencia catastral: | F9: =MID('TABLA DE SUMINISTROS'!I14,1,1) | G9: =MID('TABLA DE SUMINISTROS'!I14,2,1) | H9: =MID('TABLA DE SUMINISTROS'!I14,3,1) | I9: =MID('TABLA DE SUMINISTROS'!I8,4,1) | J9: =MID('TABLA DE SUMINISTROS'!I8,5,1) | K9: =MID('TABLA DE SUMINISTROS'!I8,6,1) | L9: =MID('TABLA DE SUMINISTROS'!I8,7,1) | M9: =MID('TABLA DE SUMINISTROS'!I8,8,1) | N9: =MID('TABLA DE SUMINISTROS'!I8,9,1) | O9: =MID('TABLA DE SUMINISTROS'!I8,10,1) | P9: =MID('TABLA DE SUMINISTROS'!I8,11,1) | Q9: =MID('TABLA DE SUMINISTROS'!I8,12,1) | R9: =MID('TABLA DE SUMINISTROS'!I8,13,1) | S9: =MID('TABLA DE SUMINISTROS'!I8,14,1) | T9: =MID('TABLA DE SUMINISTROS'!I8,15,1) | U9: =MID('TABLA DE SUMINISTROS'!I8,16,1) | V9: =MID('TABLA DE SUMINISTROS'!I8,17,1) | W9: =MID('TABLA DE SUMINISTROS'!I8,18,1) | X9: =MID('TABLA DE SUMINISTROS'!I8,19,1) | Y9: =MID('TABLA DE SUMINISTROS'!I8,20,1) | Z9: Código actividad CNAE: | AF9: =MID('TABLA DE SUMINISTROS'!H14,1,1) | AG9: =MID('TABLA DE SUMINISTROS'!H8,2,1) | AH9: =MID('TABLA DE SUMINISTROS'!H8,3,1) | AI9: =MID('TABLA DE SUMINISTROS'!H8,4,1) | AJ9: =MID('TABLA DE SUMINISTROS'!H8,5,1)
A10: Código Universal de punto de Suministro de Electricidad CUPS: | O10: =MID('TABLA DE SUMINISTROS'!A14,1,1) | P10: =MID('TABLA DE SUMINISTROS'!A14,2,1) | Q10: =MID('TABLA DE SUMINISTROS'!A14,3,1) | R10: =MID('TABLA DE SUMINISTROS'!A14,4,1) | S10: =MID('TABLA DE SUMINISTROS'!A14,5,1) | T10: =MID('TABLA DE SUMINISTROS'!A14,6,1) | U10: =MID('TABLA DE SUMINISTROS'!A14,7,1) | V10: =MID('TABLA DE SUMINISTROS'!A14,8,1) | W10: =MID('TABLA DE SUMINISTROS'!A14,9,1) | X10: =MID('TABLA DE SUMINISTROS'!A14,10,1) | Y10: =MID('TABLA DE SUMINISTROS'!A14,11,1) | Z10: =MID('TABLA DE SUMINISTROS'!A14,12,1) | AA10: =MID('TABLA DE SUMINISTROS'!A14,13,1) | AB10: =MID('TABLA DE SUMINISTROS'!A14,14,1) | AC10: =MID('TABLA DE SUMINISTROS'!A14,15,1) | AD10: =MID('TABLA DE SUMINISTROS'!A14,16,1) | AE10: =MID('TABLA DE SUMINISTROS'!A14,17,1) | AF10: =MID('TABLA DE SUMINISTROS'!A14,18,1) | AG10: =MID('TABLA DE SUMINISTROS'!A14,19,1) | AH10: =MID('TABLA DE SUMINISTROS'!A14,20,1) | AI10: =MID('TABLA DE SUMINISTROS'!A14,21,1) | AJ10: =MID('TABLA DE SUMINISTROS'!A14,22,1)
A11: Tarifa acceso: | D11: =IF('TABLA DE SUMINISTROS'!J14="","",'TABLA DE SUMINISTROS'!J14) | G11: Potencia Contratada (kW): | M11: P1= | N11: =IF('TABLA DE SUMINISTROS'!K14="","",'TABLA DE SUMINISTROS'!K14) | Q11: P2= | R11: =IF('TABLA DE SUMINISTROS'!L14="","",'TABLA DE SUMINISTROS'!L14) | U11: P3= | V11: =IF('TABLA DE SUMINISTROS'!M14="","",'TABLA DE SUMINISTROS'!M14) | Y11: P4= | Z11: =IF('TABLA DE SUMINISTROS'!N14="","",'TABLA DE SUMINISTROS'!N14) | AC11: P5= | AD11: =IF('TABLA DE SUMINISTROS'!O14="","",'TABLA DE SUMINISTROS'!O14) | AG11: P6= | AH11: =IF('TABLA DE SUMINISTROS'!P14="","",'TABLA DE SUMINISTROS'!P14)
A12: Fecha de inicio solicitada*: | H12: =IF('TABLA DE SUMINISTROS'!Q14="","",'TABLA DE SUMINISTROS'!Q14)
A13: Contratar suministro eléctrico a: | I13: □ | K13: Precio Fijo | P13: □ | Q13: Precio Indexado
A15: Denominación social: | G15: =UPPER(CONCATENATE('TABLA DE SUMINISTROS'!R15,"")) | Z15: NIF: | AD15: =UPPER(CONCATENATE('TABLA DE SUMINISTROS'!S15,))
A16: Dirección: | D16: =UPPER(CONCATENATE('TABLA DE SUMINISTROS'!B15," ",'TABLA DE SUMINISTROS'!C15)) | Z16: Escalera / Piso / Puerta: | AF16: =UPPER('TABLA DE SUMINISTROS'!D15)
A17: Localidad: | D17: =UPPER('TABLA DE SUMINISTROS'!F15) | O17: Provincia: | R17: =UPPER('TABLA DE SUMINISTROS'!G15) | AB17: Código Postal: | AF17: =MID('TABLA DE SUMINISTROS'!E15,1,1) | AG17: =MID('TABLA DE SUMINISTROS'!E15,2,1) | AH17: =MID('TABLA DE SUMINISTROS'!E15,3,1) | AI17: =MID('TABLA DE SUMINISTROS'!E15,4,1) | AJ17: =MID('TABLA DE SUMINISTROS'!E15,5,1)
A18: Referencia catastral: | F18: =MID('TABLA DE SUMINISTROS'!I9,1,1) | G18: =MID('TABLA DE SUMINISTROS'!I9,2,1) | H18: =MID('TABLA DE SUMINISTROS'!I9,3,1) | I18: =MID('TABLA DE SUMINISTROS'!I9,4,1) | J18: =MID('TABLA DE SUMINISTROS'!I9,5,1) | K18: =MID('TABLA DE SUMINISTROS'!I9,6,1) | L18: =MID('TABLA DE SUMINISTROS'!I9,7,1) | M18: =MID('TABLA DE SUMINISTROS'!I9,8,1) | N18: =MID('TABLA DE SUMINISTROS'!I9,9,1) | O18: =MID('TABLA DE SUMINISTROS'!I9,10,1) | P18: =MID('TABLA DE SUMINISTROS'!I9,11,1) | Q18: =MID('TABLA DE SUMINISTROS'!I9,12,1) | R18: =MID('TABLA DE SUMINISTROS'!I9,13,1) | S18: =MID('TABLA DE SUMINISTROS'!I9,14,1) | T18: =MID('TABLA DE SUMINISTROS'!I9,15,1) | U18: =MID('TABLA DE SUMINISTROS'!I9,16,1) | V18: =MID('TABLA DE SUMINISTROS'!I9,17,1) | W18: =MID('TABLA DE SUMINISTROS'!I9,18,1) | X18: =MID('TABLA DE SUMINISTROS'!I9,19,1) | Y18: =MID('TABLA DE SUMINISTROS'!I9,20,1) | Z18: Código actividad CNAE: | AF18: =MID('TABLA DE SUMINISTROS'!H9,1,1) | AG18: =MID('TABLA DE SUMINISTROS'!H9,2,1) | AH18: =MID('TABLA DE SUMINISTROS'!H9,3,1) | AI18: =MID('TABLA DE SUMINISTROS'!H9,4,1) | AJ18: =MID('TABLA DE SUMINISTROS'!H9,5,1)
A19: Código Universal de punto de Suministro de Electricidad CUPS: | O19: =MID('TABLA DE SUMINISTROS'!A15,1,1) | P19: =MID('TABLA DE SUMINISTROS'!A15,2,1) | Q19: =MID('TABLA DE SUMINISTROS'!A15,3,1) | R19: =MID('TABLA DE SUMINISTROS'!A15,4,1) | S19: =MID('TABLA DE SUMINISTROS'!A15,5,1) | T19: =MID('TABLA DE SUMINISTROS'!A15,6,1) | U19: =MID('TABLA DE SUMINISTROS'!A15,7,1) | V19: =MID('TABLA DE SUMINISTROS'!A15,8,1) | W19: =MID('TABLA DE SUMINISTROS'!A15,9,1) | X19: =MID('TABLA DE SUMINISTROS'!A15,10,1) | Y19: =MID('TABLA DE SUMINISTROS'!A15,11,1) | Z19: =MID('TABLA DE SUMINISTROS'!A15,12,1) | AA19: =MID('TABLA DE SUMINISTROS'!A15,13,1) | AB19: =MID('TABLA DE SUMINISTROS'!A15,14,1) | AC19: =MID('TABLA DE SUMINISTROS'!A15,15,1) | AD19: =MID('TABLA DE SUMINISTROS'!A15,16,1) | AE19: =MID('TABLA DE SUMINISTROS'!A15,17,1) | AF19: =MID('TABLA DE SUMINISTROS'!A15,18,1) | AG19: =MID('TABLA DE SUMINISTROS'!A15,19,1) | AH19: =MID('TABLA DE SUMINISTROS'!A15,20,1) | AI19: =MID('TABLA DE SUMINISTROS'!A15,21,1) | AJ19: =MID('TABLA DE SUMINISTROS'!A15,22,1)
A20: Tarifa acceso: | D20: =IF('TABLA DE SUMINISTROS'!J15="","",'TABLA DE SUMINISTROS'!J15) | G20: Potencia Contratada (kW): | M20: P1= | N20: =IF('TABLA DE SUMINISTROS'!K15="","",'TABLA DE SUMINISTROS'!K15) | Q20: P2= | R20: =IF('TABLA DE SUMINISTROS'!L15="","",'TABLA DE SUMINISTROS'!L15) | U20: P3= | V20: =IF('TABLA DE SUMINISTROS'!M15="","",'TABLA DE SUMINISTROS'!M15) | Y20: P4= | Z20: =IF('TABLA DE SUMINISTROS'!N15="","",'TABLA DE SUMINISTROS'!N15) | AC20: P5= | AD20: =IF('TABLA DE SUMINISTROS'!O15="","",'TABLA DE SUMINISTROS'!O15) | AG20: P6= | AH20: =IF('TABLA DE SUMINISTROS'!P15="","",'TABLA DE SUMINISTROS'!P15)
A21: Fecha de inicio solicitada*: | H21: =IF('TABLA DE SUMINISTROS'!Q15="","",'TABLA DE SUMINISTROS'!Q15)
A22: Contratar suministro eléctrico a: | I22: □ | K22: Precio Fijo | P22: □ | Q22: Precio Indexado
A24: Denominación social: | G24: =UPPER(CONCATENATE('TABLA DE SUMINISTROS'!R16,"")) | Z24: NIF: | AD24: =UPPER(CONCATENATE('TABLA DE SUMINISTROS'!S16,))
A25: Dirección: | D25: =UPPER(CONCATENATE('TABLA DE SUMINISTROS'!B16," ",'TABLA DE SUMINISTROS'!C16)) | Z25: Escalera / Piso / Puerta: | AF25: =UPPER('TABLA DE SUMINISTROS'!D16)
A26: Localidad: | D26: =UPPER('TABLA DE SUMINISTROS'!F16) | O26: Provincia: | R26: =UPPER('TABLA DE SUMINISTROS'!G16) | AB26: Código Postal: | AF26: =MID('TABLA DE SUMINISTROS'!E16,1,1) | AG26: =MID('TABLA DE SUMINISTROS'!E16,2,1) | AH26: =MID('TABLA DE SUMINISTROS'!E16,3,1) | AI26: =MID('TABLA DE SUMINISTROS'!E16,4,1) | AJ26: =MID('TABLA DE SUMINISTROS'!E16,5,1)
A27: Referencia catastral: | F27: =MID('TABLA DE SUMINISTROS'!I10,1,1) | G27: =MID('TABLA DE SUMINISTROS'!I10,2,1) | H27: =MID('TABLA DE SUMINISTROS'!I10,3,1) | I27: =MID('TABLA DE SUMINISTROS'!I10,4,1) | J27: =MID('TABLA DE SUMINISTROS'!I10,5,1) | K27: =MID('TABLA DE SUMINISTROS'!I10,6,1) | L27: =MID('TABLA DE SUMINISTROS'!I10,7,1) | M27: =MID('TABLA DE SUMINISTROS'!I10,8,1) | N27: =MID('TABLA DE SUMINISTROS'!I10,9,1) | O27: =MID('TABLA DE SUMINISTROS'!I10,10,1) | P27: =MID('TABLA DE SUMINISTROS'!I10,11,1) | Q27: =MID('TABLA DE SUMINISTROS'!I10,12,1) | R27: =MID('TABLA DE SUMINISTROS'!I10,13,1) | S27: =MID('TABLA DE SUMINISTROS'!I10,14,1) | T27: =MID('TABLA DE SUMINISTROS'!I10,15,1) | U27: =MID('TABLA DE SUMINISTROS'!I10,16,1) | V27: =MID('TABLA DE SUMINISTROS'!I10,17,1) | W27: =MID('TABLA DE SUMINISTROS'!I10,18,1) | X27: =MID('TABLA DE SUMINISTROS'!I10,19,1) | Y27: =MID('TABLA DE SUMINISTROS'!I10,20,1) | Z27: Código actividad CNAE: | AF27: =MID('TABLA DE SUMINISTROS'!H10,1,1) | AG27: =MID('TABLA DE SUMINISTROS'!H10,2,1) | AH27: =MID('TABLA DE SUMINISTROS'!H10,3,1) | AI27: =MID('TABLA DE SUMINISTROS'!H10,4,1) | AJ27: =MID('TABLA DE SUMINISTROS'!H10,5,1)
A28: Código Universal de punto de Suministro de Electricidad CUPS: | O28: =MID('TABLA DE SUMINISTROS'!A16,1,1) | P28: =MID('TABLA DE SUMINISTROS'!A16,2,1) | Q28: =MID('TABLA DE SUMINISTROS'!A16,3,1) | R28: =MID('TABLA DE SUMINISTROS'!A16,4,1) | S28: =MID('TABLA DE SUMINISTROS'!A16,5,1) | T28: =MID('TABLA DE SUMINISTROS'!A16,6,1) | U28: =MID('TABLA DE SUMINISTROS'!A16,7,1) | V28: =MID('TABLA DE SUMINISTROS'!A16,8,1) | W28: =MID('TABLA DE SUMINISTROS'!A16,9,1) | X28: =MID('TABLA DE SUMINISTROS'!A16,10,1) | Y28: =MID('TABLA DE SUMINISTROS'!A16,11,1) | Z28: =MID('TABLA DE SUMINISTROS'!A16,12,1) | AA28: =MID('TABLA DE SUMINISTROS'!A16,13,1) | AB28: =MID('TABLA DE SUMINISTROS'!A16,14,1) | AC28: =MID('TABLA DE SUMINISTROS'!A16,15,1) | AD28: =MID('TABLA DE SUMINISTROS'!A16,16,1) | AE28: =MID('TABLA DE SUMINISTROS'!A16,17,1) | AF28: =MID('TABLA DE SUMINISTROS'!A16,18,1) | AG28: =MID('TABLA DE SUMINISTROS'!A16,19,1) | AH28: =MID('TABLA DE SUMINISTROS'!A16,20,1) | AI28: =MID('TABLA DE SUMINISTROS'!SA16,21,1) | AJ28: =MID('TABLA DE SUMINISTROS'!A16,22,1)
A29: Tarifa acceso: | D29: =IF('TABLA DE SUMINISTROS'!J16="","",'TABLA DE SUMINISTROS'!J16) | G29: Potencia Contratada (kW): | M29: P1= | N29: =IF('TABLA DE SUMINISTROS'!K16="","",'TABLA DE SUMINISTROS'!K16) | Q29: P2= | R29: =IF('TABLA DE SUMINISTROS'!L16="","",'TABLA DE SUMINISTROS'!L16) | U29: P3= | V29: =IF('TABLA DE SUMINISTROS'!M16="","",'TABLA DE SUMINISTROS'!M16) | Y29: P4= | Z29: =IF('TABLA DE SUMINISTROS'!N16="","",'TABLA DE SUMINISTROS'!N16) | AC29: P5= | AD29: =IF('TABLA DE SUMINISTROS'!O16="","",'TABLA DE SUMINISTROS'!O16) | AG29: P6= | AH29: =IF('TABLA DE SUMINISTROS'!P16="","",'TABLA DE SUMINISTROS'!P16)
A30: Fecha de inicio solicitada*: | H30: =IF('TABLA DE SUMINISTROS'!Q16="","",'TABLA DE SUMINISTROS'!Q16)
A31: Contratar suministro eléctrico a: | I31: □ | K31: Precio Fijo | P31: □ | Q31: Precio Indexado
A33: Denominación social: | G33: =UPPER(CONCATENATE('TABLA DE SUMINISTROS'!R17,"")) | Z33: NIF: | AD33: =UPPER(CONCATENATE('TABLA DE SUMINISTROS'!S17,))
A34: Dirección: | D34: =UPPER(CONCATENATE('TABLA DE SUMINISTROS'!B17," ",'TABLA DE SUMINISTROS'!C17)) | Z34: Escalera / Piso / Puerta: | AF34: =UPPER('TABLA DE SUMINISTROS'!D17)
A35: Localidad: | D35: =UPPER('TABLA DE SUMINISTROS'!F17) | O35: Provincia: | R35: =UPPER('TABLA DE SUMINISTROS'!G17) | AB35: Código Postal: | AF35: =MID('TABLA DE SUMINISTROS'!E17,1,1) | AG35: =MID('TABLA DE SUMINISTROS'!E17,2,1) | AH35: =MID('TABLA DE SUMINISTROS'!E17,3,1) | AI35: =MID('TABLA DE SUMINISTROS'!E17,4,1) | AJ35: =MID('TABLA DE SUMINISTROS'!E17,5,1)
A36: Referencia catastral: | F36: =MID('TABLA DE SUMINISTROS'!I11,1,1) | G36: =MID('TABLA DE SUMINISTROS'!I11,2,1) | H36: =MID('TABLA DE SUMINISTROS'!I11,3,1) | I36: =MID('TABLA DE SUMINISTROS'!I11,4,1) | J36: =MID('TABLA DE SUMINISTROS'!I11,5,1) | K36: =MID('TABLA DE SUMINISTROS'!I11,6,1) | L36: =MID('TABLA DE SUMINISTROS'!I11,7,1) | M36: =MID('TABLA DE SUMINISTROS'!I11,8,1) | N36: =MID('TABLA DE SUMINISTROS'!I11,9,1) | O36: =MID('TABLA DE SUMINISTROS'!I11,10,1) | P36: =MID('TABLA DE SUMINISTROS'!I11,11,1) | Q36: =MID('TABLA DE SUMINISTROS'!I11,12,1) | R36: =MID('TABLA DE SUMINISTROS'!I11,13,1) | S36: =MID('TABLA DE SUMINISTROS'!I11,14,1) | T36: =MID('TABLA DE SUMINISTROS'!I11,15,1) | U36: =MID('TABLA DE SUMINISTROS'!I11,16,1) | V36: =MID('TABLA DE SUMINISTROS'!I11,17,1) | W36: =MID('TABLA DE SUMINISTROS'!I11,18,1) | X36: =MID('TABLA DE SUMINISTROS'!I11,19,1) | Y36: =MID('TABLA DE SUMINISTROS'!I11,20,1) | Z36: Código actividad CNAE: | AF36: =MID('TABLA DE SUMINISTROS'!H11,1,1) | AG36: =MID('TABLA DE SUMINISTROS'!H11,2,1) | AH36: =MID('TABLA DE SUMINISTROS'!H11,3,1) | AI36: =MID('TABLA DE SUMINISTROS'!H11,4,1) | AJ36: =MID('TABLA DE SUMINISTROS'!H11,5,1)
A37: Código Universal de punto de Suministro de Electricidad CUPS: | O37: =MID('TABLA DE SUMINISTROS'!A17,1,1) | P37: =MID('TABLA DE SUMINISTROS'!A17,2,1) | Q37: =MID('TABLA DE SUMINISTROS'!A17,3,1) | R37: =MID('TABLA DE SUMINISTROS'!A17,4,1) | S37: =MID('TABLA DE SUMINISTROS'!A17,5,1) | T37: =MID('TABLA DE SUMINISTROS'!A17,6,1) | U37: =MID('TABLA DE SUMINISTROS'!A17,7,1) | V37: =MID('TABLA DE SUMINISTROS'!A17,8,1) | W37: =MID('TABLA DE SUMINISTROS'!A17,9,1) | X37: =MID('TABLA DE SUMINISTROS'!A17,10,1) | Y37: =MID('TABLA DE SUMINISTROS'!A17,11,1) | Z37: =MID('TABLA DE SUMINISTROS'!A17,12,1) | AA37: =MID('TABLA DE SUMINISTROS'!A17,13,1) | AB37: =MID('TABLA DE SUMINISTROS'!A17,14,1) | AC37: =MID('TABLA DE SUMINISTROS'!A17,15,1) | AD37: =MID('TABLA DE SUMINISTROS'!A17,16,1) | AE37: =MID('TABLA DE SUMINISTROS'!A17,17,1) | AF37: =MID('TABLA DE SUMINISTROS'!A17,18,1) | AG37: =MID('TABLA DE SUMINISTROS'!A17,19,1) | AH37: =MID('TABLA DE SUMINISTROS'!A17,20,1) | AI37: =MID('TABLA DE SUMINISTROS'!A17,21,1) | AJ37: =MID('TABLA DE SUMINISTROS'!A17,22,1)
A38: Tarifa acceso: | D38: =IF('TABLA DE SUMINISTROS'!J17="","",'TABLA DE SUMINISTROS'!J17) | G38: Potencia Contratada (kW): | M38: P1= | N38: =IF('TABLA DE SUMINISTROS'!K17="","",'TABLA DE SUMINISTROS'!K17) | Q38: P2= | R38: =IF('TABLA DE SUMINISTROS'!L17="","",'TABLA DE SUMINISTROS'!L17) | U38: P3= | V38: =IF('TABLA DE SUMINISTROS'!M17="","",'TABLA DE SUMINISTROS'!M17) | Y38: P4= | Z38: =IF('TABLA DE SUMINISTROS'!N17="","",'TABLA DE SUMINISTROS'!N17) | AC38: P5= | AD38: =IF('TABLA DE SUMINISTROS'!O17="","",'TABLA DE SUMINISTROS'!O17) | AG38: P6= | AH38: =IF('TABLA DE SUMINISTROS'!P17="","",'TABLA DE SUMINISTROS'!P17)
A39: Fecha de inicio solicitada*: | H39: =IF('TABLA DE SUMINISTROS'!Q17="","",'TABLA DE SUMINISTROS'!Q17)
A40: Contratar suministro eléctrico a: | I40: □ | K40: Precio Fijo | P40: □ | Q40: Precio Indexado
A42: Denominación social: | G42: =UPPER(CONCATENATE('TABLA DE SUMINISTROS'!R18,"")) | Z42: NIF: | AD42: =UPPER(CONCATENATE('TABLA DE SUMINISTROS'!S18,))
A43: Dirección: | D43: =UPPER(CONCATENATE('TABLA DE SUMINISTROS'!B18," ",'TABLA DE SUMINISTROS'!C18)) | Z43: Escalera / Piso / Puerta: | AF43: =UPPER('TABLA DE SUMINISTROS'!D18)
A44: Localidad: | D44: =UPPER('TABLA DE SUMINISTROS'!F18) | O44: Provincia: | R44: =UPPER('TABLA DE SUMINISTROS'!G18) | AB44: Código Postal: | AF44: =MID('TABLA DE SUMINISTROS'!E18,1,1) | AG44: =MID('TABLA DE SUMINISTROS'!E18,2,1) | AH44: =MID('TABLA DE SUMINISTROS'!E18,3,1) | AI44: =MID('TABLA DE SUMINISTROS'!E18,4,1) | AJ44: =MID('TABLA DE SUMINISTROS'!E18,5,1)
A45: Referencia catastral: | F45: =MID('TABLA DE SUMINISTROS'!I6,1,1) | G45: =MID('TABLA DE SUMINISTROS'!I6,2,1) | H45: =MID('TABLA DE SUMINISTROS'!I6,3,1) | I45: =MID('TABLA DE SUMINISTROS'!I6,4,1) | J45: =MID('TABLA DE SUMINISTROS'!I6,5,1) | K45: =MID('TABLA DE SUMINISTROS'!I6,6,1) | L45: =MID('TABLA DE SUMINISTROS'!I6,7,1) | M45: =MID('TABLA DE SUMINISTROS'!I6,8,1) | N45: =MID('TABLA DE SUMINISTROS'!I6,9,1) | O45: =MID('TABLA DE SUMINISTROS'!I6,10,1) | P45: =MID('TABLA DE SUMINISTROS'!I6,11,1) | Q45: =MID('TABLA DE SUMINISTROS'!I6,12,1) | R45: =MID('TABLA DE SUMINISTROS'!I6,13,1) | S45: =MID('TABLA DE SUMINISTROS'!I6,14,1) | T45: =MID('TABLA DE SUMINISTROS'!I6,15,1) | U45: =MID('TABLA DE SUMINISTROS'!I6,16,1) | V45: =MID('TABLA DE SUMINISTROS'!I6,17,1) | W45: =MID('TABLA DE SUMINISTROS'!I6,18,1) | X45: =MID('TABLA DE SUMINISTROS'!I6,19,1) | Y45: =MID('TABLA DE SUMINISTROS'!I6,20,1) | Z45: Código actividad CNAE: | AF45: =MID('TABLA DE SUMINISTROS'!H12,1,1) | AG45: =MID('TABLA DE SUMINISTROS'!H12,2,1) | AH45: =MID('TABLA DE SUMINISTROS'!H12,3,1) | AI45: =MID('TABLA DE SUMINISTROS'!H12,4,1) | AJ45: =MID('TABLA DE SUMINISTROS'!H12,5,1)
A46: Código Universal de punto de Suministro de Electricidad CUPS: | O46: =MID('TABLA DE SUMINISTROS'!A18,1,1) | P46: =MID('TABLA DE SUMINISTROS'!A18,2,1) | Q46: =MID('TABLA DE SUMINISTROS'!A18,3,1) | R46: =MID('TABLA DE SUMINISTROS'!A18,4,1) | S46: =MID('TABLA DE SUMINISTROS'!A18,5,1) | T46: =MID('TABLA DE SUMINISTROS'!A18,6,1) | U46: =MID('TABLA DE SUMINISTROS'!A18,7,1) | V46: =MID('TABLA DE SUMINISTROS'!A18,8,1) | W46: =MID('TABLA DE SUMINISTROS'!A18,9,1) | X46: =MID('TABLA DE SUMINISTROS'!A18,10,1) | Y46: =MID('TABLA DE SUMINISTROS'!A18,11,1) | Z46: =MID('TABLA DE SUMINISTROS'!A18,12,1) | AA46: =MID('TABLA DE SUMINISTROS'!A18,13,1) | AB46: =MID('TABLA DE SUMINISTROS'!A18,14,1) | AC46: =MID('TABLA DE SUMINISTROS'!A18,15,1) | AD46: =MID('TABLA DE SUMINISTROS'!A18,16,1) | AE46: =MID('TABLA DE SUMINISTROS'!A18,17,1) | AF46: =MID('TABLA DE SUMINISTROS'!A18,18,1) | AG46: =MID('TABLA DE SUMINISTROS'!A18,19,1) | AH46: =MID('TABLA DE SUMINISTROS'!A18,20,1) | AI46: =MID('TABLA DE SUMINISTROS'!A18,21,1) | AJ46: =MID('TABLA DE SUMINISTROS'!A18,22,1)
A47: Tarifa acceso: | D47: =IF('TABLA DE SUMINISTROS'!J18="","",'TABLA DE SUMINISTROS'!J18) | G47: Potencia Contratada (kW): | M47: P1= | N47: =IF('TABLA DE SUMINISTROS'!K18="","",'TABLA DE SUMINISTROS'!K18) | Q47: P2= | R47: =IF('TABLA DE SUMINISTROS'!L18="","",'TABLA DE SUMINISTROS'!L18) | U47: P3= | V47: =IF('TABLA DE SUMINISTROS'!M18="","",'TABLA DE SUMINISTROS'!M18) | Y47: P4= | Z47: =IF('TABLA DE SUMINISTROS'!N18="","",'TABLA DE SUMINISTROS'!N18) | AC47: P5= | AD47: =IF('TABLA DE SUMINISTROS'!O18="","",'TABLA DE SUMINISTROS'!O18) | AG47: P6= | AH47: =IF('TABLA DE SUMINISTROS'!P18="","",'TABLA DE SUMINISTROS'!P18)
...

Sheet ANEXO SUMINISTROS 20 al 25
A4: Anexo de Puntos de Suministro Eléctrico
A5: CONTRATO DUAL DE SUMINISTRO Y SERVICIOS ADICIONALES
A6: Denominación social: | G6: =UPPER(CONCATENATE('TABLA DE SUMINISTROS'!R20,"")) | Z6: NIF: | AD6: =UPPER(CONCATENATE('TABLA DE SUMINISTROS'!S20,))
A7: Dirección: | D7: =UPPER(CONCATENATE('TABLA DE SUMINISTROS'!B20," ",'TABLA DE SUMINISTROS'!C20)) | Z7: Escalera / Piso / Puerta: | AF7: =UPPER('TABLA DE SUMINISTROS'!D20)
A8: Localidad: | D8: =UPPER('TABLA DE SUMINISTROS'!F20) | O8: Provincia: | R8: =UPPER('TABLA DE SUMINISTROS'!G20) | AB8: Código Postal: | AF8: =MID('TABLA DE SUMINISTROS'!E20,1,1) | AG8: =MID('TABLA DE SUMINISTROS'!E20,2,1) | AH8: =MID('TABLA DE SUMINISTROS'!E20,3,1) | AI8: =MID('TABLA DE SUMINISTROS'!E20,4,1) | AJ8: =MID('TABLA DE SUMINISTROS'!E20,5,1)
A9: Referencia catastral: | F9: =MID('TABLA DE SUMINISTROS'!I14,1,1) | G9: =MID('TABLA DE SUMINISTROS'!I14,2,1) | H9: =MID('TABLA DE SUMINISTROS'!I14,3,1) | I9: =MID('TABLA DE SUMINISTROS'!I8,4,1) | J9: =MID('TABLA DE SUMINISTROS'!I8,5,1) | K9: =MID('TABLA DE SUMINISTROS'!I8,6,1) | L9: =MID('TABLA DE SUMINISTROS'!I8,7,1) | M9: =MID('TABLA DE SUMINISTROS'!I8,8,1) | N9: =MID('TABLA DE SUMINISTROS'!I8,9,1) | O9: =MID('TABLA DE SUMINISTROS'!I8,10,1) | P9: =MID('TABLA DE SUMINISTROS'!I8,11,1) | Q9: =MID('TABLA DE SUMINISTROS'!I8,12,1) | R9: =MID('TABLA DE SUMINISTROS'!I8,13,1) | S9: =MID('TABLA DE SUMINISTROS'!I8,14,1) | T9: =MID('TABLA DE SUMINISTROS'!I8,15,1) | U9: =MID('TABLA DE SUMINISTROS'!I8,16,1) | V9: =MID('TABLA DE SUMINISTROS'!I8,17,1) | W9: =MID('TABLA DE SUMINISTROS'!I8,18,1) | X9: =MID('TABLA DE SUMINISTROS'!I8,19,1) | Y9: =MID('TABLA DE SUMINISTROS'!I8,20,1) | Z9: Código actividad CNAE: | AF9: =MID('TABLA DE SUMINISTROS'!H14,1,1) | AG9: =MID('TABLA DE SUMINISTROS'!H8,2,1) | AH9: =MID('TABLA DE SUMINISTROS'!H8,3,1) | AI9: =MID('TABLA DE SUMINISTROS'!H8,4,1) | AJ9: =MID('TABLA DE SUMINISTROS'!H8,5,1)
A10: Código Universal de punto de Suministro de Electricidad CUPS: | O10: =MID('TABLA DE SUMINISTROS'!A20,1,1) | P10: =MID('TABLA DE SUMINISTROS'!A20,2,1) | Q10: =MID('TABLA DE SUMINISTROS'!A20,3,1) | R10: =MID('TABLA DE SUMINISTROS'!A20,4,1) | S10: =MID('TABLA DE SUMINISTROS'!A20,5,1) | T10: =MID('TABLA DE SUMINISTROS'!A20,6,1) | U10: =MID('TABLA DE SUMINISTROS'!A20,7,1) | V10: =MID('TABLA DE SUMINISTROS'!A20,8,1) | W10: =MID('TABLA DE SUMINISTROS'!A20,9,1) | X10: =MID('TABLA DE SUMINISTROS'!A20,10,1) | Y10: =MID('TABLA DE SUMINISTROS'!A20,11,1) | Z10: =MID('TABLA DE SUMINISTROS'!A20,12,1) | AA10: =MID('TABLA DE SUMINISTROS'!A20,13,1) | AB10: =MID('TABLA DE SUMINISTROS'!A20,14,1) | AC10: =MID('TABLA DE SUMINISTROS'!A20,15,1) | AD10: =MID('TABLA DE SUMINISTROS'!A20,16,1) | AE10: =MID('TABLA DE SUMINISTROS'!A20,17,1) | AF10: =MID('TABLA DE SUMINISTROS'!A20,18,1) | AG10: =MID('TABLA DE SUMINISTROS'!A20,19,1) | AH10: =MID('TABLA DE SUMINISTROS'!A20,20,1) | AI10: =MID('TABLA DE SUMINISTROS'!A20,21,1) | AJ10: =MID('TABLA DE SUMINISTROS'!A20,22,1)
A11: Tarifa acceso: | D11: =IF('TABLA DE SUMINISTROS'!J20="","",'TABLA DE SUMINISTROS'!J20) | G11: Potencia Contratada (kW): | M11: P1= | N11: =IF('TABLA DE SUMINISTROS'!K20="","",'TABLA DE SUMINISTROS'!K20) | Q11: P2= | R11: =IF('TABLA DE SUMINISTROS'!L20="","",'TABLA DE SUMINISTROS'!L20) | U11: P3= | V11: =IF('TABLA DE SUMINISTROS'!M20="","",'TABLA DE SUMINISTROS'!M20) | Y11: P4= | Z11: =IF('TABLA DE SUMINISTROS'!N20="","",'TABLA DE SUMINISTROS'!N20) | AC11: P5= | AD11: =IF('TABLA DE SUMINISTROS'!O20="","",'TABLA DE SUMINISTROS'!O20) | AG11: P6= | AH11: =IF('TABLA DE SUMINISTROS'!P20="","",'TABLA DE SUMINISTROS'!P20)
A12: Fecha de inicio solicitada*: | H12: =IF('TABLA DE SUMINISTROS'!Q20="","",'TABLA DE SUMINISTROS'!Q20)
A13: Contratar suministro eléctrico a: | I13: □ | K13: Precio Fijo | P13: □ | Q13: Precio Indexado
A15: Denominación social: | G15: =UPPER(CONCATENATE('TABLA DE SUMINISTROS'!R21,"")) | Z15: NIF: | AD15: =UPPER(CONCATENATE('TABLA DE SUMINISTROS'!S21,))
A16: Dirección: | D16: =UPPER(CONCATENATE('TABLA DE SUMINISTROS'!B21," ",'TABLA DE SUMINISTROS'!C21)) | Z16: Escalera / Piso / Puerta: | AF16: =UPPER('TABLA DE SUMINISTROS'!D21)
